Workbook

Sheet 목차
B2: [목 차] | D2: [자료 추출 기준]
B4: 1. 2025년 용도별 건축물 현황 | D4: [1] 자료기준일 : 2025.12.31.
B5: 2. 2025년 주거용 건축물 현황 | D5: [2] 추출 대상 대장 : 건축물대장
B6: 3. 2025년 상업용 건축물 현황 | D6: [3] 추출 기준
B7: 4. 2025년 고층 건축물 현황 | D7: 1. 주/부 구분 : 주건축물 (부속건축물 제외)
B8: 5. 2025년 경과년수별 건축물 현황 | D8: 2. 사용승인일 : ~ 2025.12.31.
B9: 6. 2025년 말소 건축물 용도별 현황 | D9: 2.1 (말소건축물) 말소일 : 2025.1.1. ~ 2025.12.31.
B10: 7. 2025년 층수, 면적, 소유주체별 현황 | D10: 3. 용도 : 층별 용도
B11: 8. 2025년 1인당 건축물 현황 | D11: 4. 동수: 대표 층용도 방식으로 집계
B12: 9. 2025년 국토면적 대비 건축물 현황 | D12: 4.1 건물내 층별 용도의 유형별 연면적 합 추출
D13: 4.2 가장 넓은 면적의 층용도를 동의 대표 층용도로 추출
D14: 4.3 동의 대표 층용도 기준으로 동수 집계
D15: 5. 연면적 : (용도별) 층 면적의 합

Sheet 1. 용도별
A1: =목차!B4 -> 1. 2025년 용도별 건축물 현황
A2: [기준] 기타 : 공동주택의 부대/복리시설, 공공업무시설, 창고시설, 동식물관련시설, 교정시설, 국방·군사시설, 방송통신시설, 발전시설, 가설건축물, 자원순환관련 시설 등, 용도값 오기 및 누락자료
N3: (단위 : 동, ㎡)
B4: 시도 | C4: 합계 | E4: 주거용 | G4: 상업용 | I4: 공업용 | K4: 교육 및 사회용 | M4: 기타
C5: 동수 | D5: 연면적 | E5: 동수 | F5: 연면적 | G5: 동수 | H5: 연면적 | I5: 동수 | J5: 연면적 | K5: 동수 | L5: 연면적 | M5: 동수 | N5: 연면적
B6: 전국 | C6: 7438642 | D6: 4.3750305e+09 | E6: 4562665 | F6: 2.0154921e+09 | G6: 1427853 | H6: 9.6460953e+08 | I6: 352662 | J6: 4.8572589e+08 | K6: 205967 | L6: 3.8207544e+08 | M6: 889495 | N6: 5.2712754e+08
B7: 서울특별시 | C7: 574058 | D7: 6.0050661e+08 | E7: 422239 | F7: 3.1195634e+08 | G7: 128540 | H7: 1.9019975e+08 | I7: 2232 | J7: 15288234 | K7: 16463 | L7: 61408555 | M7: 4584 | N7: 21653735
B8: 부산광역시 | C8: 345978 | D8: 2.5729355e+08 | E8: 233291 | F8: 1.2902802e+08 | G8: 74424 | H8: 62782171 | I8: 15841 | J8: 20406145 | K8: 9325 | L8: 21906842 | M8: 13097 | N8: 23170372
B9: 대구광역시 | C9: 256032 | D9: 1.9076501e+08 | E9: 167749 | F9: 1.0072545e+08 | G9: 54824 | H9: 48320383 | I9: 13541 | J9: 16614756 | K9: 6748 | L9: 16564592 | M9: 13170 | N9: 8539827.9
B10: 인천광역시 | C10: 220159 | D10: 2.401257e+08 | E10: 135795 | F10: 1.1220226e+08 | G10: 48675 | H10: 58927532 | I10: 14698 | J10: 25653875 | K10: 6698 | L10: 18676858 | M10: 14293 | N10: 24665178
B11: 광주광역시 | C11: 135977 | D11: 1.1313951e+08 | E11: 88389 | F11: 61915153 | G11: 33929 | H11: 24892702 | I11: 4516 | J11: 8973996.4 | K11: 4085 | L11: 13008225 | M11: 5058 | N11: 4349428.6
B12: 대전광역시 | C12: 130126 | D12: 1.1943018e+08 | E12: 89021 | F12: 58972741 | G12: 27416 | H12: 25868178 | I12: 3131 | J12: 5842594.9 | K12: 5101 | L12: 15533512 | M12: 5457 | N12: 13213153
B13: 울산광역시 | C13: 137220 | D13: 97326388 | E13: 75429 | F13: 45286109 | G13: 31613 | H13: 18801961 | I13: 15475 | J13: 19473019 | K13: 4070 | L13: 7576957.9 | M13: 10633 | N13: 6188340.8
B14: 세종특별자치시 | C14: 36190 | D14: 33362900 | E14: 19523 | F14: 16636636 | G14: 7159 | H14: 6120508.3 | I14: 2116 | J14: 3192451.1 | K14: 1053 | L14: 3497655.9 | M14: 6339 | N14: 3915647.8
B15: 경기도 | C15: 1283371 | D15: 1.156679e+09 | E15: 659037 | F15: 5.1962295e+08 | G15: 308277 | H15: 2.4095218e+08 | I15: 117311 | J15: 1.4481191e+08 | K15: 37732 | L15: 88047814 | M15: 161014 | N15: 1.6324414e+08
B16: 강원특별자치도 | C16: 446084 | D16: 1.5211616e+08 | E16: 279973 | F16: 67494850 | G16: 82344 | H16: 34968187 | I16: 7667 | J16: 7723557.8 | K16: 14340 | L16: 17456015 | M16: 61760 | N16: 24473549
B17: 충청북도 | C17: 411404 | D17: 1.692326e+08 | E17: 248318 | F17: 71825040 | G17: 68905 | H17: 28678080 | I17: 22756 | J17: 31053451 | K17: 11341 | L17: 14556834 | M17: 60084 | N17: 23119196
... B23: 제주특별자치도 | C23: 193269 | D23: 61183279 | E23: 116929 | F23: 26302676 | G23: 34136 | H23: 20490927 | I23: 1035 | J23: 890047.21 | K23: 4364 | L23: 5665029.2 | M23: 36805 | N23: 7834599.2

Sheet 2. 주거용
A1: =목차!B5 -> 2. 2025년 주거용 건축물 현황
A2: [기준] 기타 : 주거용 중 상세분류 미등록 자료
V3: (단위 : 동, ㎡)
B4: 시도 | C4: 합계 | E4: 단독주택 | G4: 다중주택 | I4: 다가구주택 | K4: 공관 | M4: 아파트 | O4: 연립주택 | Q4: 다세대 | S4: 기숙사 | U4: 기타
C5: 동수 | D5: 연면적 | E5: 동수 | F5: 연면적 | G5: 동수 | H5: 연면적 | I5: 동수 | J5: 연면적 | K5: 동수 | L5: 연면적 | M5: 동수 | N5: 연면적 | O5: 동수 | P5: 연면적 | Q5: 동수 | R5: 연면적 | S5: 동수 | T5: 연면적 | U5: 동수 | V5: 연면적
B6: 전국 | C6: 4562665 | D6: 2.0154921e+09 | E6: 3480367 | F6: 3.3275626e+08 | G6: 20530 | H6: 5961515.3 | I6: 586491 | J6: 1.7187971e+08 | K6: 1494 | L6: 353435.46 | M6: 171185 | N6: 1.3167062e+09 | O6: 36686 | P6: 45566779 | Q6: 257410 | R6: 1.3365151e+08 | S6: 3974 | T6: 7782961.1 | U6: 4528 | V6: 833763.64
B7: 서울특별시 | C7: 422239 | D7: 3.1195634e+08 | E7: 175227 | F7: 25733581 | G7: 9823 | H7: 2884391.3 | I7: 108934 | J7: 28026046 | K7: 44 | L7: 42812.06 | M7: 25972 | N7: 1.9813363e+08 | O7: 8577 | P7: 10002679 | Q7: 93382 | R7: 46428896 | S7: 272 | T7: 700452.21 | U7: 8 | V7: 3850.72
B8: 부산광역시 | C8: 233291 | D8: 1.2902802e+08 | E8: 167165 | F8: 14676771 | G8: 404 | H8: 110704.48 | I8: 33232 | J8: 6053662.6 | K8: 39 | L8: 6714.19 | M8: 11775 | N8: 97081856 | O8: 2195 | P8: 2031992.3 | Q8: 18386 | R8: 8874025.9 | S8: 64 | T8: 155919 | U8: 31 | V8: 36378.713
B9: 대구광역시 | C9: 167749 | D9: 1.0072545e+08 | E9: 101659 | F9: 11134709 | G9: 653 | H9: 178870.3 | I9: 48520 | J9: 12568249 | K9: 15 | L9: 5579.21 | M9: 8497 | N9: 72049473 | O9: 482 | P9: 646763.19 | Q9: 7171 | R9: 3729971.9 | S9: 84 | T9: 284157.91 | U9: 668 | V9: 127679.04
B10: 인천광역시 | C10: 135795 | D10: 1.1220226e+08 | E10: 75980 | F10: 8427991.7 | G10: 778 | H10: 234518.04 | I10: 21573 | J10: 6132234.2 | K10: 131 | L10: 24494.44 | M10: 9995 | N10: 82436544 | O10: 1885 | P10: 2424496.4 | Q10: 24994 | R10: 12267618 | S10: 61 | T10: 179008.66 | U10: 398 | V10: 75349.385
B11: 광주광역시 | C11: 88389 | D11: 61915153 | E11: 65145 | F11: 7445270.1 | G11: 139 | H11: 37561.38 | I11: 15578 | J11: 5134846.8 | K11: 0 | L11: 278.43 | M11: 5819 | N11: 47627701 | O11: 831 | P11: 1102389.4 | Q11: 820 | R11: 414722.2 | S11: 38 | T11: 140989.7 | U11: 19 | V11: 11393.989
B12: 대전광역시 | C12: 89021 | D12: 58972741 | E12: 46075 | F12: 5013060.5 | G12: 3060 | H12: 917466.14 | I12: 30178 | J12: 8897941.2 | K12: 8 | L12: 7087.57 | M12: 4658 | N12: 40964719 | O12: 771 | P12: 903026.73 | Q12: 4197 | R12: 2079877.1 | S12: 73 | T12: 187071.02 | U12: 1 | V12: 2492.11
B13: 울산광역시 | C13: 75429 | D13: 45286109 | E13: 51350 | F13: 6344050.6 | G13: 196 | H13: 55932.848 | I13: 16159 | J13: 5107225.3 | K13: 42 | L13: 7779.19 | M13: 4299 | N13: 31284242 | O13: 551 | P13: 600122.07 | Q13: 2655 | R13: 1526986.5 | S13: 126 | T13: 353741.98 | U13: 51 | V13: 6028.425
B14: 세종특별자치시 | C14: 19523 | D14: 16636636 | E14: 15778 | F14: 1595028 | G14: 152 | H14: 46864.89 | I14: 1271 | J14: 559025.56 | K14: 9 | L14: 1126.84 | M14: 2035 | N14: 14207812 | O14: 71 | P14: 90164.056 | Q14: 187 | R14: 89346.868 | S14: 20 | T14: 47267.805 | U14: 0
B15: 경기도 | C15: 659037 | D15: 5.1962295e+08 | E15: 392226 | F15: 48110574 | G15: 1435 | H15: 426471.62 | I15: 133177 | J15: 40418026 | K15: 157 | L15: 62807.769 | M15: 44946 | N15: 3.7353761e+08 | O15: 8333 | P15: 12082690 | Q15: 77644 | R15: 43145804 | S15: 992 | T15: 1678382.9 | U15: 127 | V15: 160589.77
B16: 강원특별자치도 | C16: 279973 | D16: 67494850 | E16: 244821 | F16: 21411618 | G16: 299 | H16: 80549.818 | I16: 25442 | J16: 6989293.5 | K16: 216 | L16: 35835.726 | M16: 5485 | N16: 35952796 | O16: 1615 | P16: 1654886.3 | Q16: 1748 | R16: 889695.63 | S16: 248 | T16: 452921.11 | U16: 99 | V16: 27253.213
B17: 충청북도 | C17: 248318 | D17: 71825040 | E17: 215361 | F17: 20248693 | G17: 768 | H17: 231112.45 | I17: 22234 | J17: 7970381.8 | K17: 36 | L17: 8190.9948 | M17: 5513 | N17: 40149038 | O17: 1102 | P17: 1192793.4 | Q17: 2556 | R17: 1564115.6 | S17: 178 | T17: 428082.51 | U17: 570 | V17: 32632.557
B18: 충청남도 | C18: 339871 | D18: 93037778 | E18: 305148 | F18: 26860489 | G18: 474 | H18: 117115.91 | I18: 19907 | J18: 7833881.6 | K18: 110 | L18: 19411.805 | M18: 7340 | N18: 52886301 | O18: 1427 | P18: 1798739.8 | Q18: 4889 | R18: 2577027.9 | S18: 537 | T18: 903900.5 | U18: 39 | V18: 40910.799
B19: 전북특별자치도 | C19: 271075 | D19: 73583119 | E19: 246233 | F19: 21803290 | G19: 356 | H19: 104620.04 | I19: 15289 | J19: 6133418.6 | K19: 87 | L19: 16282.615 | M19: 5806 | N19: 42800977 | O19: 1436 | P19: 1517788.1 | Q19: 1678 | R19: 837368.88 | S19: 131 | T19: 244465.36 | U19: 59 | V19: 124908.64
B20: 전라남도 | C20: 429494 | D20: 76875000 | E20: 409711 | F20: 32116897 | G20: 915 | H20: 254975.98 | I20: 9860 | J20: 3014111.4 | K20: 315 | L20: 53827.435 | M20: 5661 | N20: 38504584 | O20: 1319 | P20: 1668720.2 | Q20: 1413 | R20: 752975.24 | S20: 290 | T20: 503836.28 | U20: 10 | V20: 5072.855
B21: 경상북도 | C21: 508804 | D21: 1.1194626e+08 | E21: 456201 | F21: 36530675 | G21: 551 | H21: 144063.82 | I21: 32682 | J21: 11523877 | K21: 106 | L21: 24057.195 | M21: 8902 | N21: 57396508 | O21: 1955 | P21: 2349840.7 | Q21: 5963 | R21: 3135610 | S21: 403 | T21: 712590.91 | U21: 2041 | V21: 129040.98
B22: 경상남도 | C22: 477728 | D22: 1.3808171e+08 | E22: 416221 | F22: 36101679 | G22: 446 | H22: 117647.79 | I22: 41459 | J22: 12385878 | K22: 166 | L22: 31073.542 | M22: 12305 | N22: 84041226 | O22: 1750 | P22: 2120258.5 | Q22: 4636 | R22: 2599765.3 | S22: 351 | T22: 637986.48 | U22: 394 | V22: 46194.003
B23: 제주특별자치도 | C23: 116929 | D23: 26302676 | E23: 96066 | F23: 9201886.3 | G23: 81 | H23: 18648.5 | I23: 10996 | J23: 3131608.9 | K23: 13 | L23: 6076.45 | M23: 2177 | N23: 7651145.4 | O23: 2386 | P23: 3379429.5 | Q23: 5091 | R23: 2737705.7 | S23: 106 | T23: 172186.75 | U23: 13 | V23: 3988.432

Sheet 3. 상업용
A1: =목차!B6 -> 3. 2025년 상업용 건축물 현황
A2: [기준] 기타 : 상업용 중 상세분류 미등록 자료
X3: (단위 : 동, ㎡)
B4: 시도 | C4: 합계 | E4: 제1종근린생활시설 | G4: 제2종근린생활시설 | I4: 판매시설 | K4: 업무시설 | M4: 위락시설 | O4: 숙박시설 | Q4: 운수시설 | S4: 위험물저장 및 처리시설 | U4: 자동차관련시설 | W4: 기타
C5: 동수 | D5: 연면적 | E5: 동수 | F5: 연면적 | G5: 동수 | H5: 연면적 | I5: 동수 | J5: 연면적 | K5: 동수 | L5: 연면적 | M5: 동수 | N5: 연면적 | O5: 동수 | P5: 연면적 | Q5: 동수 | R5: 연면적 | S5: 동수 | T5: 연면적 | U5: 동수 | V5: 연면적 | W5: 동수 | X5: 연면적
B6: 전국 | C6: 1427853 | D6: 9.6460953e+08 | E6: 567624 | F6: 2.4920454e+08 | G6: 673775 | H6: 3.0562125e+08 | I6: 11750 | J6: 66157048 | K6: 32807 | L6: 1.9732426e+08 | M6: 6007 | N6: 6817081 | O6: 46994 | P6: 57094188 | Q6: 4010 | R6: 12461405 | S6: 32562 | T6: 7064936.9 | U6: 34315 | V6: 48256819 | W6: 18009 | X6: 14608005
B7: 서울특별시 | C7: 128540 | D7: 1.9019975e+08 | E7: 52932 | F7: 39204130 | G7: 57719 | H7: 45579773 | I7: 1181 | J7: 17485301 | K7: 10099 | L7: 67975247 | M7: 205 | N7: 511522.98 | O7: 1984 | P7: 6293337.7 | Q7: 265 | R7: 1534237 | S7: 615 | T7: 236983.57 | U7: 1706 | V7: 8214518.1 | W7: 1834 | X7: 3164700.3
B8: 부산광역시 | C8: 74424 | D8: 62782171 | E8: 27616 | F8: 14295077 | G8: 35390 | H8: 17505608 | I8: 930 | J8: 5124441.6 | K8: 3400 | L8: 14187909 | M8: 343 | N8: 625746.52 | O8: 2404 | P8: 4735850.1 | Q8: 431 | R8: 1828574.2 | S8: 1181 | T8: 220837.31 | U8: 1774 | V8: 3414457.4 | W8: 955 | X8: 843670.5
B9: 대구광역시 | C9: 54824 | D9: 48320383 | E9: 22692 | F9: 12899771 | G9: 25729 | H9: 17858267 | I9: 1082 | J9: 3055084.6 | K9: 1020 | L9: 9331054.1 | M9: 222 | N9: 309802.66 | O9: 955 | P9: 1290963.9 | Q9: 157 | R9: 318241.77 | S9: 870 | T9: 164521.53 | U9: 1370 | V9: 2196969.7 | W9: 727 | X9: 895707.1
B10: 인천광역시 | C10: 48675 | D10: 58927532 | E10: 17654 | F10: 12189001 | G10: 22176 | H10: 14754573 | I10: 514 | J10: 4208649.4 | K10: 2057 | L10: 15815747 | M10: 159 | N10: 271070.49 | O10: 2096 | P10: 2750020.5 | Q10: 667 | R10: 4885885.3 | S10: 1223 | T10: 380568.17 | U10: 1425 | V10: 2963649.6 | W10: 704 | X10: 708368.69
B11: 광주광역시 | C11: 33929 | D11: 24892702 | E11: 14192 | F11: 6842509.1 | G11: 15635 | H11: 8276751.9 | I11: 346 | J11: 1535765 | K11: 603 | L11: 3560679.8 | M11: 128 | N11: 212052.91 | O11: 878 | P11: 1015490.5 | Q11: 75 | R11: 221277.24 | S11: 461 | T11: 99002.51 | U11: 981 | V11: 1384470 | W11: 630 | X11: 1744703.1
B12: 대전광역시 | C12: 27416 | D12: 25868178 | E12: 10184 | F12: 6983909.3 | G12: 13335 | H12: 8843920.9 | I12: 784 | J12: 2371206.3 | K12: 573 | L12: 4387771.8 | M12: 68 | N12: 134367.44 | O12: 756 | P12: 1070812.9 | Q12: 56 | R12: 99489.71 | S12: 571 | T12: 135419.83 | U12: 846 | V12: 1534789.5 | W12: 243 | X12: 306490.03
B13: 울산광역시 | C13: 31613 | D13: 18801961 | E13: 11437 | F13: 5337831.8 | G13: 15287 | H13: 6363542.1 | I13: 229 | J13: 1288729.4 | K13: 569 | L13: 2596330.7 | M13: 276 | N13: 237005.46 | O13: 779 | P13: 932409.36 | Q13: 94 | R13: 80201.57 | S13: 1572 | T13: 666980.16 | U13: 1031 | V13: 1137768.8 | W13: 339 | X13: 161161.26
B14: 세종특별자치시 | C14: 7159 | D14: 6120508.3 | E14: 2535 | F14: 1889982.9 | G14: 3813 | H14: 2095278.2 | I14: 32 | J14: 431521.48 | K14: 108 | L14: 1171595.6 | M14: 8 | N14: 8457.11 | O14: 99 | P14: 154150.13 | Q14: 14 | R14: 8610.32 | S14: 303 | T14: 84011.037 | U14: 180 | V14: 262151.96 | W14: 67 | X14: 14749.489
B15: 경기도 | C15: 308277 | D15: 2.4095218e+08 | E15: 104146 | F15: 58557698 | G15: 167637 | H15: 80689863 | I15: 1768 | J15: 17549783 | K15: 6006 | L15: 52346658 | M15: 641 | N15: 1054318 | O15: 7349 | P15: 7940088.4 | Q15: 591 | R15: 1653466.5 | S15: 7024 | T15: 1812613.9 | U15: 8742 | V15: 15929207 | W15: 4373 | X15: 3418486.8
B16: 강원특별자치도 | C16: 82344 | D16: 34968187 | E16: 31815 | F16: 9051047.7 | G16: 36885 | H16: 11564280 | I16: 522 | J16: 1284116.3 | K16: 918 | L16: 2027414.1 | M16: 473 | N16: 485552.29 | O16: 6142 | P16: 8244723.5 | Q16: 197 | R16: 167786.33 | S16: 1828 | T16: 304327.66 | U16: 1933 | V16: 1361655.3 | W16: 1631 | X16: 477283.16
B17: 충청북도 | C17: 68905 | D17: 28678080 | E17: 28841 | F17: 9787877.6 | G17: 32143 | H17: 11211088 | I17: 340 | J17: 1238101 | K17: 794 | L17: 2040243.3 | M17: 225 | N17: 256050.29 | O17: 1960 | P17: 1978120.3 | Q17: 97 | R17: 152803.12 | S17: 1933 | T17: 337858.41 | U17: 1843 | V17: 1325634.2 | W17: 729 | X17: 350303
... B23: 제주특별자치도 | C23: 34136 | D23: 20490927 | E23: 12882 | F23: 4477292.7 | G23: 15524 | H23: 5297285.5 | I23: 89 | J23: 312499.22 | K23: 412 | L23: 4154179.9 | M23: 211 | N23: 243045.96 | O23: 3641 | P23: 5003673.2 | Q23: 93 | R23: 232133.87 | S23: 594 | T23: 93177.53 | U23: 549 | V23: 619274.59 | W23: 141 | X23: 58364.637

Sheet 8. 고층건축물 BACKUP(건축물대장)
A1: MGM_BLDRGST_PK | B1: SIGUNGU_CD | C1: BLD_NM | D1: DONG_NM | E1: GRND_FLR_CNT | F1: F_PLAT_PLC_PRT(X01.SIGUNGU_CD,X01.BJDONG_CD,X01.PLAT_GB_CD,X01.BUN,X01.JI,X01.SPLOT_NM,X01.BLOCK,X01.LOT)
A2: 11680-2345 | B2: 11680 | C2: 타워팰리스 | D2: 지동 | E2: 69 | F2: 서울특별시 강남구 도곡동 467-29번지
A3: 11470-8842 | B3: 11470 | C3: 현대하이페리온 | E3: 69 | F3: 서울특별시 양천구 목동 916번지
A4: 11680-2201 | B4: 11680 | C4: 타워팰리스 | D4: 비동 | E4: 66 | F4: 서울특별시 강남구 도곡동 467번지
A5: 11560-100190515 | B5: 11560 | C5: 한화금융센터_63 | E5: 60 | F5: 서울특별시 영등포구 여의도동 60번지
A6: 11680-2200 | B6: 11680 | C6: 타워팰리스 | D6: 씨동 | E6: 59 | F6: 서울특별시 강남구 도곡동 467번지
A7: 11680-2202 | B7: 11680 | C7: 타워팰리스 | D7: 에이동 | E7: 59 | F7: 서울특별시 강남구 도곡동 467번지
A8: 11215-20199 | B8: 11215 | C8: 더샵스타시티 | D8: A동 | E8: 58 | F8: 서울특별시 광진구 자양동 227-7번지
A9: 11680-2210 | B9: 11680 | C9: 타워팰리스 | D9: 에프동 | E9: 55 | F9: 서울특별시 강남구 도곡동 467-17번지
A10: 11680-2211 | B10: 11680 | C10: 타워팰리스 | D10: 이동 | E10: 55 | F10: 서울특별시 강남구 도곡동 467-17번지
A11: 11680-22357 | B11: 11680 | C11: 무역회관 | E11: 54 | F11: 서울특별시 강남구 삼성동 159번지
A12: 11680-2508 | B12: 11680 | C12: 아카데미스위트 | D12: 에이동 | E12: 51 | F12: 서울특별시 강남구 도곡동 467-7번지
A13: 11530-100194390 | B13: 11530 | C13: 디큐브시티 | D13: 아파트동 | E13: 51 | F13: 서울특별시 구로구 신도림동 692번지
A14: 11215-20200 | B14: 11215 | C14: 더샵스타시티 | D14: C동 | E14: 50 | F14: 서울특별시 광진구 자양동 227-7번지
A15: 11215-100185549 | B15: 11215 | C15: 더 클래식500 | D15: 노유자시설동 | E15: 50 | F15: 서울특별시 광진구 자양동 227-342번지
A16: 11470-100184978 | B16: 11470 | C16: 목동트라팰리스 웨스턴에비뉴 | E16: 49 | F16: 서울특별시 양천구 목동 962번지
A17: 11590-25074 | B17: 11590 | C17: 보라매삼성쉐르빌 | E17: 49 | F17: 서울특별시 동작구 신대방동 395-66번지
A18: 11470-100184668 | B18: 11470 | C18: 목동트라팰리스 이스턴에비뉴 | E18: 48 | F18: 서울특별시 양천구 목동 962-1번지
A19: 11710-16738 | B19: 11710 | C19: 갤러리아팰리스 | E19: 46 | F19: 서울특별시 송파구 잠실동 40번지
A20: 11680-2339 | B20: 11680 | C20: 아이파크삼성동 | D20: 사우스윙 | E20: 46 | F20: 서울특별시 강남구 삼성동 87번지
A21: 11680-2341 | B21: 11680 | C21: 아이파크삼성동 | D21: 웨스트윙 | E21: 46 | F21: 서울특별시 강남구 삼성동 87번지
A22: 26350-100204451 | B22: 26350 | C22: 해운대 두산위브더제니스 | D22: 101동 | E22: 80 | F22: 부산광역시 해운대구 우동 1407번지
A23: 26350-100205080 | B23: 26350 | C23: 해운대 두산위브더제니스 | D23: 102동 | E23: 75 | F23: 부산광역시 해운대구 우동 1407번지
A24: 26350-100202586 | B24: 26350 | C24: 해운대 l'PARK | D24: 주동2 | E24: 72 | F24: 부산광역시 해운대구 우동 1408번지
A25: 26350-100205669 | B25: 26350 | C25: 해운대 두산위브더제니스 | D25: 103동 | E25: 70 | F25: 부산광역시 해운대구 우동 1407번지
A26: 26350-100203236 | B26: 26350 | C26: 해운대 l'PARK | D26: 주동1 | E26: 66 | F26: 부산광역시 해운대구 우동 1408번지
A27: 26350-100188472 | B27: 26350 | C27: the# 센텀스타 | D27: B동 | E27: 60 | F27: 부산광역시 해운대구 재송동 1196번지
A28: 26230-100188570 | B28: 26230 | C28: 더샵 센트럴스타 | D28: A동 | E28: 58 | F28: 부산광역시 부산진구 부전동 537-9번지
A29: 26350-100188968 | B29: 26350 | C29: the# 센텀스타 | D29: C동 | E29: 52 | F29: 부산광역시 해운대구 재송동 1196번지
A30: 26260-100172067 | B30: 26260 | C30: 벽산아스타 | D30: 101동 | E30: 52 | F30: 부산광역시 동래구 온천동 178-7번지
A31: 26350-16595 | B31: 26350 | C31: 더샵 센텀파크 1차 아파트 | D31: 104동 | E31: 51 | F31: 부산광역시 해운대구 재송동 1200번지
... A41: 26350-16596 | B41: 26350 | C41: 더샵 센텀파크 1차 아파트 | D41: 106동 | E41: 51 | F41: 부산광역시 해운대구 재송동 1200번지
A42: 27260-100198919 | B42: 27260 | C42: 수성 SK 리더스뷰 | D42: 103 | E42: 57 | F42: 대구광역시 수성구 두산동 113번지
A43: 27260-100199331 | B43: 27260 | C43: 수성 SK 리더스뷰 | D43: 105 | E43: 57 | F43: 대구광역시 수성구 두산동 113번지
A44: 27260-100194897 | B44: 27260 | C44: 두산위브더제니스 | D44: 106동 | E44: 54 | F44: 대구광역시 수성구 범어동 179번지
A45: 27260-100193891 | B45: 27260 | C45: 두산위브더제니스 | D45: 107동 | E45: 54 | F45: 대구광역시 수성구 범어동 179번지
A46: 27260-100194599 | B46: 27260 | C46: 두산위브더제니스 | D46: 104동 | E46: 53 | F46: 대구광역시 수성구 범어동 179번지
A47: 27260-100194748 | B47: 27260 | C47: 두산위브더제니스 | D47: 105동 | E47: 53 | F47: 대구광역시 수성구 범어동 179번지
A48: 27260-100194307 | B48: 27260 | C48: 두산위브더제니스 | D48: 109동 | E48: 52 | F48: 대구광역시 수성구 범어동 179번지
A49: 27260-100195049 | B49: 27260 | C49: 두산위브더제니스 | D49: 108동 | E49: 52 | F49: 대구광역시 수성구 범어동 179번지
A50: 27260-100194170 | B50: 27260 | C50: 두산위브더제니스 | D50: 103동 | E50: 49 | F50: 대구광역시 수성구 범어동 179번지
A51: 27260-100194043 | B51: 27260 | C51: 두산위브더제니스 | D51: 102동 | E51: 48 | F51: 대구광역시 수성구 범어동 179번지
A52: 27260-100195341 | B52: 27260 | C52: 두산위브더제니스 | D52: 101동 | E52: 48 | F52: 대구광역시 수성구 범어동 179번지
A53: 27290-100200839 | B53: 27290 | C53: 월드마크 웨스트엔드 | D53: 105동 | E53: 45 | F53: 대구광역시 달서구 감삼동 461번지
A54: 27110-19116 | B54: 27110 | C54: 센트로 팰리스 | D54: 102동 | E54: 43 | F54: 대구광역시 중구 대봉동 60-10번지
A55: 27290-100200108 | B55: 27290 | C55: 월드마크 웨스트엔드 | D55: 102동 | E55: 43 | F55: 대구광역시 달서구 감삼동 461번지
A56: 27110-19112 | B56: 27110 | C56: 센트로 팰리스 | D56: 103동 | E56: 43 | F56: 대구광역시 중구 대봉동 60-10번지
A57: 27230-23613 | B57: 27230 | D57: 어린이집 | E57: 43 | F57: 대구광역시 북구 산격동 1449-1번지
A58: 27260-100198711 | B58: 27260 | C58: 수성 SK 리더스뷰 | D58: 102 | E58: 43 | F58: 대구광역시 수성구 두산동 113번지
A59: 27260-100199479 | B59: 27260 | C59: 수성 SK 리더스뷰 | D59: 101 | E59: 43 | F59: 대구광역시 수성구 두산동 113번지
A60: 27260-100199234 | B60: 27260 | C60: 수성 SK 리더스뷰 | D60: 104 | E60: 43 | F60: 대구광역시 수성구 두산동 113번지
A61: 27230-8469 | B61: 27230 | C61: 명성푸르지오 | D61: 102동 | E61: 42 | F61: 대구광역시 북구 침산동 269-10번지
A62: 28185-100175089 | B62: 28185 | C62: 송도 더샵 퍼스트월드 | D62: 1동 | E62: 64 | F62: 인천광역시 연수구 송도동 4-1번지
A63: 28185-100176237 | B63: 28185 | C63: 송도 더샵 퍼스트월드 | D63: 6동 | E63: 64 | F63: 인천광역시 연수구 송도동 4-1번지
A64: 28185-100177497 | B64: 28185 | C64: 송도 더샵 퍼스트월드 | D64: 4동 | E64: 64 | F64: 인천광역시 연수구 송도동 4-1번지
A65: 28185-100176562 | B65: 28185 | C65: 송도 더샵 퍼스트월드 | D65: 3동 | E65: 64 | F65: 인천광역시 연수구 송도동 4-1번지
A66: 28260-100233573 | B66: 28260 | C66: 청라 풍림 엑슬루타워 | D66: 102동 | E66: 55 | F66: 인천광역시 서구 연희동 801-1번지
A67: 28260-100234421 | B67: 28260 | C67: 청라 풍림 엑슬루타워 | D67: 103동 | E67: 55 | F67: 인천광역시 서구 연희동 801-1번지
A68: 28170-100216918 | B68: 28170 | C68: 인천 용현 엑슬루타워 | D68: 103 | E68: 53 | F68: 인천광역시 남구 용현동 659번지
A69: 28170-100209724 | B69: 28170 | C69: 엑슬루타워 | D69: 102동 | E69: 53 | F69: 인천광역시 남구 학익동 732-3번지
A70: 28200-100219933 | B70: 28200 | C70: 에코메트로 9블록 한화 꿈에그린아파트 | D70: 905동 | E70: 50 | F70: 인천광역시 남동구 논현동 블록 소래논현 도시개발지구지구 9블록블록
A71: 28185-100194149 | B71: 28185 | C71: 더샵센트럴파크2 | D71: 203동 | E71: 49 | F71: 인천광역시 연수구 송도동 23-4번지
A72: 28200-100219519 | B72: 28200 | C72: 에코메트로 9블록 한화 꿈에그린아파트 | D72: 904동 | E72: 47 | F72: 인천광역시 남동구 논현동 블록 소래논현 도시개발지구지구 9블록블록
A73: 28170-100217573 | B73: 28170 | C73: 인천 용현 엑슬루타워 | D73: 102 | E73: 47 | F73: 인천광역시 남구 용현동 659번지
A74: 28260-100233882 | B74: 28260 | C74: 청라 풍림 엑슬루타워 | D74: 101동 | E74: 47 | F74: 인천광역시 서구 연희동 801-1번지
A75: 28185-100185388 | B75: 28185 | C75: 더샵센트럴파크1 | D75: 101동 | E75: 47 | F75: 인천광역시 연수구 송도동 23-3번지
A76: 28185-100185866 | B76: 28185 | C76: 더샵센트럴파크1 | D76: 102동 | E76: 47 | F76: 인천광역시 연수구 송도동 23-3번지
A77: 28185-100186083 | B77: 28185 | C77: 더샵센트럴파크1 | D77: 103동 | E77: 47 | F77: 인천광역시 연수구 송도동 23-3번지
A78: 28185-100194845 | B78: 28185 | C78: 송도 센트로드 | D78: 씨동 | E78: 45 | F78: 인천광역시 연수구 송도동 30-3번지
A79: 28170-100217109 | B79: 28170 | C79: 인천 용현 엑슬루타워 | D79: 104 | E79: 44 | F79: 인천광역시 남구 용현동 659번지
A80: 28170-100209536 | B80: 28170 | C80: 엑슬루타워 | D80: 101동 | E80: 43 | F80: 인천광역시 남구 학익동 732-3번지
A81: 28185-100192147 | B81: 28185 | C81: 연수 푸르지오 1단지 | D81: 연수 푸르지오 1단지 | E81: 43 | F81: 인천광역시 연수구 연수동 593-3번지
A82: 29155-100192981 | B82: 29155 | C82: 봉선2차 남양휴튼 | D82: 202동 | E82: 32 | F82: 광주광역시 남구 봉선동 1080번지
A83: 29155-100192727 | B83: 29155 | C83: 봉선2차 남양휴튼 | D83: 203동 | E83: 30 | F83: 광주광역시 남구 봉선동 1080번지
A84: 29140-3014 | B84: 29140 | C84: 케이디비생명보험(주) | E84: 30 | F84: 광주광역시 서구 양동 60-37번지
A85: 29155-100192886 | B85: 29155 | C85: 봉선2차 남양휴튼 | D85: 201동 | E85: 29 | F85: 광주광역시 남구 봉선동 1080번지
A86: 29170-60434 | B86: 29170 | C86: 지에스그린자이1차아파트 | D86: 105동 | E86: 27 | F86: 광주광역시 북구 양산동 776번지
A87: 29170-60433 | B87: 29170 | C87: 지에스그린자이1차아파트 | D87: 106동 | E87: 26 | F87: 광주광역시 북구 양산동 776번지
A88: 29170-100184974 | B88: 29170 | C88: 벽산 블루밍 메가씨티 | D88: 벽산 블루밍 메가씨티 303동 | E88: 26 | F88: 광주광역시 북구 운암동 69번지
A89: 29170-100186829 | B89: 29170 | C89: 벽산 블루밍 메가씨티 | D89: 벽산 블루밍 메가씨티 302동 | E89: 26 | F89: 광주광역시 북구 운암동 69번지
A90: 29170-100187154 | B90: 29170 | C90: 벽산 블루밍 메가씨티 | D90: 벽산 블루밍 메가씨티 307동 | E90: 26 | F90: 광주광역시 북구 운암동 69번지
A91: 29170-100186526 | B91: 29170 | C91: 벽산 블루밍 메가씨티 | D91: 벽산 블루밍 메가씨티 305동 | E91: 26 | F91: 광주광역시 북구 운암동 69번지
A92: 29170-100185510 | B92: 29170 | C92: 벽산 블루밍 메가씨티 | D92: 벽산 블루밍 메가씨티 304동 | E92: 26 | F92: 광주광역시 북구 운암동 69번지
A93: 29170-100185197 | B93: 29170 | C93: 벽산 블루밍 메가씨티 | D93: 벽산 블루밍 메가씨티 204동 | E93: 26 | F93: 광주광역시 북구 운암동 68번지
A94: 29170-100185911 | B94: 29170 | C94: 벽산 블루밍 메가씨티 | D94: 벽산 블루밍 메가씨티 202동 | E94: 26 | F94: 광주광역시 북구 운암동 68번지
A95: 29170-100185371 | B95: 29170 | C95: 벽산 블루밍 메가씨티 | D95: 벽산 블루밍 메가씨티 201동 | E95: 26 | F95: 광주광역시 북구 운암동 68번지
A96: 29170-100185715 | B96: 29170 | C96: 벽산 블루밍 메가씨티 | D96: 벽산 블루밍 메가씨티 205동 | E96: 25 | F96: 광주광역시 북구 운암동 68번지
... A126: 31140-100199371 | B126: 31140 | C126: 태화강 풍림 엑슬루타워 | D126: B동 | E126: 43 | F126: 울산광역시 남구 신정동 1880번지
A127: 31110-100175272 | B127: 31110 | C127: 롯데캐슬 스카이 | E127: 41 | F127: 울산광역시 중구 성남동 255-1번지
A128: 31110-100182579 | B128: 31110 | C128: 진흥 마제스타워 울산Ⅱ | D128: 진흥 마제스타워 울산Ⅱ | E128: 40 | F128: 울산광역시 중구 우정동 172-5번지
A129: 31140-100191126 | B129: 31140 | C129: 삼산동 대성스카이렉스 | D129: 102동 | E129: 40 | F129: 울산광역시 남구 삼산동 1564-1번지
A130: 31140-100191317 | B130: 31140 | C130: 삼산동 대성스카이렉스 | D130: 101동 | E130: 40 | F130: 울산광역시 남구 삼산동 1564-1번지
A131: 31140-100185445 | B131: 31140 | C131: 대공원 코오롱 파크폴리스 | E131: 39 | F131: 울산광역시 남구 신정동 1873번지
A132: 31200-100201663 | B132: 31200 | C132: 월드메르디앙 월드시티 | D132: 109동 | E132: 36 | F132: 울산광역시 북구 매곡동 330-2번지
A133: 31200-100195539 | B133: 31200 | C133: 월드메르디앙 월드시티 | D133: 109동 | E133: 36 | F133: 울산광역시 북구 매곡동 864번지
A134: 31200-100197849 | B134: 31200 | C134: 월드메르디앙 월드시티 | D134: 209동 | E134: 36 | F134: 울산광역시 북구 매곡동 865번지
A135: 31200-100197570 | B135: 31200 | C135: 월드메르디앙 월드시티 | D135: 110동 | E135: 36 | F135: 울산광역시 북구 매곡동 864번지
A136: 31110-100174673 | B136: 31110 | C136: 마제스타워 울산 | D136: 101동 | E136: 35 | F136: 울산광역시 중구 우정동 172번지
A137: 31110-100174939 | B137: 31110 | C137: 마제스타워 울산 | D137: 103동 | E137: 35 | F137: 울산광역시 중구 우정동 172번지
A138: 31110-100174806 | B138: 31110 | C138: 마제스타워 울산 | D138: 102동 | E138: 35 | F138: 울산광역시 중구 우정동 172번지
...

Sheet 8.고층건축물BACKUP(건축+주택)
A1: 구분 | B1: SIGUNGU_CD | C1: F_PLAT_PLC_PRT(X03.SIGUNGU_CD,X03.BJDONG_CD,X03.PLAT_GB_CD,X03.BUN,X03.JI,X03.SPLOT_NM,X03.BLOCK,X03.LOT) | D1: BLD_NM | E1: DONG_NM | F1: GRND_FLR_CNT
A2: 건축 | B2: 11710 | C2: 서울특별시 송파구 신천동 29번지 | D2: 제2롯데월드신축공사 | E2: 제2롯데월드 | F2: 123
A3: 주택 | B3: 26350 | C3: 부산광역시 해운대구 중동 블록 해운대관광리조트 도시개발구역지구 I블록 1로트 | D3: 해운대 관광리조트 | E3: 랜드마크타워 | F3: 108
A4: 건축 | B4: 26110 | C4: 부산광역시 중구 중앙동7가 20-1번지 | D4: 부산롯데타운 | E4: 타워동 | F4: 107
A5: 주택 | B5: 26350 | C5: 부산광역시 해운대구 중동 블록 해운대관광리조트 도시개발구역지구 I블록 1로트 | D5: 해운대 관광리조트 | E5: 주거타워 A동 | F5: 87
A6: 주택 | B6: 26350 | C6: 부산광역시 해운대구 중동 블록 해운대관광리조트 도시개발구역지구 I블록 1로트 | D6: 해운대 관광리조트 | E6: 주거타워 B동 | F6: 87
A7: 건축 | B7: 26290 | C7: 부산광역시 남구 문현동 1229-2번지 | D7: 부산국제금융센터 복합개발사업 | E7: 주건축물제1동 | F7: 63
A8: 주택 | B8: 41287 | C8: 경기도 고양시 일산서구 탄현동 297번지 | D8: 공동주택 | E8: 105 | F8: 59
A9: 주택 | B9: 41287 | C9: 경기도 고양시 일산서구 탄현동 297번지 | D9: 공동주택 | E9: 104 | F9: 57
A10: 주택 | B10: 41287 | C10: 경기도 고양시 일산서구 탄현동 297번지 | D10: 공동주택 | E10: 103 | F10: 55
A11: 주택 | B11: 41287 | C11: 경기도 고양시 일산서구 탄현동 297번지 | D11: 공동주택 | E11: 106 | F11: 54
A12: 주택 | B12: 41287 | C12: 경기도 고양시 일산서구 탄현동 297번지 | D12: 공동주택 | E12: 102 | F12: 54
A13: 주택 | B13: 41287 | C13: 경기도 고양시 일산서구 탄현동 297번지 | D13: 공동주택 | E13: 107 | F13: 53
A14: 주택 | B14: 41287 | C14: 경기도 고양시 일산서구 탄현동 297번지 | D14: 공동주택 | E14: 101 | F14: 53
A15: 주택 | B15: 28200 | C15: 인천광역시 남동구 논현동 블록 소래논현도시개발지구지구 C10블록블록 | D15: 인천 소래논현구역 C10블록 주상복합 신축공사 | E15: A | F15: 51
A16: 주택 | B16: 41287 | C16: 경기도 고양시 일산서구 탄현동 297번지 | D16: 공동주택 | E16: 108 | F16: 51
A17: 건축 | B17: 44200 | C17: 충청남도 아산시 배방읍 장재리 블록 아산배방택지개발사업지구 일반상업지역내 특별계획구역지구 4블록 | D17: 싸이클론타워 | E17: 싸이클론타워 | F17: 51
A18: 건축 | B18: 30200 | C18: 대전광역시 유성구 용산동 579번지 | D18: DTV ST 블럭호텔 | E18: Edifice-WHITE(104) | F18: 50
A19: 주택 | B19: 30230 | C19: 대전광역시 대덕구 석봉동 블록 구)풍한방직 이전적지 도시개발사업지구 A-1블록 | D19: 금강풍림엑슬루타워 | E19: 111동 | F19: 50
A20: 주택 | B20: 30230 | C20: 대전광역시 대덕구 석봉동 블록 구)풍한방직 이전적지 도시개발사업지구 A-1블록 | D20: 금강풍림엑슬루타워 | E20: 110동 | F20: 50
A21: 주택 | B21: 30230 | C21: 대전광역시 대덕구 석봉동 블록 구)풍한방직 이전적지 도시개발사업지구 A-1블록 | D21: 금강풍림엑슬루타워 | E21: 103동 | F21: 50
A22: 주택 | B22: 30230 | C22: 대전광역시 대덕구 석봉동 블록 구)풍한방직 이전적지 도시개발사업지구 A-1블록 | D22: 금강풍림엑슬루타워 | E22: 107동 | F22: 50
A23: 주택 | B23: 30230 | C23: 대전광역시 대덕구 석봉동 블록 구)풍한방직 이전적지 도시개발사업지구 A-1블록 | D23: 금강풍림엑슬루타워 | E23: 105동 | F23: 50
A24: 주택 | B24: 30230 | C24: 대전광역시 대덕구 석봉동 블록 구)풍한방직 이전적지 도시개발사업지구 A-1블록 | D24: 금강풍림엑슬루타워 | E24: 108동 | F24: 50
A25: 주택 | B25: 30230 | C25: 대전광역시 대덕구 석봉동 블록 구)풍한방직 이전적지 도시개발사업지구 A-1블록 | D25: 금강풍림엑슬루타워 | E25: 102동 | F25: 50
A26: 주택 | B26: 30230 | C26: 대전광역시 대덕구 석봉동 블록 구)풍한방직 이전적지 도시개발사업지구 A-1블록 | D26: 금강풍림엑슬루타워 | E26: 106동 | F26: 50
A27: 주택 | B27: 28200 | C27: 인천광역시 남동구 논현동 블록 소래논현도시개발지구지구 C10블록블록 | D27: 인천 소래논현구역 C10블록 주상복합 신축공사 | E27: B | F27: 48
A28: 건축 | B28: 31110 | C28: 울산광역시 중구 성남동 196-21번지 | D28: 성남동주상복합 | E28: A | F28: 48
... A50: 건축 | B50: 48170 | C50: 경상남도 진주시 강남동 181-1번지 | D50: 진주시 강남동 주거복합 | E50: 강남동 주거복합 | F50: 35
A51: 건축 | B51: 31140 | C51: 울산광역시 남구 신정동 1127-3번지 | D51: 남구 신정동 주상복합 | E51: 1 | F51: 33
A52: 건축 | B52: 46130 | C52: 전라남도 여수시 소호동 산 99번지 | D52: 여수오션리조트 | E52: 관광호텔동 | F52: 33
A53: 건축 | B53: 28200 | C53: 인천광역시 남동구 논현동 블록 논현(2)택지개발사업지구상업용지C12-2지구 | D53: 논현2지구 오피스텔 신축공사 | E53: C동 | F53: 32
A54: 건축 | B54: 43710 | C54: 충청북도 청원군 오창읍 양청리 808-2번지 | D54: 오창양청리000호텔 | E54: 오창양청리000호텔 | F54: 32
A55: 건축 | B55: 46110 | C55: 전라남도 목포시 남교동 111-9번지 | D55: 남교동 111-9 공동주택 (한국토지주택공사) | E55: 목포남교주상관복합건축 | F55: 31
A56: 건축 | B56: 46170 | C56: 전라남도 나주시 금천면 블록 광주전남공동혁신 도시개발사업지구지구 이전1블록 | D56: KEPCO 본사 신사옥 | E56: 본관 | F56: 31
A57: 주택 | B57: 46230 | C57: 전라남도 광양시 중동 1601번지 | D57: 대광 로제비앙 2차 아파트 신축공사 | E57: 201 | F57: 30
A58: 건축 | B58: 48170 | C58: 경상남도 진주시 평거동 139-5번지 | D58: 진주 평거동 OO주상복합 신축공사 | E58: 101동 | F58: 30
A59: 주택 | B59: 46230 | C59: 전라남도 광양시 광양읍 용강리 919번지 | E59: 104동 | F59: 28
A60: 주택 | B60: 46230 | C60: 전라남도 광양시 광양읍 용강리 919번지 | E60: 102동 | F60: 28
A61: 주택 | B61: 46230 | C61: 전라남도 광양시 광양읍 용강리 919번지 | E61: 103동 | F61: 28
A62: 주택 | B62: 46230 | C62: 전라남도 광양시 광양읍 용강리 919번지 | E62: 109동 | F62: 28
A63: 주택 | B63: 46230 | C63: 전라남도 광양시 광양읍 용강리 919번지 | E63: 106동 | F63: 28
A64: 주택 | B64: 46230 | C64: 전라남도 광양시 광양읍 용강리 919번지 | E64: 105동 | F64: 28
A65: 건축 | B65: 48310 | C65: 경상남도 거제시 일운면 소동리 115번지 | D65: 대명리조트 거제 | E65: 콘도미니엄A동 | F65: 28
A66: 건축 | B66: 46150 | C66: 전라남도 순천시 덕암동 371-29번지 | D66: 하종배건축물 | E66: 1동 | F66: 27
A67: 주택 | B67: 45111 | C67: 전라북도 전주시 완산구 중동 7-14번지 | D67: 전북 전주완주혁신도시 B-12BL 공동주택 | E67: 102동 | F67: 25
A68: 주택 | B68: 45111 | C68: 전라북도 전주시 완산구 중동 7-14번지 | D68: 전북 전주완주혁신도시 B-12BL 공동주택 | E68: 101동 | F68: 25
A69: 주택 | B69: 45111 | C69: 전라북도 전주시 완산구 중동 7-14번지 | D69: 전북 전주완주혁신도시 B-12BL 공동주택 | E69: 104동 | F69: 25
A70: 주택 | B70: 45111 | C70: 전라북도 전주시 완산구 중동 7-14번지 | D70: 전북 전주완주혁신도시 B-12BL 공동주택 | E70: 106동 | F70: 25
A71: 주택 | B71: 45111 | C71: 전라북도 전주시 완산구 중동 7-14번지 | D71: 전북 전주완주혁신도시 B-12BL 공동주택 | E71: 105동 | F71: 25
A72: 주택 | B72: 45111 | C72: 전라북도 전주시 완산구 중동 7-14번지 | D72: 전북 전주완주혁신도시 B-12BL 공동주택 | E72: 103동 | F72: 25
A73: 주택 | B73: 45113 | C73: 전라북도 전주시 덕진구 장동 7-6번지 | D73: 전북 전주완주혁신도시 B-2BL 공동주택 | E73: 106 | F73: 25
A74: 주택 | B74: 45113 | C74: 전라북도 전주시 덕진구 장동 7-6번지 | D74: 전북 전주완주혁신도시 B-2BL 공동주택 | E74: 101 | F74: 25
A75: 건축 | B75: 46130 | C75: 전라남도 여수시 수정동 332-15번지 | D75: 수정동 332-15 숙박시설 (대명레저산업) | E75: 주건축물제1동 | F75: 25
A76: 건축 | B76: 46840 | C76: 전라남도 무안군 삼향읍 남악리 2104번지 | D76: 더 트리폴리앙 | E76: 주건축물제2동 | F76: 25
A77: 건축 | B77: 46840 | C77: 전라남도 무안군 삼향읍 남악리 2104번지 | D77: 더 트리폴리앙 | E77: 주건축물제1동 | F77: 25
A78: 건축 | B78: 47150 | C78: 경상북도 김천시 남면 블록 김천혁신도시내 지구단위계획구역지구 5블록 9로트 | D78: 한국도로공사 신사옥 건립 | E78: 본관동 | F78: 25
A79: 건축 | B79: 42130 | C79: 강원도 원주시 우산동 86-1번지 | D79: 원주다소미 | E79: 원주다소미 | F79: 23
A80: 건축 | B80: 29140 | C80: 광주광역시 서구 치평동 1176-1번지 | D80: 동양스카이빌 | E80: 동양스카이빌 | F80: 22
A81: 건축 | B81: 50110 | C81: 제주특별자치도 제주시 연동 2324-6번지 | D81: 제주연동 롯데시티호텔 | E81: 주건축물제1동 | F81: 22
A82: 건축 | B82: 45111 | C82: 전라북도 전주시 완산구 효자동3가 1693-5번지 | D82: 효자동3가 1693-5 업무시설 ((유)플러시너) | E82: 주건축물제1동 | F82: 20
A83: 건축 | B83: 47190 | C83: 경상북도 구미시 원평동 1037-14번지 | D83: 노마드레지던스구미 | E83: 노마드레지던스구미 | F83: 20
A84: 건축 | B84: 43113 | C84: 충청북도 청주시 흥덕구 복대동 블록 대농3지구지구 상업2블럭블록 | D84: 복대동 대농3지구 상업2블럭 판매시설 ((주)신영대농개발) | E84: 주건축물제1동 | F84: 18
A85: 건축 | B85: 45111 | C85: 전라북도 전주시 완산구 효자동3가 11번지 | D85: 전라북도청및의회청사 | E85: 도청사및의회청사 | F85: 18
A86: 건축 | B86: 47900 | C86: 경상북도 예천군 예천읍 동본리 548번지 | D86: 동본리 주상복합 | E86: 주건축물제1동 | F86: 18
... A94: 건축 | B94: 43710 | C94: 충청북도 청원군 오창읍 양청리 792-1번지 | D94: 양청리 00오피스텔 신축공사 | E94: 주건축물제1동 | F94: 16

Sheet 4. 고층
A1: =목차!B7 -> 4. 2025년 고층 건축물 현황
B3: □ 건축물 현황
B4: 순위 | C4: 구분 | D4: 건물명 | E4: 동명칭 | F4: 지상층수 | G4: 위치
B5: 1 | C5: 건축물대장 | D5: 롯데월드타워앤드롯데월드몰 | E5: 월드타워동 | F5: 123 | G5: 서울특별시 송파구 신천동 29
B6: 2 | C6: 건축물대장 | D6: 중동 18290000 숙박시설 (주식회사엘시티피이에프브이) | E6: 랜드마크타워동 | F6: 101 | G6: 부산광역시 해운대구 중동 1829
B7: 3 | C7: 건축물대장 | D7: 엘시티 | E7: 타워에이동 | F7: 85 | G7: 부산광역시 해운대구 중동 1829
B8: 4 | C8: 건축물대장 | D8: 엘시티 | E8: 타워비동 | F8: 85 | G8: 부산광역시 해운대구 중동 1829
B9: 5 | C9: 건축물대장 | D9: 해운대 두산위브더제니스 | E9: 101동 | F9: 80 | G9: 부산광역시 해운대구 우동 1407
B10: 6 | C10: 건축물대장 | D10: 해운대 두산위브더제니스 | E10: 102동 | F10: 75 | G10: 부산광역시 해운대구 우동 1407
B11: 7 | C11: 건축물대장 | D11: 해운대 l'PARK | E11: 주동2 | F11: 72 | G11: 부산광역시 해운대구 우동 1408
B12: 8 | C12: 건축물대장 | D12: 송도 아메리칸타운 더샵 | E12: 201동 | F12: 70 | G12: 인천광역시 연수구 송도동 155-1
B13: 9 | C13: 건축물대장 | D13: 해운대 두산위브더제니스 | E13: 103동 | F13: 70 | G13: 부산광역시 해운대구 우동 1407
B14: 10 | C14: 건축물대장 | D14: 더블유 | E14: 에이동 | F14: 69 | G14: 부산광역시 남구 용호동 954
B15: 11 | C15: 건축물대장 | D15: 타워팰리스 | E15: 지동 | F15: 69 | G15: 서울특별시 강남구 도곡동 467-29
B16: 12 | C16: 건축물대장 | D16: 현대하이페리온 | F16: 69 | G16: 서울특별시 양천구 목동 916
B17: 13 | C17: 건축물대장 | D17: 파크원 | E17: 타워1 | F17: 69 | G17: 서울특별시 영등포구 여의도동 22
B18: 14 | C18: 건축물대장 | D18: 힐스테이트이진베이시티아파트 | E18: 공동주택A동 | F18: 69 | G18: 부산광역시 서구 암남동 775
B19: 15 | C19: 건축물대장 | D19: 더블유 | E19: 씨동 | F19: 69 | G19: 부산광역시 남구 용호동 954
B20: 16 | C20: 건축물대장 | D20: 더블유 | E20: 비동 | F20: 69 | G20: 부산광역시 남구 용호동 954
B21: 17 | C21: 건축물대장 | D21: 더블유 | E21: 디동 | F21: 69 | G21: 부산광역시 남구 용호동 954
B22: 18 | C22: 건축물대장 | E22: 포스코타워-송도 | F22: 68 | G22: 인천광역시 연수구 송도동 6-9
B23: 19 | C23: 건축물대장 | D23: METAPOLIS | E23: D동 | F23: 66 | G23: 경기도 화성시 반송동 98
B24: 20 | C24: 건축물대장 | D24: METAPOLIS | E24: A동 | F24: 66 | G24: 경기도 화성시 반송동 96
B26: □ 지역별 최고층 건축물
B27: 시도 | D27: 건물명 | E27: 동명칭 | F27: 지상층수 | G27: 위치
B28: 서울특별시 | D28: 롯데월드타워앤드롯데월드몰 | E28: 월드타워동 | F28: 123 | G28: 서울특별시 송파구 신천동 29
B29: 부산광역시 | C29: 건축물대장 | D29: 중동 18290000 숙박시설 (주식회사엘시티피이에프브이) | E29: 랜드마크타워동 | F29: 101 | G29: 부산광역시 해운대구 중동 1829
B30: 대구광역시 | C30: 건축물대장 | D30: 수성 범어W | E30: 104동 | F30: 59 | G30: 대구광역시 수성구 범어동 2291
B31: 인천광역시 | C31: 건축물대장 | D31: 송도 아메리칸타운 더샵 | E31: 201동 | F31: 70 | G31: 인천광역시 연수구 송도동 155-1
B32: 광주광역시 | C32: 건축물대장 | D32: 광주호반써밋 | E32: 호반 써밋 광주 | F32: 48 | G32: 광주광역시 서구 광천동 896
B33: 대전광역시 | C33: 건축물대장 | D33: 금강엑슬루타워 | E33: 105동 | F33: 50 | G33: 대전광역시 대덕구 석봉동 770
B34: 울산광역시 | C34: 건축물대장 | D34: 태화강엑소디움 | E34: 101동 | F34: 54 | G34: 울산광역시 중구 옥교동 82-1
B35: 세종특별자치시 | C35: 건축물대장 | D35: 나릿재마을 2단지 | E35: 근린생활시설 | F35: 49 | G35: 세종특별자치시 나성동 853
B36: 경기도 | C36: 건축물대장 | D36: 리첸시아 중동 | F36: 66 | G36: 경기도 부천시 원미구 중동 1116
B37: 강원특별자치도 | C37: 건축물대장 | D37: 춘천 센트럴타워 푸르지오 | E37: 춘천 센트럴타워 푸르지오 | F37: 49 | G37: 강원특별자치도 춘천시 온의동 601
B38: 충청북도 | C38: 건축물대장 | D38: 청주센트럴시티(터미널복합) | E38: 청주센트럴시티 | F38: 49 | G38: 충청북도 청주시 흥덕구 가경동 1416
B39: 충청남도 | C39: 건축물대장 | D39: 펜타포트 | E39: 103동 | F39: 66 | G39: 충청남도 천안시 서북구 불당동 1289
B40: 전북특별자치도 | C40: 건축물대장 | D40: 유블레스 랜드마크 47 | E40: 101동 | F40: 47 | G40: 전북특별자치도 익산시 모현동1가 962
B41: 전라남도 | C41: 건축물대장 | D41: 목포하당 중흥S-클래스 센텀뷰 | E41: 104동 | F41: 49 | G41: 전라남도 목포시 상동 860
B42: 경상북도 | C42: 건축물대장 | D42: 두산 위브 더 제니스 | E42: 107동 | F42: 48 | G42: 경상북도 포항시 북구 장성동 1612
B43: 경상남도 | C43: 건축물대장 | D43: 메트로시티 2단지 | E43: 207동 | F43: 55 | G43: 경상남도 창원시 마산회원구 양덕동 84-14
B44: 제주특별자치도 | C44: 건축물대장 | D44: 제주 드림타워 복합리조트 | E44: 제주 드림타워 복합리조트 | F44: 38 | G44: 제주특별자치도 제주시 노형동 925
B46: □ 50층 이상 건축물
B47: 시도 | D47: 건물명 | E47: 동명칭 | F47: 지상층수 | G47: 위치 (시군구)
B48: 서울특별시 | D48: 롯데월드타워앤드롯데월드몰 | E48: 월드타워동 | F48: 123 | G48: 서울특별시 송파구 신천동 29
B49: 부산광역시 | D49: 중동 18290000 숙박시설 (주식회사엘시티피이에프브이) | E49: 랜드마크타워동 | F49: 101 | G49: 부산광역시 해운대구 중동 1829
B50: 부산광역시 | D50: 엘시티 | E50: 타워에이동 | F50: 85 | G50: 부산광역시 해운대구 중동 1829
B51: 부산광역시 | D51: 엘시티 | E51: 타워비동 | F51: 85 | G51: 부산광역시 해운대구 중동 1829
B52: 부산광역시 | D52: 해운대 두산위브더제니스 | E52: 101동 | F52: 80 | G52: 부산광역시 해운대구 우동 1407
B53: 부산광역시 | D53: 해운대 두산위브더제니스 | E53: 102동 | F53: 75 | G53: 부산광역시 해운대구 우동 1407
B54: 부산광역시 | D54: 해운대 l'PARK | E54: 주동2 | F54: 72 | G54: 부산광역시 해운대구 우동 1408
B55: 인천광역시 | D55: 송도 아메리칸타운 더샵 | E55: 201동 | F55: 70 | G55: 인천광역시 연수구 송도동 155-1
B56: 부산광역시 | D56: 해운대 두산위브더제니스 | E56: 103동 | F56: 70 | G56: 부산광역시 해운대구 우동 1407
B57: 부산광역시 | D57: 더블유 | E57: 에이동 | F57: 69 | G57: 부산광역시 남구 용호동 954
B58: 서울특별시 | D58: 타워팰리스 | E58: 지동 | F58: 69 | G58: 서울특별시 강남구 도곡동 467-29
B59: 서울특별시 | D59: 현대하이페리온 | F59: 69 | G59: 서울특별시 양천구 목동 916
B60: 서울특별시 | D60: 파크원 | E60: 타워1 | F60: 69 | G60: 서울특별시 영등포구 여의도동 22
B61: 부산광역시 | D61: 힐스테이트이진베이시티아파트 | E61: 공동주택A동 | F61: 69 | G61: 부산광역시 서구 암남동 775
B62: 부산광역시 | D62: 더블유 | E62: 씨동 | F62: 69 | G62: 부산광역시 남구 용호동 954
B63: 부산광역시 | D63: 더블유 | E63: 비동 | F63: 69 | G63: 부산광역시 남구 용호동 954
B64: 부산광역시 | D64: 더블유 | E64: 디동 | F64: 69 | G64: 부산광역시 남구 용호동 954
B65: 인천광역시 | E65: 포스코타워-송도 | F65: 68 | G65: 인천광역시 연수구 송도동 6-9
B66: 경기도 | D66: METAPOLIS | E66: D동 | F66: 66 | G66: 경기도 화성시 반송동 98
B67: 경기도 | D67: METAPOLIS | E67: A동 | F67: 66 | G67: 경기도 화성시 반송동 96
B68: 경기도 | D68: 리첸시아 중동 | F68: 66 | G68: 경기도 부천시 원미구 중동 1116
B69: 부산광역시 | D69: 해운대 l'PARK | E69: 주동1 | F69: 66 | G69: 부산광역시 해운대구 우동 1408
B70: 서울특별시 | D70: 타워팰리스 | E70: 비동 | F70: 66 | G70: 서울특별시 강남구 도곡동 467
B71: 충청남도 | D71: 펜타포트 | E71: 103동 | F71: 66 | G71: 충청남도 천안시 서북구 불당동 1289
B72: 서울특별시 | D72: 청량리역 롯데캐슬 Sky-L65 | E72: 나동 | F72: 65 | G72: 서울특별시 동대문구 전농동 620-47
B73: 인천광역시 | D73: 송도 더샵 퍼스트월드 | E73: 1동 | F73: 64 | G73: 인천광역시 연수구 송도동 4-1
B74: 인천광역시 | D74: 송도 더샵 퍼스트월드 | E74: 3동 | F74: 64 | G74: 인천광역시 연수구 송도동 4-1
B75: 인천광역시 | D75: 송도 더샵 퍼스트월드 | E75: 4동 | F75: 64 | G75: 인천광역시 연수구 송도동 4-1
B76: 인천광역시 | D76: 송도 더샵 퍼스트월드 | E76: 6동 | F76: 64 | G76: 인천광역시 연수구 송도동 4-1
B77: 부산광역시 | D77: 부산국제금융센터 | F77: 63 | G77: 부산광역시 남구 문현동 1229-1
B78: 부산광역시 | E78: 협성마리나G7 | F78: 61 | G78: 부산광역시 동구 초량동 1266
B79: 경기도 | D79: METAPOLIS | E79: B동 | F79: 60 | G79: 경기도 화성시 반송동 96
B80: 서울특별시 | D80: 한화금융센터_63 | F80: 60 | G80: 서울특별시 영등포구 여의도동 60
B81: 인천광역시 | E81: 송도아트윈푸르지오102 | F81: 60 | G81: 인천광역시 연수구 송도동 33-1
B82: 인천광역시 | E82: 송도아트윈푸르지오101 | F82: 60 | G82: 인천광역시 연수구 송도동 33-1
B83: 부산광역시 | D83: 더샾 센텀스타 | E83: B동 | F83: 60 | G83: 부산광역시 해운대구 재송동 1196
B84: 부산광역시 | D84: 롯데캐슬 드메르 | E84: 롯데캐슬 드메르 | F84: 59 | G84: 부산광역시 동구 초량동 1233
B85: 부산광역시 | D85: 힐스테이트이진베이시티아파트 | E85: 공동주택B동 | F85: 59 | G85: 부산광역시 서구 암남동 775
B86: 부산광역시 | D86: 힐스테이트이진베이시티아파트 | E86: 공동주택C동 | F86: 59 | G86: 부산광역시 서구 암남동 775
B87: 서울특별시 | D87: 청량리역 한양수자인 그라시엘 | E87: 101동 | F87: 59 | G87: 서울특별시 동대문구 용두동 798
B88: 서울특별시 | D88: 타워팰리스 | E88: 씨동 | F88: 59 | G88: 서울특별시 강남구 도곡동 467
B89: 대구광역시 | D89: 수성 범어W | E89: 105동 | F89: 59 | G89: 대구광역시 수성구 범어동 2291
B90: 대구광역시 | D90: 수성 범어W | E90: 102동 | F90: 59 | G90: 대구광역시 수성구 범어동 2291
B91: 경기도 | D91: 일산 요진 와이시티 | E91: 104동 | F91: 59 | G91: 경기도 고양시 일산동구 백석동 1237
B92: 대구광역시 | D92: 수성 범어W | E92: 103동 | F92: 59 | G92: 대구광역시 수성구 범어동 2291
B93: 경기도 | D93: 일산 요진 와이시티 | E93: 103동 | F93: 59 | G93: 경기도 고양시 일산동구 백석동 1237
B94: 대구광역시 | D94: 수성 범어W | E94: 101동 | F94: 59 | G94: 대구광역시 수성구 범어동 2291
... B129: 경기도 | D129: 일산 요진 와이시티 | E129: 101동 | F129: 55 | G129: 경기도 고양시 일산동구 백석동 1237
B130: 서울특별시 | D130: 무역회관 | F130: 54 | G130: 서울특별시 강남구 삼성동 159
B131: 울산광역시 | D131: 태화강엑소디움 | E131: 101동 | F131: 54 | G131: 울산광역시 중구 옥교동 82-1
B132: 경기도 | D132: 일산 두산위브더제니스 | E132: 106동 | F132: 54 | G132: 경기도 고양시 일산서구 탄현동 1640
B133: 경기도 | D133: 일산 두산위브더제니스 | E133: 102동 | F133: 54 | G133: 경기도 고양시 일산서구 탄현동 1640
B134: 울산광역시 | D134: 태화강 엑소디움 | E134: 102동 | F134: 54 | G134: 울산광역시 중구 옥교동 82-1
B135: 대구광역시 | D135: 두산위브더제니스 | E135: 107동 | F135: 54 | G135: 대구광역시 수성구 범어동 179
B136: 대구광역시 | D136: 두산위브더제니스 | E136: 106동 | F136: 54 | G136: 대구광역시 수성구 범어동 179
B137: 대구광역시 | D137: 두산위브더제니스 | E137: 104동 | F137: 53 | G137: 대구광역시 수성구 범어동 179
...

Sheet 5-1. 경과년수별(시도별)
A1: 5-1. 2025년 경과년수별 건축물 현황
A2: [기준] (구분)기타 : 공동주택의 부대/복리시설, 공공업무시설, 창고시설, 동식물관련시설, 교정시설, 국방·군사시설, 방송통신시설, 발전시설, 가설건축물, 자원순환관련 시설 등, 용도값 오기 및 누락자료
A3: [기준] (기간)기타 : 사용승일일(항목) 값 누락 또는 오기
A4: [기준] 10년미만(2017년-2025년), 10년이상-15년미만(2012년-2016년), 15년이상-20년미만(2007년-2011년)
A5: 20년이상-25년미만(2002년-2006년), 25년이상-30년미만(1997년-2001년), 30년이상-35년미만(1992년-1996년), 35년이상(~1991년)
O6: (단위 : 동, ㎡)
B7: 구분 | D7: 합계 | F7: 주거용 | H7: 상업용 | J7: 공업용 | L7: 교육 및 사회용 | N7: 기타
D8: 동수 | E8: 연면적 | F8: 동수 | G8: 연면적 | H8: 동수 | I8: 연면적 | J8: 동수 | K8: 연면적 | L8: 동수 | M8: 연면적 | N8: 동수 | O8: 연면적
B9: 전체 | C9: 합계 | D9: 7438642 | E9: 4.3750305e+09 | F9: 4562665 | G9: 2015492098 | H9: 1427853 | I9: 964609529 | J9: 352662 | K9: 485725889 | L9: 205967 | M9: 382075439 | N9: 889495 | O9: 527127540
C10: 10년 미만 | D10: 1021171 | E10: 9.5729521e+08 | F10: 444732 | G10: 416677655 | H10: 276904 | I10: 239390846 | J10: 72161 | K10: 117294004 | L10: 28080 | M10: 61211369 | N10: 199294 | O10: 122721340
C11: 10 ~ 15년 미만 | D11: 685703 | E11: 5.2550875e+08 | F11: 357424 | G11: 227210064 | H11: 155753 | I11: 125548035 | J11: 55207 | K11: 70210803 | L11: 21648 | M11: 43636420 | N11: 95671 | O11: 58903432
C12: 15 ~ 20년 미만 | D12: 587569 | E12: 4.9847709e+08 | F12: 260817 | G12: 229216274 | H12: 142277 | I12: 94905251 | J12: 50656 | K12: 67529285 | L12: 27525 | M12: 53599670 | N12: 106294 | O12: 53226614
C13: 20 ~ 25년 미만 | D13: 606513 | E13: 5.6429389e+08 | F13: 286821 | G13: 267910001 | H13: 152123 | I13: 134192119 | J13: 49805 | K13: 56984813 | L13: 28641 | M13: 59754606 | N13: 89123 | O13: 45452355
C14: 25 ~ 30년 미만 | D14: 606902 | E14: 4.9619806e+08 | F14: 309134 | G14: 236632988 | H14: 132526 | I14: 92057323 | J14: 35258 | K14: 41678970 | L14: 25480 | M14: 49371811 | N14: 104504 | O14: 76456972
C15: 30 ~ 35년 미만 | D15: 805071 | E15: 6.1402405e+08 | F15: 472538 | G15: 292739754 | H15: 153540 | I15: 107834722 | J15: 36640 | K15: 59004712 | L15: 21720 | M15: 38202655 | N15: 120633 | O15: 116242209
C16: 35년 이상 | D16: 2637050 | E16: 6.4082451e+08 | F16: 2058135 | G16: 318448523 | H16: 360589 | I16: 160513161 | J16: 44461 | K16: 62009838 | L16: 38062 | M16: 56562698 | N16: 135803 | O16: 43290291
C17: 기타 | D17: 488663 | E17: 78408913 | F17: 373064 | G17: 26656840 | H17: 54141 | I17: 10168072 | J17: 8474 | K17: 11013464 | L17: 14811 | M17: 19736209 | N17: 38173 | O17: 10834327
B18: 서울특별시 | C18: 합계 | D18: 574058 | E18: 6.0050661e+08 | F18: 422239 | G18: 311956339 | H18: 128540 | I18: 190199751 | J18: 2232 | K18: 15288234 | L18: 16463 | M18: 61408555 | N18: 4584 | O18: 21653735
C19: 10년 미만 | D19: 40919 | E19: 88211985 | F19: 28561 | G19: 40279355 | H19: 10045 | I19: 32021452 | J19: 176 | K19: 5377596 | L19: 1541 | M19: 8294703 | N19: 596 | O19: 2238878
C20: 10 ~ 15년 미만 | D20: 33172 | E20: 52598465 | F20: 26698 | G20: 27065394 | H20: 4887 | I20: 15656768 | J20: 97 | K20: 2423855 | L20: 1145 | M20: 5398291 | N20: 345 | O20: 2054156
C21: 15 ~ 20년 미만 | D21: 27442 | E21: 62339349 | F21: 18359 | G21: 30825973 | H21: 6922 | I21: 17332099 | J21: 100 | K21: 2590931 | L21: 1669 | M21: 9574720 | N21: 392 | O21: 2015626
C22: 20 ~ 25년 미만 | D22: 50289 | E22: 96370469 | F22: 36724 | G22: 54323539 | H22: 10755 | I22: 28392562 | J22: 218 | K22: 2987886 | L22: 2188 | M22: 7811272 | N22: 404 | O22: 2855210
C23: 25 ~ 30년 미만 | D23: 38432 | E23: 74003873 | F23: 28497 | G23: 45418758 | H23: 7364 | I23: 16283519 | J23: 99 | K23: 596546 | L23: 1996 | M23: 7350900 | N23: 476 | O23: 4354151
C24: 30 ~ 35년 미만 | D24: 95059 | E24: 80306340 | F24: 77031 | G24: 46729155 | H24: 15508 | I24: 22829298 | J24: 78 | K24: 232293 | L24: 1971 | M24: 7168933 | N24: 471 | O24: 3346661
C25: 35년 이상 | D25: 258050 | E25: 1.4082167e+08 | F25: 185657 | G25: 65903977 | H25: 64748 | I25: 55513086 | J25: 1206 | K25: 936007 | L25: 4809 | M25: 13870121 | N25: 1630 | O25: 4598480
C26: 기타 | D26: 30695 | E26: 5854462.8 | F26: 20712 | G26: 1410188 | H26: 8311 | I26: 2170967 | J26: 258 | K26: 143120 | L26: 1144 | M26: 1939616 | N26: 270 | O26: 190572
B27: 부산광역시 | C27: 합계 | D27: 345978 | E27: 2.5729355e+08 | F27: 233291 | G27: 129028024 | H27: 74424 | I27: 62782171 | J27: 15841 | K27: 20406145 | L27: 9325 | M27: 21906842 | N27: 13097 | O27: 23170372
C28: 10년 미만 | D28: 20124 | E28: 45287301 | F28: 7037 | G28: 23035813 | H28: 9233 | I28: 13918721 | J28: 2016 | K28: 3395836 | L28: 832 | M28: 2799639 | N28: 1006 | O28: 2137292
C29: 10 ~ 15년 미만 | D29: 21004 | E29: 29577750 | F29: 9368 | G29: 14319777 | H29: 7644 | I29: 8176061 | J29: 2396 | K29: 3899470 | L29: 726 | M29: 2249949 | N29: 870 | O29: 932493
C30: 15 ~ 20년 미만 | D30: 14204 | E30: 23707632 | F30: 4883 | G30: 10643089 | H30: 5418 | I30: 5664312 | J30: 2100 | K30: 3036078 | L30: 860 | M30: 2839912 | N30: 943 | O30: 1524241
C31: 20 ~ 25년 미만 | D31: 20289 | E31: 33891648 | F31: 9035 | G31: 18172763 | H31: 6250 | I31: 7876125 | J31: 2377 | K31: 2798381 | L31: 1148 | M31: 3305924 | N31: 1479 | O31: 1738455
C32: 25 ~ 30년 미만 | D32: 18636 | E32: 29694671 | F32: 9979 | G32: 13783239 | H32: 5005 | I32: 6077934 | J32: 1402 | K32: 2172135 | L32: 935 | M32: 2574624 | N32: 1315 | O32: 5086738
C33: 30 ~ 35년 미만 | D33: 32860 | E33: 39043170 | F33: 22189 | G33: 20882121 | H33: 7407 | I33: 6230199 | J33: 988 | K33: 1273374 | L33: 974 | M33: 1812815 | N33: 1302 | O33: 8844661
C34: 35년 이상 | D34: 186204 | E34: 51957691 | F34: 144505 | G34: 26774723 | H34: 29526 | I34: 13911446 | J34: 3830 | K34: 3443221 | L34: 3229 | M34: 5313304 | N34: 5114 | O34: 2514997
C35: 기타 | D35: 32657 | E35: 4133691.4 | F35: 26295 | G35: 1416499 | H35: 3941 | I35: 927374 | J35: 732 | K35: 387650 | L35: 621 | M35: 1010674 | N35: 1068 | O35: 391496
B36: 대구광역시 | C36: 합계 | D36: 256032 | E36: 1.9076501e+08 | F36: 167749 | G36: 100725452 | H36: 54824 | I36: 48320383 | J36: 13541 | K36: 16614756 | L36: 6748 | M36: 16564592 | N36: 13170 | O36: 8539828
C37: 10년 미만 | D37: 19460 | E37: 34763877 | F37: 8374 | G37: 19438548 | H37: 7081 | I37: 8171890 | J37: 1462 | K37: 2974572 | L37: 871 | M37: 2778900 | N37: 1672 | O37: 1399968
C38: 10 ~ 15년 미만 | D38: 19672 | E38: 27810074 | F38: 10518 | G38: 10119101 | H38: 5570 | I38: 12766313 | J38: 1664 | K38: 2280539 | L38: 658 | M38: 1940135 | N38: 1262 | O38: 703986
C39: 15 ~ 20년 미만 | D39: 14351 | E39: 21090873 | F39: 6919 | G39: 13164593 | H39: 3813 | I39: 3247965 | J39: 1464 | K39: 1807437 | L39: 762 | M39: 2090244 | N39: 1393 | O39: 780634
C40: 20 ~ 25년 미만 | D40: 20183 | E40: 22472633 | F40: 10805 | G40: 12936233 | H40: 4985 | I40: 4556619 | J40: 1858 | K40: 1668609 | L40: 982 | M40: 2483749 | N40: 1553 | O40: 827423
C41: 25 ~ 30년 미만 | D41: 17672 | E41: 20398174 | F41: 9937 | G41: 10853494 | H41: 4102 | I41: 4328139 | J41: 1312 | K41: 1427334 | L41: 861 | M41: 2595085 | N41: 1460 | O41: 1194121
C42: 30 ~ 35년 미만 | D42: 38425 | E42: 28826329 | F42: 27129 | G42: 17138420 | H42: 6445 | I42: 5681028 | J42: 1879 | K42: 2487225 | L42: 825 | M42: 1574511 | N42: 2147 | O42: 1945145
C43: 35년 이상 | D43: 122268 | E43: 33890116 | F43: 92050 | G43: 16903046 | H43: 21741 | I43: 9380798 | J43: 3761 | K43: 3871134 | L43: 1410 | M43: 2220472 | N43: 3306 | O43: 1514665
C44: 기타 | D44: 4001 | E44: 1512934.8 | F44: 2017 | G44: 172017 | H44: 1087 | I44: 187630 | J44: 141 | K44: 97906 | L44: 379 | M44: 881495 | N44: 377 | O44: 173886
B45: 인천광역시 | C45: 합계 | D45: 220159 | E45: 2.401257e+08 | F45: 135795 | G45: 112202255 | H45: 48675 | I45: 58927532 | J45: 14698 | K45: 25653875 | L45: 6698 | M45: 18676858 | N45: 14293 | O45: 24665178
C46: 10년 미만 | D46: 29449 | E46: 64134729 | F46: 13917 | G46: 26958070 | H46: 9342 | I46: 20606295 | J46: 2514 | K46: 6805725 | L46: 953 | M46: 3395172 | N46: 2723 | O46: 6369467
C47: 10 ~ 15년 미만 | D47: 18039 | E47: 33916236 | F47: 9282 | G47: 11549286 | H47: 4174 | I47: 6933405 | J47: 2399 | K47: 4015260 | L47: 696 | M47: 2684058 | N47: 1488 | O47: 8734227
C48: 15 ~ 20년 미만 | D48: 20400 | E48: 29559346 | F48: 10943 | G48: 16598891 | H48: 5158 | I48: 6351995 | J48: 1525 | K48: 2118109 | L48: 1011 | M48: 3107482 | N48: 1763 | O48: 1382870
C49: 20 ~ 25년 미만 | D49: 19557 | E49: 24749281 | F49: 9943 | G49: 11309421 | H49: 5213 | I49: 6752555 | J49: 1860 | K49: 2526299 | L49: 935 | M49: 2960330 | N49: 1606 | O49: 1200676
C50: 25 ~ 30년 미만 | D50: 16945 | E50: 23614519 | F50: 9293 | G50: 11761437 | H50: 3965 | I50: 5964143 | J50: 1085 | K50: 1469828 | L50: 1007 | M50: 2807568 | N50: 1595 | O50: 1611543
C51: 30 ~ 35년 미만 | D51: 26896 | E51: 29478206 | F51: 16106 | G51: 15165254 | H51: 5517 | I51: 4973051 | J51: 2574 | K51: 3984095 | L51: 663 | M51: 1470130 | N51: 2036 | O51: 3885676
C52: 35년 이상 | D52: 71426 | E52: 32227256 | F52: 52564 | G52: 18030058 | H52: 13053 | I52: 6951689 | J52: 2363 | K52: 4256764 | L52: 1054 | M52: 1742809 | N52: 2392 | O52: 1245935
C53: 기타 | D53: 17447 | E53: 2446125.3 | F53: 13747 | G53: 829838 | H53: 2253 | I53: 394401 | J53: 378 | K53: 477795 | L53: 379 | M53: 509308 | N53: 690 | O53: 234783
B54: 광주광역시 | C54: 합계 | D54: 135977 | E54: 1.1313951e+08 | F54: 88389 | G54: 61915153 | H54: 33929 | I54: 24892702 | J54: 4516 | K54: 8973996 | L54: 4085 | M54: 13008225 | N54: 5058 | O54: 4349429
C55: 10년 미만 | D55: 12293 | E55: 20017653 | F55: 5418 | G55: 11128705 | H55: 4604 | I55: 4916985 | J55: 950 | K55: 1926556 | L55: 448 | M55: 1089150 | N55: 873 | O55: 956257
C56: 10 ~ 15년 미만 | D56: 11876 | E56: 12519150 | F56: 5891 | G56: 6147939 | H56: 3945 | I56: 2889654 | J56: 871 | K56: 1506888 | L56: 458 | M56: 1459648 | N56: 711 | O56: 515020
C57: 15 ~ 20년 미만 | D57: 9321 | E57: 13466112 | F57: 4525 | G57: 7820442 | H57: 2992 | I57: 2318713 | J57: 540 | K57: 1074937 | L57: 610 | M57: 1740020 | N57: 654 | O57: 512001
C58: 20 ~ 25년 미만 | D58: 11218 | E58: 17967932 | F58: 5378 | G58: 8693484 | H58: 3718 | I58: 3846177 | J58: 702 | K58: 1051053 | L58: 678 | M58: 3834111 | N58: 742 | O58: 543107
C59: 25 ~ 30년 미만 | D59: 9328 | E59: 14749822 | F59: 4719 | G59: 9112916 | H59: 3178 | I59: 2790498 | J59: 395 | K59: 578767 | L59: 491 | M59: 1672702 | N59: 545 | O59: 594939
C60: 30 ~ 35년 미만 | D60: 13221 | E60: 15427500 | F60: 7820 | G60: 8421208 | H60: 4084 | I60: 4064913 | J60: 449 | K60: 1166356 | L60: 464 | M60: 1184440 | N60: 404 | O60: 590583
C61: 35년 이상 | D61: 51925 | E61: 16533962 | F61: 40907 | G61: 9732919 | H61: 9237 | I61: 3667329 | J61: 512 | K61: 1539045 | L61: 568 | M61: 1123748 | N61: 701 | O61: 470922
C62: 기타 | D62: 16795 | E62: 2457374.6 | F62: 13731 | G62: 857542 | H62: 2171 | I62: 398434 | J62: 97 | K62: 130394 | L62: 368 | M62: 904406 | N62: 428 | O62: 166599
B63: 대전광역시 | C63: 합계 | D63: 130126 | E63: 1.1943018e+08 | F63: 89021 | G63: 58972741 | H63: 27416 | I63: 25868178 | J63: 3131 | K63: 5842595 | L63: 5101 | M63: 15533512 | N63: 5457 | O63: 13213153
C64: 10년 미만 | D64: 11979 | E64: 17564171 | F64: 6820 | G64: 8641779 | H64: 3251 | I64: 4792276 | J64: 571 | K64: 1192782 | L64: 628 | M64: 2087907 | N64: 709 | O64: 849427
C65: 10 ~ 15년 미만 | D65: 9620 | E65: 10406315 | F65: 5903 | G65: 5283474 | H65: 2295 | I65: 2531707 | J65: 409 | K65: 559069 | L65: 482 | M65: 1619462 | N65: 531 | O65: 412602
C66: 15 ~ 20년 미만 | D66: 8881 | E66: 12422458 | F66: 5131 | G66: 6688195 | H66: 2118 | I66: 2622425 | J66: 446 | K66: 994051 | L66: 619 | M66: 1651362 | N66: 567 | O66: 466424
C67: 20 ~ 25년 미만 | D67: 11948 | E67: 15909999 | F67: 6557 | G67: 8041711 | H67: 3417 | I67: 4230506 | J67: 450 | K67: 614647 | L67: 853 | M67: 2449459 | N67: 671 | O67: 573676
C68: 25 ~ 30년 미만 | D68: 9879 | E68: 14012913 | F68: 5920 | G68: 6697172 | H68: 2399 | I68: 3461240 | J68: 303 | K68: 961330 | L68: 563 | M68: 2087620 | N68: 694 | O68: 805551
C69: 30 ~ 35년 미만 | D69: 13973 | E69: 28124644 | F69: 7891 | G69: 12276917 | H69: 3943 | I69: 3917675 | J69: 306 | K69: 832994 | L69: 695 | M69: 2138593 | N69: 1138 | O69: 8958465
C70: 35년 이상 | D70: 61546 | E70: 18100047 | F70: 49686 | G70: 10955963 | H70: 9615 | I70: 4107045 | J70: 544 | K70: 476996 | L70: 807 | M70: 1769350 | N70: 894 | O70: 790694
C71: 기타 | D71: 2300 | E71: 2889631.8 | F71: 1113 | G71: 387530 | H71: 378 | I71: 205303 | J71: 102 | K71: 210725 | L71: 454 | M71: 1729759 | N71: 253 | O71: 356314
B72: 울산광역시 | C72: 합계 | D72: 137220 | E72: 97326388 | F72: 75429 | G72: 45286109 | H72: 31613 | I72: 18801961 | J72: 15475 | K72: 19473019 | L72: 4070 | M72: 7576958 | N72: 10633 | O72: 6188341
C73: 10년 미만 | D73: 16754 | E73: 16000388 | F73: 5930 | G73: 6995969 | H73: 5566 | I73: 3963660 | J73: 2972 | K73: 2942594 | L73: 604 | M73: 1196090 | N73: 1682 | O73: 902075
C74: 10 ~ 15년 미만 | D74: 15963 | E74: 13366509 | F74: 8273 | G74: 6263336 | H74: 3725 | I74: 2389593 | J74: 2573 | K74: 2808513 | L74: 401 | M74: 1106014 | N74: 991 | O74: 799053
C75: 15 ~ 20년 미만 | D75: 13948 | E75: 13990596 | F75: 6351 | G75: 7329611 | H75: 3561 | I75: 2209609 | J75: 2067 | K75: 2634425 | L75: 584 | M75: 1097907 | N75: 1385 | O75: 719044
C76: 20 ~ 25년 미만 | D76: 13255 | E76: 11200899 | F76: 5635 | G76: 5187977 | H76: 3944 | I76: 2455588 | J76: 1641 | K76: 1732673 | L76: 743 | M76: 1306901 | N76: 1292 | O76: 517760
C77: 25 ~ 30년 미만 | D77: 12820 | E77: 10318636 | F77: 5549 | G77: 4919678 | H77: 3807 | I77: 2437898 | J77: 1754 | K77: 1489267 | L77: 470 | M77: 873224 | N77: 1240 | O77: 598569
C78: 30 ~ 35년 미만 | D78: 17881 | E78: 15207799 | F78: 9179 | G78: 7303353 | H78: 4232 | I78: 2431057 | J78: 1899 | K78: 2927550 | L78: 463 | M78: 736964 | N78: 2108 | O78: 1808875
C79: 35년 이상 | D79: 40308 | E79: 16058996 | F79: 29664 | G79: 6923686 | H79: 6341 | I79: 2850880 | J79: 2492 | K79: 4778268 | L79: 513 | M79: 789394 | N79: 1298 | O79: 716769
C80: 기타 | D80: 6291 | E80: 1182563.6 | F80: 4848 | G80: 362499 | H80: 437 | I80: 63676 | J80: 77 | K80: 159730 | L80: 292 | M80: 470463 | N80: 637 | O80: 126196
B81: 세종특별자치시 | C81: 합계 | D81: 36190 | E81: 33362900 | F81: 19523 | G81: 16636636 | H81: 7159 | I81: 6120508 | J81: 2116 | K81: 3192451 | L81: 1053 | M81: 3497656 | N81: 6339 | O81: 3915648
C82: 10년 미만 | D82: 7670 | E82: 14207285 | F82: 3535 | G82: 7656497 | H82: 2283 | I82: 3139341 | J82: 413 | K82: 874222 | L82: 279 | M82: 1505861 | N82: 1160 | O82: 1031366
C83: 10 ~ 15년 미만 | D83: 5097 | E83: 10680251 | F83: 2511 | G83: 5972972 | H83: 1354 | I83: 2001099 | J83: 315 | K83: 433733 | L83: 185 | M83: 1221608 | N83: 732 | O83: 1050839
C84: 15 ~ 20년 미만 | D84: 2746 | E84: 1855418.4 | F84: 851 | G84: 850075 | H84: 582 | I84: 187413 | J84: 279 | K84: 253869 | L84: 109 | M84: 125487 | N84: 925 | O84: 438574
C85: 20 ~ 25년 미만 | D85: 2888 | E85: 1515056.9 | F85: 1123 | G85: 438210 | H85: 594 | I85: 181642 | J85: 260 | K85: 385595 | L85: 110 | M85: 114248 | N85: 801 | O85: 395361
C86: 25 ~ 30년 미만 | D86: 3135 | E86: 1398069.5 | F86: 1320 | G86: 471871 | H86: 581 | I86: 170477 | J86: 290 | K86: 393902 | L86: 93 | M86: 111358 | N86: 851 | O86: 250461
C87: 30 ~ 35년 미만 | D87: 3638 | E87: 1522446.7 | F87: 1707 | G87: 434031 | H87: 541 | I87: 178957 | J87: 210 | K87: 311413 | L87: 110 | M87: 143190 | N87: 1070 | O87: 454856
C88: 35년 이상 | D88: 10028 | E88: 1854442.5 | F88: 7894 | G88: 760881 | H88: 1106 | I88: 236374 | J88: 287 | K88: 446842 | L88: 112 | M88: 160429 | N88: 629 | O88: 249917
C89: 기타 | D89: 988 | E89: 329928.89 | F89: 582 | G89: 52099 | H89: 118 | I89: 25206 | J89: 62 | K89: 92876 | L89: 55 | M89: 115475 | N89: 171 | O89: 44274
B90: 경기도 | C90: 합계 | D90: 1283371 | E90: 1.156679e+09 | F90: 659037 | G90: 519622954 | H90: 308277 | I90: 240952184 | J90: 117311 | K90: 144811914 | L90: 37732 | M90: 88047814 | N90: 161014 | O90: 163244141
C91: 10년 미만 | D91: 270938 | E91: 3.1939018e+08 | F91: 108815 | G91: 133675283 | H91: 90131 | I91: 84472625 | J91: 27280 | K91: 47408967 | L91: 5814 | M91: 16628250 | N91: 38898 | O91: 37205057
C92: 10 ~ 15년 미만 | D92: 151163 | E92: 1.3166021e+08 | F92: 71719 | G92: 57622628 | H92: 38546 | I92: 28952388 | J92: 18429 | K92: 20346425 | L92: 4199 | M92: 10767692 | N92: 18270 | O92: 13971077
C93: 15 ~ 20년 미만 | D93: 136635 | E93: 1.3347888e+08 | F93: 54816 | G93: 63924217 | H93: 40104 | I93: 25439494 | J93: 18398 | K93: 19844512 | L93: 5688 | M93: 13559575 | N93: 17629 | O93: 10711079
C94: 20 ~ 25년 미만 | D94: 143022 | E94: 1.6301104e+08 | F94: 57500 | G94: 77955753 | H94: 38453 | I94: 38987784 | J94: 22100 | K94: 19736566 | L94: 5972 | M94: 15596386 | N94: 18997 | O94: 10734554
C95: 25 ~ 30년 미만 | D95: 126572 | E95: 1.4243455e+08 | F95: 59806 | G95: 64400701 | H95: 27441 | I95: 20521668 | J95: 12451 | K95: 11999294 | L95: 5170 | M95: 12747732 | N95: 21704 | O95: 32765154
C96: 30 ~ 35년 미만 | D96: 133129 | E96: 1.6755979e+08 | F96: 71753 | G96: 78320246 | H96: 27215 | I96: 22794879 | J96: 8948 | K96: 10413648 | L96: 3926 | M96: 7357944 | N96: 21287 | O96: 48673074
C97: 35년 이상 | D97: 236508 | E97: 82989371 | F97: 171979 | G97: 38574449 | H97: 37170 | I97: 17960828 | J97: 7797 | K97: 13251346 | L97: 4225 | M97: 6858361 | N97: 15337 | O97: 6344387
C98: 기타 | D98: 85404 | E98: 16154982 | F98: 62649 | G98: 5149675 | H98: 9217 | I98: 1822518 | J98: 1908 | K98: 1811155 | L98: 2738 | M98: 4531876 | N98: 8892 | O98: 2839758
B99: 강원특별자치도 | C99: 합계 | D99: 446084 | E99: 1.5211616e+08 | F99: 279973 | G99: 67494850 | H99: 82344 | I99: 34968187 | J99: 7667 | K99: 7723558 | L99: 14340 | M99: 17456015 | N99: 61760 | O99: 24473549
C100: 10년 미만 | D100: 73938 | E100: 34173767 | F100: 35294 | G100: 15600998 | H100: 17822 | I100: 7843830 | J100: 1468 | K100: 1778450 | L100: 2112 | M100: 2202948 | N100: 17242 | O100: 6747540
...

Sheet 5-2. 30년 이상 건축물(시군구별) 
A1: 5-2. 2025년 30년 이상 건축물 현황(시군구별)
A2: [기준] 30년 이상 건축물 : 사용승인 30년이상 경과(~1996년)
I3: (단위 : ㎡)
B4: 시도 | C4: 시군구 | D4: 전체 건축물 | G4: 주거용 건축물
D5: 연면적 | E5: 30년 이상 건축물 연면적 | F5: 노후 건축물 비율(%) | G5: 연면적 | H5: 30년 이상 건축물 연면적 | I5: 노후 건축물 비율(%)
B6: 서울 | C6: 종로구 | D6: 19804316 | E6: 9668068.7 | F6: 0.48817988 | G6: 5077498.7 | H6: 1973725.8 | I6: 0.3887201
B7: 서울 | C7: 중구 | D7: 22587906 | E7: 10224210 | F7: 0.45264089 | G7: 4588695.8 | H7: 1181877.1 | I7: 0.25756275
B8: 서울 | C8: 용산구 | D8: 17912038 | E8: 6894168.2 | F8: 0.38489023 | G8: 8958025.7 | H8: 3392700.4 | I8: 0.37873306
B9: 서울 | C9: 성동구 | D9: 20263670 | E9: 6080420.8 | F9: 0.30006513 | G9: 9477345.5 | H9: 3042109.1 | I9: 0.32098746
B10: 서울 | C10: 광진구 | D10: 17727238 | E10: 7302351.2 | F10: 0.41192831 | G10: 10164098 | H10: 4281867.9 | I10: 0.42127376
B11: 서울 | C11: 동대문구 | D11: 19776740 | E11: 6801966.1 | F11: 0.34393768 | G11: 10759010 | H11: 2989449.8 | I11: 0.27785547
B12: 서울 | C12: 중랑구 | D12: 22316118 | E12: 9523241.7 | F12: 0.42674276 | G12: 14307203 | H12: 7323759.1 | I12: 0.51189315
B13: 서울 | C13: 성북구 | D13: 21720138 | E13: 6443628.5 | F13: 0.29666609 | G13: 14344224 | H13: 3535533.4 | I13: 0.24647784
B14: 서울 | C14: 강북구 | D14: 12916188 | E14: 5830424 | F14: 0.45140441 | G14: 8607696.4 | H14: 3706971.9 | I14: 0.43065784
B15: 서울 | C15: 도봉구 | D15: 16028822 | E15: 7882016.9 | F15: 0.49174024 | G15: 10223000 | H15: 5734998.4 | I15: 0.56098977
B16: 서울 | C16: 노원구 | D16: 22834817 | E16: 12377226 | F16: 0.5420331 | G16: 15965473 | H16: 9091319.8 | I16: 0.5694363
B17: 서울 | C17: 은평구 | D17: 20981414 | E17: 6101424.8 | F17: 0.29080141 | G17: 14510297 | H17: 3927502.6 | I17: 0.27067003
... B80: 울산 | C80: 울주군 | D80: 24932800 | E80: 5455318.2 | F80: 0.21880086 | G80: 9185276.4 | H80: 2014404.1 | I80: 0.21930795
B81: 세종 | D81: 33362900 | E81: 3376889.2 | F81: 0.1012169 | G81: 16636636 | H81: 1194912.6 | I81: 0.071824169
B82: 경기 | C82: 수원시 장안구 | D82: 14637303 | E82: 4009583.1 | F82: 0.2739291 | G82: 9358260.7 | H82: 2345909.4 | I82: 0.25067792
B83: 경기 | C83: 수원시 권선구 | D83: 23458815 | E83: 5226852.2 | F83: 0.22280973 | G83: 13480050 | H83: 3589162.3 | I83: 0.26625734
B84: 경기 | C84: 수원시 팔달구 | D84: 14101558 | E84: 4740592.1 | F84: 0.33617507 | G84: 6856360.7 | H84: 2076899.7 | I84: 0.30291575
B85: 경기 | C85: 수원시 영통구 | D85: 28454349 | E85: 3184998.9 | F85: 0.11193364 | G85: 12804637 | H85: 1570837.7 | I85: 0.12267726
B86: 경기 | C86: 성남시 수정구 | D86: 14900328 | E86: 3928282.6 | F86: 0.26363732 | G86: 7143096.2 | H86: 2185298.9 | I86: 0.30593161
B87: 경기 | C87: 성남시 중원구 | D87: 12741271 | E87: 4071373 | F87: 0.31954215 | G87: 5919691.2 | H87: 2340097.3 | I87: 0.39530733
B88: 경기 | C88: 성남시 분당구 | D88: 64144611 | E88: 40168938 | F88: 0.62622467 | G88: 22715094 | H88: 15524348 | I88: 0.68343755
B89: 경기 | C89: 의정부시 | D89: 26312287 | E89: 6852092.8 | F89: 0.26041419 | G89: 15921264 | H89: 3956401.5 | I89: 0.24849796
B90: 경기 | C90: 안양시 만안구 | D90: 13615694 | E90: 4867577.1 | F90: 0.35749755 | G90: 7022285.7 | H90: 2214068.6 | I90: 0.31529173
B91: 경기 | C91: 안양시 동안구 | D91: 22281728 | E91: 8802698.6 | F91: 0.39506356 | G91: 10415489 | H91: 5098414.5 | I91: 0.48950315
B92: 경기 | C92: 부천시 원미구 | D92: 33116222 | E92: 15444525 | F92: 0.46637339 | G92: 13695218 | H92: 6439496.6 | I92: 0.47020037
B93: 경기 | C93: 부천시 소사구 | D93: 12070225 | E93: 3650439.3 | F93: 0.30243341 | G93: 7842400.8 | H93: 2432318.9 | I93: 0.31014978
... B257: 제주 | C257: 서귀포시 | D257: 20986905 | E257: 4843903.9 | F257: 0.23080601 | G257: 7733403 | H257: 2183293 | I257: 0.28231983

Sheet 6. 말소
A1: =목차!B9 -> 6. 2025년 말소 건축물 용도별 현황
A2: [기준] 기타 : 사용승일일(항목) 값 누락 또는 오기
A3: [기준] 기간산출방식 : 말소년도 - 사용승인년도
A4: [기준] 10년미만(2017년-2025년), 10년이상-15년미만(2012년-2016년), 15년이상-20년미만(2007년-2011년)
A5: 20년이상-25년미만(2002년-2006년), 25년이상-30년미만(1997년-2001년), 30년이상-35년미만(1992년-1996년), 35년이상(~1991년)
O6: (단위 : 동, ㎡)
B7: 구분 | D7: 합계 | F7: 주거용 | H7: 상업용 | J7: 공업용 | L7: 교육 및 사회용 | N7: 기타
D8: 동수 | E8: 연면적 | F8: 동수 | G8: 연면적 | H8: 동수 | I8: 연면적 | J8: 동수 | K8: 연면적 | L8: 동수 | M8: 연면적 | N8: 동수 | O8: 연면적
B9: 전체 | C9: 합계 | D9: 44164 | E9: 9362361.8 | F9: 30427 | G9: 4172448 | H9: 7600 | I9: 2581159 | J9: 921 | K9: 748590 | L9: 654 | M9: 519353 | N9: 4562 | O9: 1340812
C10: 10년미만 | D10: 1648 | E10: 337950.96 | F10: 383 | G10: 53446 | H10: 675 | I10: 105934 | J10: 53 | K10: 32164 | L10: 20 | M10: 48851 | N10: 517 | O10: 97555
C11: 10 ~ 15년 미만 | D11: 1251 | E11: 399875.58 | F11: 386 | G11: 62485 | H11: 427 | I11: 111363 | J11: 40 | K11: 117692 | L11: 20 | M11: 6294 | N11: 378 | O11: 102042
C12: 15 ~ 20년 미만 | D12: 1693 | E12: 478678.49 | F12: 469 | G12: 76998 | H12: 610 | I12: 163674 | J12: 66 | K12: 86194 | L12: 52 | M12: 49545 | N12: 496 | O12: 102269
C13: 20 ~ 25년 미만 | D13: 2470 | E13: 917635.03 | F13: 1020 | G13: 341066 | H13: 802 | I13: 338428 | J13: 89 | K13: 43052 | L13: 89 | M13: 44674 | N13: 470 | O13: 150414
C14: 25 ~ 30년 미만 | D14: 2861 | E14: 1092721.7 | F14: 1197 | G14: 286587 | H14: 808 | I14: 390039 | J14: 105 | K14: 70371 | L14: 126 | M14: 96171 | N14: 625 | O14: 249554
C15: 30 ~ 35년 미만 | D15: 4370 | E15: 1388765.1 | F15: 2547 | G15: 642568 | H15: 961 | I15: 365617 | J15: 119 | K15: 101070 | L15: 66 | M15: 42050 | N15: 677 | O15: 237461
C16: 35년 이상 | D16: 18494 | E16: 3745877.3 | F16: 14866 | G16: 2148595 | H16: 2405 | I16: 974162 | J16: 324 | K16: 257965 | L16: 182 | M16: 129191 | N16: 717 | O16: 235963
C17: 기타 | D17: 11377 | E17: 1000857.7 | F17: 9559 | G17: 560703 | H17: 912 | I17: 131942 | J17: 125 | K17: 40082 | L17: 99 | M17: 102578 | N17: 682 | O17: 165553
B18: 서울특별시 | C18: 합계 | D18: 4713 | E18: 1749320.8 | F18: 3661 | G18: 902340 | H18: 881 | I18: 666330 | J18: 48 | K18: 35983 | L18: 71 | M18: 76393 | N18: 52 | O18: 68275
C19: 10년미만 | D19: 30 | E19: 9888.18 | F19: 17 | G19: 4867 | H19: 12 | I19: 4817 | J19: 0 | K19: 0 | L19: 0 | M19: 0 | N19: 1 | O19: 204
C20: 10 ~ 15년 미만 | D20: 31 | E20: 13800.164 | F20: 14 | G20: 5830 | H20: 14 | I20: 5752 | J20: 1 | K20: 999 | L20: 2 | M20: 1220 | N20: 0 | O20: 0
C21: 15 ~ 20년 미만 | D21: 52 | E21: 31641.66 | F21: 19 | G21: 6208 | H21: 23 | I21: 10557 | J21: 2 | K21: 6461 | L21: 7 | M21: 8386 | N21: 1 | O21: 30
C22: 20 ~ 25년 미만 | D22: 194 | E22: 150111.27 | F22: 129 | G22: 64484 | H22: 61 | I22: 82645 | J22: 1 | K22: 30 | L22: 1 | M22: 829 | N22: 2 | O22: 2123
C23: 25 ~ 30년 미만 | D23: 235 | E23: 148047.18 | F23: 151 | G23: 63994 | H23: 65 | I23: 64501 | J23: 0 | K23: 0 | L23: 14 | M23: 12081 | N23: 5 | O23: 7471
C24: 30 ~ 35년 미만 | D24: 767 | E24: 287954.58 | F24: 645 | G24: 203219 | H24: 112 | I24: 67382 | J24: 1 | K24: 671 | L24: 6 | M24: 11578 | N24: 3 | O24: 5104
C25: 35년 이상 | D25: 2994 | E25: 1010505.8 | F25: 2364 | G25: 534337 | H25: 541 | I25: 402384 | J25: 35 | K25: 21048 | L25: 34 | M25: 27816 | N25: 20 | O25: 24920
C26: 기타 | D26: 410 | E26: 97371.98 | F26: 322 | G26: 19401 | H26: 53 | I26: 28292 | J26: 8 | K26: 6774 | L26: 7 | M26: 14482 | N26: 20 | O26: 28422
B27: 부산광역시 | C27: 합계 | D27: 2237 | E27: 578884.04 | F27: 1716 | G27: 199574 | H27: 382 | I27: 292611 | J27: 47 | K27: 18015 | L27: 20 | M27: 25800 | N27: 72 | O27: 42884
C28: 10년미만 | D28: 16 | E28: 3898.485 | F28: 0 | G28: 0 | H28: 15 | I28: 3799 | J28: 0 | K28: 0 | L28: 0 | M28: 0 | N28: 1 | O28: 99
C29: 10 ~ 15년 미만 | D29: 28 | E29: 7055.429 | F29: 9 | G29: 2570 | H29: 15 | I29: 3826 | J29: 0 | K29: 0 | L29: 1 | M29: 289 | N29: 3 | O29: 370
C30: 15 ~ 20년 미만 | D30: 21 | E30: 10095.3 | F30: 2 | G30: 622 | H30: 14 | I30: 7299 | J30: 4 | K30: 1290 | L30: 0 | M30: 0 | N30: 1 | O30: 883
C31: 20 ~ 25년 미만 | D31: 79 | E31: 86549.73 | F31: 30 | G31: 15889 | H31: 35 | I31: 66244 | J31: 4 | K31: 2326 | L31: 2 | M31: 692 | N31: 8 | O31: 1399
C32: 25 ~ 30년 미만 | D32: 77 | E32: 151205.85 | F32: 40 | G32: 7885 | H32: 29 | I32: 113149 | J32: 3 | K32: 2619 | L32: 2 | M32: 5770 | N32: 3 | O32: 21783
C33: 30 ~ 35년 미만 | D33: 208 | E33: 59335.832 | F33: 143 | G33: 30138 | H33: 51 | I33: 22931 | J33: 7 | K33: 1371 | L33: 2 | M33: 1148 | N33: 5 | O33: 3748
C34: 35년 이상 | D34: 1586 | E34: 242975.62 | F34: 1319 | G34: 131284 | H34: 199 | I34: 71059 | J34: 26 | K34: 10104 | L34: 13 | M34: 17901 | N34: 29 | O34: 12627
C35: 기타 | D35: 222 | E35: 17767.78 | F35: 173 | G35: 11186 | H35: 24 | I35: 4302 | J35: 3 | K35: 305 | L35: 0 | M35: 0 | N35: 22 | O35: 1976
B36: 대구광역시 | C36: 합계 | D36: 1376 | E36: 274506.95 | F36: 984 | G36: 115390 | H36: 261 | I36: 77286 | J36: 62 | K36: 53552 | L36: 9 | M36: 4631 | N36: 60 | O36: 23648
C37: 10년미만 | D37: 31 | E37: 11298.556 | F37: 9 | G37: 3559 | H37: 16 | I37: 3619 | J37: 5 | K37: 3793 | L37: 0 | M37: 0 | N37: 1 | O37: 327
C38: 10 ~ 15년 미만 | D38: 34 | E38: 7314.57 | F38: 10 | G38: 3035 | H38: 12 | I38: 3025 | J38: 4 | K38: 854 | L38: 1 | M38: 30 | N38: 7 | O38: 370
C39: 15 ~ 20년 미만 | D39: 19 | E39: 6897.34 | F39: 2 | G39: 334 | H39: 11 | I39: 4247 | J39: 2 | K39: 675 | L39: 0 | M39: 1244 | N39: 4 | O39: 398
C40: 20 ~ 25년 미만 | D40: 47 | E40: 13212.6 | F40: 28 | G40: 9320 | H40: 11 | I40: 2341 | J40: 3 | K40: 753 | L40: 0 | M40: 0 | N40: 5 | O40: 798
C41: 25 ~ 30년 미만 | D41: 54 | E41: 22451.425 | F41: 27 | G41: 4286 | H41: 16 | I41: 11848 | J41: 1 | K41: 305 | L41: 3 | M41: 1061 | N41: 7 | O41: 4952
C42: 30 ~ 35년 미만 | D42: 141 | E42: 58289.129 | F42: 82 | G42: 15460 | H42: 46 | I42: 21375 | J42: 8 | K42: 18160 | L42: 1 | M42: 1771 | N42: 4 | O42: 1524
C43: 35년 이상 | D43: 805 | E43: 137589.55 | F43: 614 | G43: 67572 | H43: 130 | I43: 29373 | J43: 37 | K43: 28870 | L43: 3 | M43: 435 | N43: 21 | O43: 11340
C44: 기타 | D44: 245 | E44: 17453.785 | F44: 212 | G44: 11824 | H44: 19 | I44: 1458 | J44: 2 | K44: 142 | L44: 1 | M44: 90 | N44: 11 | O44: 3939
B45: 인천광역시 | C45: 합계 | D45: 2804 | E45: 723317.61 | F45: 2265 | G45: 436663 | H45: 349 | I45: 143118 | J45: 90 | K45: 82646 | L45: 35 | M45: 28275 | N45: 65 | O45: 32616
C46: 10년미만 | D46: 20 | E46: 8733.12 | F46: 5 | G46: 418 | H46: 8 | I46: 1980 | J46: 2 | K46: 2333 | L46: 0 | M46: 0 | N46: 5 | O46: 4003
C47: 10 ~ 15년 미만 | D47: 34 | E47: 10110.025 | F47: 9 | G47: 728 | H47: 18 | I47: 6207 | J47: 2 | K47: 1873 | L47: 1 | M47: 669 | N47: 4 | O47: 634
C48: 15 ~ 20년 미만 | D48: 63 | E48: 29846.405 | F48: 27 | G48: 6497 | H48: 21 | I48: 7182 | J48: 6 | K48: 9152 | L48: 3 | M48: 6258 | N48: 6 | O48: 757
C49: 20 ~ 25년 미만 | D49: 207 | E49: 115674.16 | F49: 151 | G49: 71915 | H49: 27 | I49: 15940 | J49: 8 | K49: 12292 | L49: 8 | M49: 5354 | N49: 13 | O49: 10173
C50: 25 ~ 30년 미만 | D50: 134 | E50: 60926.955 | F50: 77 | G50: 24609 | H50: 37 | I50: 19139 | J50: 9 | K50: 5737 | L50: 4 | M50: 7515 | N50: 7 | O50: 3927
C51: 30 ~ 35년 미만 | D51: 336 | E51: 118295.58 | F51: 213 | G51: 62213 | H51: 91 | I51: 37089 | J51: 14 | K51: 10281 | L51: 6 | M51: 4101 | N51: 12 | O51: 4611
C52: 35년 이상 | D52: 1612 | E52: 346239.57 | F52: 1430 | G52: 246908 | H52: 112 | I52: 48688 | J52: 43 | K52: 38964 | L52: 13 | M52: 4378 | N52: 14 | O52: 7303
C53: 기타 | D53: 398 | E53: 33491.789 | F53: 353 | G53: 23374 | H53: 35 | I53: 6893 | J53: 6 | K53: 2014 | L53: 0 | M53: 0 | N53: 4 | O53: 1210
B54: 광주광역시 | C54: 합계 | D54: 777 | E54: 137495.26 | F54: 574 | G54: 59349 | H54: 160 | I54: 42163 | J54: 4 | K54: 8491 | L54: 13 | M54: 22643 | N54: 26 | O54: 4849
C55: 10년미만 | D55: 6 | E55: 9940.26 | F55: 1 | G55: 67 | H55: 2 | I55: 170 | J55: 0 | K55: 0 | L55: 2 | M55: 9416 | N55: 1 | O55: 288
C56: 10 ~ 15년 미만 | D56: 29 | E56: 6338.61 | F56: 6 | G56: 303 | H56: 18 | I56: 4800 | J56: 1 | K56: 927 | L56: 2 | M56: 84 | N56: 2 | O56: 226
C57: 15 ~ 20년 미만 | D57: 29 | E57: 12737.89 | F57: 7 | G57: 712 | H57: 18 | I57: 6460 | J57: 0 | K57: 0 | L57: 1 | M57: 4900 | N57: 3 | O57: 666
C58: 20 ~ 25년 미만 | D58: 27 | E58: 17383.98 | F58: 7 | G58: 4908 | H58: 12 | I58: 8590 | J58: 0 | K58: 0 | L58: 1 | M58: 2296 | N58: 7 | O58: 1590
C59: 25 ~ 30년 미만 | D59: 33 | E59: 14372.7 | F59: 13 | G59: 1589 | H59: 18 | I59: 5668 | J59: 1 | K59: 7036 | L59: 0 | M59: 0 | N59: 1 | O59: 79
C60: 30 ~ 35년 미만 | D60: 38 | E60: 8978.43 | F60: 17 | G60: 2254 | H60: 19 | I60: 5944 | J60: 0 | K60: 0 | L60: 0 | M60: 0 | N60: 2 | O60: 781
C61: 35년 이상 | D61: 285 | E61: 44990.756 | F61: 236 | G61: 35619 | H61: 39 | I61: 7124 | J61: 1 | K61: 465 | L61: 3 | M61: 849 | N61: 6 | O61: 933
C62: 기타 | D62: 330 | E62: 22752.63 | F62: 287 | G62: 13898 | H62: 34 | I62: 3407 | J62: 1 | K62: 63 | L62: 4 | M62: 5099 | N62: 4 | O62: 286
B63: 대전광역시 | C63: 합계 | D63: 841 | E63: 197986.16 | F63: 615 | G63: 81568 | H63: 187 | I63: 90356 | J63: 6 | K63: 11847 | L63: 8 | M63: 6211 | N63: 25 | O63: 8005
C64: 10년미만 | D64: 12 | E64: 1499.88 | F64: 4 | G64: 936 | H64: 7 | I64: 520 | J64: 0 | K64: 0 | L64: 0 | M64: 0 | N64: 1 | O64: 45
C65: 10 ~ 15년 미만 | D65: 12 | E65: 3295.95 | F65: 7 | G65: 2354 | H65: 4 | I65: 908 | J65: 0 | K65: 0 | L65: 0 | M65: 0 | N65: 1 | O65: 34
C66: 15 ~ 20년 미만 | D66: 28 | E66: 7258.69 | F66: 9 | G66: 2490 | H66: 13 | I66: 3494 | J66: 0 | K66: 0 | L66: 1 | M66: 981 | N66: 5 | O66: 295
C67: 20 ~ 25년 미만 | D67: 93 | E67: 22839.65 | F67: 62 | G67: 9558 | H67: 29 | I67: 11731 | J67: 0 | K67: 0 | L67: 1 | M67: 1302 | N67: 1 | O67: 248
C68: 25 ~ 30년 미만 | D68: 49 | E68: 15181.53 | F68: 28 | G68: 7211 | H68: 18 | I68: 6107 | J68: 0 | K68: 0 | L68: 0 | M68: 0 | N68: 3 | O68: 1864
C69: 30 ~ 35년 미만 | D69: 56 | E69: 47801.402 | F69: 27 | G69: 7615 | H69: 26 | I69: 38281 | J69: 0 | K69: 0 | L69: 1 | M69: 1312 | N69: 2 | O69: 594
C70: 35년 이상 | D70: 473 | E70: 88985.338 | F70: 383 | G70: 43775 | H70: 75 | I70: 27097 | J70: 5 | K70: 11775 | L70: 4 | M70: 2467 | N70: 6 | O70: 3871
C71: 기타 | D71: 118 | E71: 11123.72 | F71: 95 | G71: 7631 | H71: 15 | I71: 2218 | J71: 1 | K71: 71 | L71: 1 | M71: 149 | N71: 6 | O71: 1055
B72: 울산광역시 | C72: 합계 | D72: 705 | E72: 152865.34 | F72: 516 | G72: 73423 | H72: 114 | I72: 45695 | J72: 13 | K72: 10766 | L72: 14 | M72: 12310 | N72: 48 | O72: 10672
C73: 10년미만 | D73: 14 | E73: 5695.29 | F73: 6 | G73: 3273 | H73: 6 | I73: 1552 | J73: 1 | K73: 80 | L73: 0 | M73: 0 | N73: 1 | O73: 791
C74: 10 ~ 15년 미만 | D74: 29 | E74: 11288.554 | F74: 23 | G74: 8439 | H74: 3 | I74: 1184 | J74: 0 | K74: 0 | L74: 1 | M74: 463 | N74: 2 | O74: 1202
C75: 15 ~ 20년 미만 | D75: 27 | E75: 11521.1 | F75: 5 | G75: 1243 | H75: 12 | I75: 2923 | J75: 3 | K75: 5943 | L75: 3 | M75: 830 | N75: 4 | O75: 582
C76: 20 ~ 25년 미만 | D76: 34 | E76: 9996.43 | F76: 15 | G76: 2868 | H76: 11 | I76: 1622 | J76: 4 | K76: 3473 | L76: 0 | M76: 0 | N76: 4 | O76: 2033
C77: 25 ~ 30년 미만 | D77: 53 | E77: 16868.94 | F77: 19 | G77: 2847 | H77: 18 | I77: 7671 | J77: 2 | K77: 694 | L77: 4 | M77: 3255 | N77: 10 | O77: 2404
C78: 30 ~ 35년 미만 | D78: 70 | E78: 14405 | F78: 35 | G78: 6362 | H78: 19 | I78: 5140 | J78: 2 | K78: 516 | L78: 0 | M78: 0 | N78: 14 | O78: 2387
C79: 35년 이상 | D79: 406 | E79: 69363.08 | F79: 353 | G79: 43975 | H79: 42 | I79: 24641 | J79: 1 | K79: 59 | L79: 0 | M79: 0 | N79: 10 | O79: 687
C80: 기타 | D80: 72 | E80: 13726.95 | F80: 60 | G80: 4417 | H80: 3 | I80: 963 | J80: 0 | K80: 0 | L80: 6 | M80: 7762 | N80: 3 | O80: 585
B81: 세종특별자치시 | C81: 합계 | D81: 144 | E81: 22448.62 | F81: 92 | G81: 7367 | H81: 20 | I81: 2034 | J81: 2 | K81: 1720 | L81: 1 | M81: 5 | N81: 29 | O81: 11324
C82: 10년미만 | D82: 8 | E82: 806 | F82: 0 | G82: 0 | H82: 7 | I82: 708 | J82: 0 | K82: 0 | L82: 0 | M82: 0 | N82: 1 | O82: 98
C83: 10 ~ 15년 미만 | D83: 9 | E83: 3992.49 | F83: 1 | G83: 36 | H83: 3 | I83: 180 | J83: 0 | K83: 0 | L83: 0 | M83: 0 | N83: 5 | O83: 3776
C84: 15 ~ 20년 미만 | D84: 7 | E84: 5442.2 | F84: 0 | G84: 0 | H84: 0 | I84: 0 | J84: 2 | K84: 1720 | L84: 1 | M84: 5 | N84: 4 | O84: 3718
C85: 20 ~ 25년 미만 | D85: 12 | E85: 2200.37 | F85: 4 | G85: 772 | H85: 2 | I85: 257 | J85: 0 | K85: 0 | L85: 0 | M85: 0 | N85: 6 | O85: 1172
C86: 25 ~ 30년 미만 | D86: 11 | E86: 1010.82 | F86: 5 | G86: 493 | H86: 0 | I86: 30 | J86: 0 | K86: 0 | L86: 0 | M86: 0 | N86: 6 | O86: 487
C87: 30 ~ 35년 미만 | D87: 6 | E87: 1155.7 | F87: 3 | G87: 468 | H87: 2 | I87: 533 | J87: 0 | K87: 0 | L87: 0 | M87: 0 | N87: 1 | O87: 155
C88: 35년 이상 | D88: 28 | E88: 3369.56 | F88: 19 | G88: 1651 | H88: 4 | I88: 251 | J88: 0 | K88: 0 | L88: 0 | M88: 0 | N88: 5 | O88: 1467
C89: 기타 | D89: 63 | E89: 4471.48 | F89: 60 | G89: 3946 | H89: 2 | I89: 75 | J89: 0 | K89: 0 | L89: 0 | M89: 0 | N89: 1 | O89: 451
B90: 경기도 | C90: 합계 | D90: 9298 | E90: 2737282.7 | F90: 5394 | G90: 1211079 | H90: 2068 | I90: 632844 | J90: 311 | K90: 334720 | L90: 133 | M90: 93213 | N90: 1392 | O90: 465427
C91: 10년미만 | D91: 553 | E91: 104777.31 | F91: 91 | G91: 15622 | H91: 248 | I91: 50538 | J91: 25 | K91: 9112 | L91: 3 | M91: 1363 | N91: 186 | O91: 28142
C92: 10 ~ 15년 미만 | D92: 417 | E92: 225361.76 | F92: 86 | G92: 15720 | H92: 126 | I92: 45974 | J92: 18 | K92: 106150 | L92: 3 | M92: 2128 | N92: 184 | O92: 55389
C93: 15 ~ 20년 미만 | D93: 646 | E93: 207278.33 | F93: 180 | G93: 36307 | H93: 278 | I93: 85181 | J93: 28 | K93: 39564 | L93: 11 | M93: 7828 | N93: 149 | O93: 38398
C94: 20 ~ 25년 미만 | D94: 905 | E94: 333110.78 | F94: 318 | G94: 131393 | H94: 299 | I94: 84452 | J94: 42 | K94: 12395 | L94: 18 | M94: 15772 | N94: 228 | O94: 89098
C95: 25 ~ 30년 미만 | D95: 925 | E95: 346777.11 | F95: 386 | G95: 125604 | H95: 254 | I95: 81001 | J95: 53 | K95: 32173 | L95: 28 | M95: 19348 | N95: 204 | O95: 88650
C96: 30 ~ 35년 미만 | D96: 1308 | E96: 462853.22 | F96: 827 | G96: 243529 | H96: 224 | I96: 90678 | J96: 42 | K96: 37301 | L96: 16 | M96: 9958 | N96: 199 | O96: 81388
C97: 35년 이상 | D97: 3301 | E97: 911218.21 | F97: 2606 | G97: 575654 | H97: 462 | I97: 172084 | J97: 77 | K97: 84514 | L97: 33 | M97: 25656 | N97: 123 | O97: 53311
C98: 기타 | D98: 1243 | E98: 145905.94 | F98: 900 | G98: 67250 | H98: 177 | I98: 22936 | J98: 26 | K98: 13511 | L98: 21 | M98: 11159 | N98: 119 | O98: 31050
B99: 강원특별자치도 | C99: 합계 | D99: 2010 | E99: 247980.36 | F99: 1320 | G99: 91872 | H99: 413 | I99: 77728 | J99: 20 | K99: 9286 | L99: 36 | M99: 15241 | N99: 221 | O99: 53854
C100: 10년미만 | D100: 134 | E100: 16127.61 | F100: 28 | G100: 2290 | H100: 69 | I100: 3459 | J100: 2 | K100: 3697 | L100: 0 | M100: 27 | N100: 35 | O100: 6655
...

Sheet 7-1. 층수별
A1: 7-1. 2025년 층수별 현황
A2: [기준] 기타 : 지상층수(항목) 값 누락 또는 오기
L3: (단위 : 동)
B4: 시도명 | C4: 합계 | D4: 1층 | E4: 2~4층 | F4: 5층 | G4: 6~10층 | H4: 11~20층 | I4: 21~30층 | J4: 31 ~ 49층 | K4: 50층 이상 | L4: 기타
B5: 합계 | C5: =SUM(C6:C22) -> 7438642 | D5: =SUM(D6:D22) -> 4512243 | E5: =SUM(E6:E22) -> 2475889 | F5: =SUM(F6:F22) -> 187643 | G5: =SUM(G6:G22) -> 102423 | H5: =SUM(H6:H22) -> 103312 | I5: =SUM(I6:I22) -> 33490 | J5: =SUM(J6:J22) -> 5151 | ... L5: =SUM(L6:L22) -> 18352
B6: 서울특별시 | C6: 574058 | D6: 98594 | E6: 345769 | F6: 67451 | G6: 38072 | H6: 18405 | I6: 4222 | J6: 610 | K6: 25 | L6: 910
B7: 부산광역시 | C7: 345978 | D7: 134946 | E7: 176226 | F7: 14256 | G7: 9802 | H7: 5980 | I7: 3178 | J7: 743 | K7: 42 | L7: 805
B8: 대구광역시 | C8: 256032 | D8: 95166 | E8: 143740 | F8: 6690 | G8: 2928 | H8: 4761 | I8: 1641 | J8: 414 | K8: 17 | L8: 675
B9: 인천광역시 | C9: 220159 | D9: 84865 | E9: 107971 | F9: 13083 | G9: 5406 | H9: 5306 | I9: 2300 | J9: 783 | K9: 24 | L9: 421
B10: 광주광역시 | C10: 135977 | D10: 52254 | E10: 72791 | F10: 3619 | G10: 1878 | H10: 4022 | I10: 866 | J10: 123 | K10: 0 | L10: 424
B11: 대전광역시 | C11: 130126 | D11: 45621 | E11: 73324 | F11: 4403 | G11: 2371 | H11: 3022 | I11: 990 | J11: 139 | K11: 8 | L11: 248
B12: 울산광역시 | C12: 137220 | D12: 65517 | E12: 62972 | F12: 3036 | G12: 2262 | H12: 2201 | I12: 751 | J12: 158 | K12: 2 | L12: 321
B13: 세종특별자치시 | C13: 36190 | D13: 24489 | E13: 8931 | F13: 335 | G13: 568 | H13: 1027 | I13: 655 | J13: 53 | K13: 0 | L13: 132
B14: 경기도 | C14: 1283371 | D14: 648683 | E14: 529376 | F14: 40606 | G14: 18760 | H14: 29440 | I14: 11024 | J14: 1261 | K14: 19 | L14: 4202
B15: 강원특별자치도 | C15: 446084 | D15: 320659 | E15: 114798 | F15: 3848 | G15: 1988 | H15: 3455 | I15: 520 | J15: 83 | K15: 0 | L15: 733
B16: 충청북도 | C16: 411404 | D16: 296630 | E16: 104630 | F16: 3448 | G16: 1883 | H16: 3144 | I16: 1040 | J16: 83 | K16: 0 | L16: 546
B17: 충청남도 | C17: 572884 | D17: 440142 | E17: 116653 | F17: 4520 | G17: 2512 | H17: 4390 | I17: 1462 | J17: 154 | K17: 1 | L17: 3050
... B22: 제주특별자치도 | C22: 193269 | D22: 124321 | E22: 63383 | F22: 2238 | G22: 2207 | H22: 542 | I22: 1 | J22: 1 | K22: 0 | L22: 576

Sheet 7-2. 면적별
A1: 7-2. 2025년 면적별 현황
A2: [기준] 1백㎡미만 : 층면적합(항목) 값 누락 포함
K3: (단위 : 동)
B4: 시도명 | C4: 합계 | D4: 1백㎡미만 | E4: 1백㎡~2백㎡미만 | F4: 2백㎡~3백㎡미만 | G4: 3백㎡~5백㎡미만 | H4: 5백㎡~1천㎡미만 | I4: 1천㎡~3천㎡미만 | J4: 3천㎡~1만㎡미만 | K4: 1만㎡이상
B5: 합계 | C5: =SUM(D5:K5) -> 7438642 | D5: =SUM(D6:D22) -> 3221834 | E5: =SUM(E6:E22) -> 1677787 | F5: =SUM(F6:F22) -> 552022 | G5: =SUM(G6:G22) -> 818654 | H5: =SUM(H6:H22) -> 606606 | I5: =SUM(I6:I22) -> 308442 | J5: =SUM(J6:J22) -> 179126 | K5: =SUM(K6:K22) -> 74171
B6: 서울특별시 | C6: 574058 | D6: 99698 | E6: 114659 | F6: 88331 | G6: 102686 | H6: 96736 | I6: 37249 | J6: 23200 | K6: 11499
B7: 부산광역시 | C7: 345978 | D7: 140156 | E7: 89161 | F7: 22643 | G7: 34063 | H7: 27930 | I7: 16409 | J7: 10014 | K7: 5602
B8: 대구광역시 | C8: 256032 | D8: 76810 | E8: 69767 | F8: 23484 | G8: 39980 | H8: 22906 | I8: 11488 | J8: 7812 | K8: 3785
B9: 인천광역시 | C9: 220159 | D9: 64526 | E9: 43084 | F9: 19791 | G9: 34369 | H9: 29624 | I9: 13576 | J9: 10129 | K9: 5060
B10: 광주광역시 | C10: 135977 | D10: 43141 | E10: 39459 | F10: 9128 | G10: 18293 | H10: 11233 | I10: 6678 | J10: 5709 | K10: 2336
B11: 대전광역시 | C11: 130126 | D11: 36633 | E11: 32081 | F11: 10144 | G11: 23462 | H11: 14348 | I11: 6060 | J11: 4777 | K11: 2621
B12: 울산광역시 | C12: 137220 | D12: 46609 | E12: 32680 | F12: 11612 | G12: 21034 | H12: 12271 | I12: 6840 | J12: 4290 | K12: 1884
B13: 세종특별자치시 | C13: 36190 | D13: 15218 | E13: 8738 | F13: 2553 | G13: 3327 | H13: 2223 | I13: 1366 | J13: 2048 | K13: 717
B14: 경기도 | C14: 1283371 | D14: 322912 | E14: 344681 | F14: 122721 | G14: 199037 | H14: 157300 | I14: 65940 | J14: 49074 | K14: 21706
B15: 강원특별자치도 | C15: 446084 | D15: 243529 | E15: 99387 | F15: 26835 | G15: 34433 | H15: 21349 | I15: 12606 | J15: 6187 | K15: 1758
B16: 충청북도 | C16: 411404 | D16: 199197 | E16: 98704 | F16: 26005 | G16: 38260 | H16: 25511 | I16: 14402 | J16: 7106 | K16: 2219
B17: 충청남도 | C17: 572884 | D17: 294802 | E17: 127975 | F17: 33135 | G17: 46863 | H17: 36577 | I17: 21002 | J17: 9500 | K17: 3030
... B22: 제주특별자치도 | C22: 193269 | D22: 103048 | E22: 42649 | F22: 11780 | G22: 15222 | H22: 11771 | I22: 6094 | J22: 2389 | K22: 316

Sheet 7-3. 소유주체별
A1: 7-3. 2025년 소유주체별 현황
A2: [기준] 기타 : 소유구분(항목) 값 누락 및 상세분류 미등록 자료
L3: (단위 : 동, ㎡)
B4: 시도 | C4: 합계 | E4: 개인 | G4: 법인 | I4: 국공유 | K4: 기타
C5: 동 수 | D5: 연면적 | E5: 동 수 | F5: 연면적 | G5: 동 수 | H5: 연면적 | I5: 동 수 | J5: 연면적 | K5: 동 수 | L5: 연면적
B6: 전국 | C6: 7438642 | D6: 4.3750305e+09 | E6: 5716548.5 | F6: 1.1370773e+09 | G6: 605427.29 | H6: 8.1263499e+08 | I6: 249407.35 | J6: 2.4910522e+08 | K6: 867258.88 | L6: 2.176213e+09
B7: 서울특별시 | C7: 574058 | D7: 6.0050661e+08 | E7: 370335.9 | F7: 1.1292357e+08 | G7: 32888.33 | H7: 84396959 | I7: 12502.74 | J7: 27117907 | K7: 158331.03 | L7: 3.7606817e+08
B8: 부산광역시 | C8: 345977.99 | D8: 2.5729355e+08 | E8: 261727.37 | F8: 48777097 | G8: 27525.22 | H8: 41290896 | I8: 9270.75 | J8: 13179298 | K8: 47454.65 | L8: 1.5404626e+08
B9: 대구광역시 | C9: 256032 | D9: 1.9076501e+08 | E9: 204041.12 | F9: 50363476 | G9: 17527.43 | H9: 27298777 | I9: 5733.28 | J9: 9767516.8 | K9: 28730.17 | L9: 1.0333524e+08
B10: 인천광역시 | C10: 220159 | D10: 2.401257e+08 | E10: 138976.07 | F10: 35905532 | G10: 21559.26 | H10: 42224888 | I10: 9034.36 | J10: 11568784 | K10: 50589.31 | L10: 1.5042649e+08
B11: 광주광역시 | C11: 135976.99 | D11: 1.1313951e+08 | E11: 104123.89 | F11: 23581627 | G11: 12947.78 | H11: 19345556 | I11: 3371.44 | J11: 7629835.2 | K11: 15533.88 | L11: 62582487
B12: 대전광역시 | C12: 130126 | D12: 1.1943018e+08 | E12: 99172.55 | F12: 26283354 | G12: 10613.39 | H12: 20369630 | I12: 4387.29 | J12: 8160084.9 | K12: 15952.77 | L12: 64617110
B13: 울산광역시 | C13: 137220 | D13: 97326388 | E13: 97610.08 | F13: 23044746 | G13: 23140.66 | H13: 27918893 | I13: 3770.84 | J13: 5008755.1 | K13: 12698.42 | L13: 41353993
B14: 세종특별자치시 | C14: 36190 | D14: 33362900 | E14: 25566.85 | F14: 4541172.7 | G14: 3572.49 | H14: 5316341.3 | I14: 2112.2 | J14: 3957364.9 | K14: 4938.46 | L14: 19548021
B15: 경기도 | C15: 1283371 | D15: 1.156679e+09 | E15: 886746.87 | F15: 2.3305336e+08 | G15: 145543.45 | H15: 2.0522881e+08 | I15: 46195.36 | J15: 53883880 | K15: 204885.33 | L15: 6.6451296e+08
B16: 강원특별자치도 | C16: 446084 | D16: 1.5211616e+08 | E16: 360177.84 | F16: 55138628 | G16: 26630.56 | H16: 22005705 | I16: 29960.5 | J16: 19012675 | K16: 29315.1 | L16: 55959151
B17: 충청북도 | C17: 411404 | D17: 1.692326e+08 | E17: 330166.7 | F17: 58944268 | G17: 37438.05 | H17: 43032724 | I17: 14174.33 | J17: 11592893 | K17: 29624.92 | L17: 55662715
... B23: 제주특별자치도 | C23: 193269.01 | D23: 61183279 | E23: 154435.93 | F23: 23126149 | G23: 13215.56 | H23: 9521351.8 | I23: 4897.78 | J23: 3897536 | K23: 20719.74 | L23: 24638242

Sheet 8-1. 1인당 건축물 현황(시도별)
A1: 8-1. 2025년 1인당 건축물 현황(시도별)
A2: [기준] 인구수 : 행정안전부 2025년 12월 주민등록 인구 및 세대현황 참조(https://jumin.mois.go.kr)
A3: [기준] 기타 : 공동주택의 부대/복리시설, 공공업무시설, 창고시설, 동식물관련시설, 교정시설, 국방·군사시설, 방송통신시설, 발전시설, 가설건축물, 자원순환관련 시설 등, 용도값 오기 및 누락자료
O4: (단위 : ㎡)
B5: 시도 | C5: 인구수 | D5: 합계 | F5: 주거용 | H5: 상업용 | J5: 공업용 | L5: 교육 및 사회용 | N5: 기타
D6: 연면적 | E6: 1인당 면적 | F6: 연면적 | G6: 1인당 면적 | H6: 연면적 | I6: 1인당 면적 | J6: 연면적 | K6: 1인당 면적 | L6: 연면적 | M6: 1인당 면적 | N6: 연면적 | O6: 1인당 면적
B7: 합계 | C7: 51117378 | D7: ='1. 용도별'!D6 -> 4.3750305e+09 | E7: =D7/$C7 -> 85.587929 | F7: ='1. 용도별'!F6 -> 2.0154921e+09 | G7: =F7/$C7 -> 39.428707 | H7: ='1. 용도별'!H6 -> 9.6460953e+08 | I7: =H7/$C7 -> 18.870481 | J7: ='1. 용도별'!J6 -> 4.8572589e+08 | K7: =J7/$C7 -> 9.5021675 | L7: ='1. 용도별'!L6 -> 3.8207544e+08 | M7: =L7/$C7 -> 7.4744726 | N7: ='1. 용도별'!N6 -> 5.2712754e+08 | O7: =N7/$C7 -> 10.312101
B8: 서울특별시 | C8: 9299548 | D8: ='1. 용도별'!D7 -> 6.0050661e+08 | E8: =D8/$C8 -> 64.573742 | F8: ='1. 용도별'!F7 -> 3.1195634e+08 | G8: =F8/$C8 -> 33.545323 | H8: ='1. 용도별'!H7 -> 1.9019975e+08 | I8: =H8/$C8 -> 20.45258 | J8: ='1. 용도별'!J7 -> 15288234 | K8: =J8/$C8 -> 1.6439761 | L8: ='1. 용도별'!L7 -> 61408555 | M8: =L8/$C8 -> 6.6033914 | N8: ='1. 용도별'!N7 -> 21653735 | O8: =N8/$C8 -> 2.3284718
B9: 부산광역시 | C9: 3241600 | D9: ='1. 용도별'!D8 -> 2.5729355e+08 | E9: =D9/$C9 -> 79.372395 | F9: ='1. 용도별'!F8 -> 1.2902802e+08 | G9: =F9/$C9 -> 39.803808 | H9: ='1. 용도별'!H8 -> 62782171 | I9: =H9/$C9 -> 19.367649 | J9: ='1. 용도별'!J8 -> 20406145 | K9: =J9/$C9 -> 6.2950841 | L9: ='1. 용도별'!L8 -> 21906842 | M9: =L9/$C9 -> 6.7580336 | N9: ='1. 용도별'!N8 -> 23170372 | O9: =N9/$C9 -> 7.1478196
B10: 대구광역시 | C10: 2353032 | D10: ='1. 용도별'!D9 -> 1.9076501e+08 | E10: =D10/$C10 -> 81.072 | F10: ='1. 용도별'!F9 -> 1.0072545e+08 | G10: =F10/$C10 -> 42.806665 | H10: ='1. 용도별'!H9 -> 48320383 | I10: =H10/$C10 -> 20.53537 | J10: ='1. 용도별'!J9 -> 16614756 | K10: =J10/$C10 -> 7.060999 | L10: ='1. 용도별'!L9 -> 16564592 | M10: =L10/$C10 -> 7.0396798 | N10: ='1. 용도별'!N9 -> 8539827.9 | O10: =N10/$C10 -> 3.6292868
B11: 인천광역시 | C11: 3051961 | D11: ='1. 용도별'!D10 -> 2.401257e+08 | E11: =D11/$C11 -> 78.67915 | F11: ='1. 용도별'!F10 -> 1.1220226e+08 | G11: =F11/$C11 -> 36.763987 | H11: ='1. 용도별'!H10 -> 58927532 | I11: =H11/$C11 -> 19.308088 | J11: ='1. 용도별'!J10 -> 25653875 | K11: =J11/$C11 -> 8.4057021 | L11: ='1. 용도별'!L10 -> 18676858 | M11: =L11/$C11 -> 6.1196254 | N11: ='1. 용도별'!N10 -> 24665178 | O11: =N11/$C11 -> 8.0817474
B12: 광주광역시 | C12: 1392013 | D12: ='1. 용도별'!D11 -> 1.1313951e+08 | E12: =D12/$C12 -> 81.277621 | F12: ='1. 용도별'!F11 -> 61915153 | G12: =F12/$C12 -> 44.478861 | H12: ='1. 용도별'!H11 -> 24892702 | I12: =H12/$C12 -> 17.882521 | J12: ='1. 용도별'!J11 -> 8973996.4 | K12: =J12/$C12 -> 6.4467763 | L12: ='1. 용도별'!L11 -> 13008225 | M12: =L12/$C12 -> 9.3449019 | N12: ='1. 용도별'!N11 -> 4349428.6 | O12: =N12/$C12 -> 3.1245603
B13: 대전광역시 | C13: 1440729 | D13: ='1. 용도별'!D12 -> 1.1943018e+08 | E13: =D13/$C13 -> 82.895659 | F13: ='1. 용도별'!F12 -> 58972741 | G13: =F13/$C13 -> 40.93257 | H13: ='1. 용도별'!H12 -> 25868178 | I13: =H13/$C13 -> 17.954923 | J13: ='1. 용도별'!J12 -> 5842594.9 | K13: =J13/$C13 -> 4.0553046 | L13: ='1. 용도별'!L12 -> 15533512 | M13: =L13/$C13 -> 10.781703 | N13: ='1. 용도별'!N12 -> 13213153 | O13: =N13/$C13 -> 9.1711581
B14: 울산광역시 | C14: 1091948 | D14: ='1. 용도별'!D13 -> 97326388 | E14: =D14/$C14 -> 89.130973 | F14: ='1. 용도별'!F13 -> 45286109 | G14: =F14/$C14 -> 41.472771 | H14: ='1. 용도별'!H13 -> 18801961 | I14: =H14/$C14 -> 17.218733 | J14: ='1. 용도별'!J13 -> 19473019 | K14: =J14/$C14 -> 17.833285 | L14: ='1. 용도별'!L13 -> 7576957.9 | M14: =L14/$C14 -> 6.9389365 | N14: ='1. 용도별'!N13 -> 6188340.8 | O14: =N14/$C14 -> 5.6672486
B15: 세종특별자치시 | C15: 391965 | D15: ='1. 용도별'!D14 -> 33362900 | E15: =D15/$C15 -> 85.117037 | F15: ='1. 용도별'!F14 -> 16636636 | G15: =F15/$C15 -> 42.444189 | H15: ='1. 용도별'!H14 -> 6120508.3 | I15: =H15/$C15 -> 15.614936 | J15: ='1. 용도별'!J14 -> 3192451.1 | K15: =J15/$C15 -> 8.1447352 | L15: ='1. 용도별'!L14 -> 3497655.9 | M15: =L15/$C15 -> 8.9233884 | N15: ='1. 용도별'!N14 -> 3915647.8 | O15: =N15/$C15 -> 9.9897894
B16: 경기도 | C16: 13730135 | D16: ='1. 용도별'!D15 -> 1.156679e+09 | E16: =D16/$C16 -> 84.243819 | F16: ='1. 용도별'!F15 -> 5.1962295e+08 | G16: =F16/$C16 -> 37.845437 | H16: ='1. 용도별'!H15 -> 2.4095218e+08 | I16: =H16/$C16 -> 17.549149 | J16: ='1. 용도별'!J15 -> 1.4481191e+08 | K16: =J16/$C16 -> 10.547013 | L16: ='1. 용도별'!L15 -> 88047814 | M16: =L16/$C16 -> 6.4127421 | N16: ='1. 용도별'!N15 -> 1.6324414e+08 | O16: =N16/$C16 -> 11.889478
B17: 강원특별자치도 | C17: 1508500 | D17: ='1. 용도별'!D16 -> 1.5211616e+08 | E17: =D17/$C17 -> 100.83935 | F17: ='1. 용도별'!F16 -> 67494850 | G17: =F17/$C17 -> 44.743023 | H17: ='1. 용도별'!H16 -> 34968187 | I17: =H17/$C17 -> 23.180767 | J17: ='1. 용도별'!J16 -> 7723557.8 | K17: =J17/$C17 -> 5.1200251 | L17: ='1. 용도별'!L16 -> 17456015 | M17: =L17/$C17 -> 11.57177 | N17: ='1. 용도별'!N16 -> 24473549 | O17: =N17/$C17 -> 16.223765
B18: 충청북도 | C18: 1596502 | D18: ='1. 용도별'!D17 -> 1.692326e+08 | E18: =D18/$C18 -> 106.00212 | F18: ='1. 용도별'!F17 -> 71825040 | G18: =F18/$C18 -> 44.989007 | H18: ='1. 용도별'!H17 -> 28678080 | I18: =H18/$C18 -> 17.963071 | J18: ='1. 용도별'!J17 -> 31053451 | K18: =J18/$C18 -> 19.450931 | L18: ='1. 용도별'!L17 -> 14556834 | M18: =L18/$C18 -> 9.1179555 | N18: ='1. 용도별'!N17 -> 23119196 | O18: =N18/$C18 -> 14.481157
... B24: 제주특별자치도 | C24: 664792 | D24: ='1. 용도별'!D23 -> 61183279 | E24: =D24/$C24 -> 92.033717 | F24: ='1. 용도별'!F23 -> 26302676 | G24: =F24/$C24 -> 39.565271 | H24: ='1. 용도별'!H23 -> 20490927 | I24: =H24/$C24 -> 30.823065 | J24: ='1. 용도별'!J23 -> 890047.21 | K24: =J24/$C24 -> 1.3388356 | L24: ='1. 용도별'!L23 -> 5665029.2 | M24: =L24/$C24 -> 8.5215063 | N24: ='1. 용도별'!N23 -> 7834599.2 | O24: =N24/$C24 -> 11.785038

Sheet 8-2. 1인당 건축물 현황(시군구별)
A1: 8-2. 2025년 1인당 건축물 현황(시군구별)
A2: [기준] 인구수 : 행정안전부 2025년 12월 주민등록 인구 및 세대현황 참조(https://jumin.mois.go.kr)
B4: 시도 | C4: 시군구 | D4: 인구 | E4: 전체 건축물 | G4: 주거용 건축물
E5: 건축물 연면적 | F5: 1인당 면적 | G5: 주거용 연면적 | H5: 1인당 면적
B6: 서울 | C6: 종로구 | D6: 137048 | E6: ='5-2. 30년 이상 건축물(시군구별) '!D6 -> 19804316 | F6: =E6/$D6 -> 144.50642 | G6: ='5-2. 30년 이상 건축물(시군구별) '!G6 -> 5077498.7 | H6: =G6/$D6 -> 37.049054
B7: 서울 | C7: 중구 | D7: 117805 | E7: ='5-2. 30년 이상 건축물(시군구별) '!D7 -> 22587906 | F7: =E7/$D7 -> 191.73979 | G7: ='5-2. 30년 이상 건축물(시군구별) '!G7 -> 4588695.8 | H7: =G7/$D7 -> 38.951622
B8: 서울 | C8: 용산구 | D8: 201894 | E8: ='5-2. 30년 이상 건축물(시군구별) '!D8 -> 17912038 | F8: =E8/$D8 -> 88.720009 | G8: ='5-2. 30년 이상 건축물(시군구별) '!G8 -> 8958025.7 | H8: =G8/$D8 -> 44.369945
B9: 서울 | C9: 성동구 | D9: 274606 | E9: ='5-2. 30년 이상 건축물(시군구별) '!D9 -> 20263670 | F9: =E9/$D9 -> 73.791797 | G9: ='5-2. 30년 이상 건축물(시군구별) '!G9 -> 9477345.5 | H9: =G9/$D9 -> 34.512522
B10: 서울 | C10: 광진구 | D10: 331167 | E10: ='5-2. 30년 이상 건축물(시군구별) '!D10 -> 17727238 | F10: =E10/$D10 -> 53.529603 | G10: ='5-2. 30년 이상 건축물(시군구별) '!G10 -> 10164098 | H10: =G10/$D10 -> 30.691761
B11: 서울 | C11: 동대문구 | D11: 346241 | E11: ='5-2. 30년 이상 건축물(시군구별) '!D11 -> 19776740 | F11: =E11/$D11 -> 57.118424 | G11: ='5-2. 30년 이상 건축물(시군구별) '!G11 -> 10759010 | H11: =G11/$D11 -> 31.07376
B12: 서울 | C12: 중랑구 | D12: 376916 | E12: ='5-2. 30년 이상 건축물(시군구별) '!D12 -> 22316118 | F12: =E12/$D12 -> 59.207138 | G12: ='5-2. 30년 이상 건축물(시군구별) '!G12 -> 14307203 | H12: =G12/$D12 -> 37.958598
B13: 서울 | C13: 성북구 | D13: 422559 | E13: ='5-2. 30년 이상 건축물(시군구별) '!D13 -> 21720138 | F13: =E13/$D13 -> 51.401434 | G13: ='5-2. 30년 이상 건축물(시군구별) '!G13 -> 14344224 | H13: =G13/$D13 -> 33.946086
B14: 서울 | C14: 강북구 | D14: 278928 | E14: ='5-2. 30년 이상 건축물(시군구별) '!D14 -> 12916188 | F14: =E14/$D14 -> 46.306529 | G14: ='5-2. 30년 이상 건축물(시군구별) '!G14 -> 8607696.4 | H14: =G14/$D14 -> 30.859922
B15: 서울 | C15: 도봉구 | D15: 299899 | E15: ='5-2. 30년 이상 건축물(시군구별) '!D15 -> 16028822 | F15: =E15/$D15 -> 53.447401 | G15: ='5-2. 30년 이상 건축물(시군구별) '!G15 -> 10223000 | H15: =G15/$D15 -> 34.088143
B16: 서울 | C16: 노원구 | D16: 483541 | E16: ='5-2. 30년 이상 건축물(시군구별) '!D16 -> 22834817 | F16: =E16/$D16 -> 47.224158 | G16: ='5-2. 30년 이상 건축물(시군구별) '!G16 -> 15965473 | H16: =G16/$D16 -> 33.017827
B17: 서울 | C17: 은평구 | D17: 455137 | E17: ='5-2. 30년 이상 건축물(시군구별) '!D17 -> 20981414 | F17: =E17/$D17 -> 46.099118 | G17: ='5-2. 30년 이상 건축물(시군구별) '!G17 -> 14510297 | H17: =G17/$D17 -> 31.881164
... B80: 울산 | C80: 울주군 | D80: 219174 | E80: ='5-2. 30년 이상 건축물(시군구별) '!D80 -> 24932800 | F80: =E80/$D80 -> 113.75802 | G80: ='5-2. 30년 이상 건축물(시군구별) '!G80 -> 9185276.4 | H80: =G80/$D80 -> 41.908604
B81: 세종 | D81: 391965 | E81: ='5-2. 30년 이상 건축물(시군구별) '!D81 -> 33362900 | F81: =E81/$D81 -> 85.117037 | G81: ='5-2. 30년 이상 건축물(시군구별) '!G81 -> 16636636 | H81: =G81/$D81 -> 42.444189
B82: 경기 | C82: 수원시 장안구 | D82: 271136 | E82: ='5-2. 30년 이상 건축물(시군구별) '!D82 -> 14637303 | F82: =E82/$D82 -> 53.985094 | G82: ='5-2. 30년 이상 건축물(시군구별) '!G82 -> 9358260.7 | H82: =G82/$D82 -> 34.515006
B83: 경기 | C83: 수원시 권선구 | D83: 361064 | E83: ='5-2. 30년 이상 건축물(시군구별) '!D83 -> 23458815 | F83: =E83/$D83 -> 64.971348 | G83: ='5-2. 30년 이상 건축물(시군구별) '!G83 -> 13480050 | H83: =G83/$D83 -> 37.33424
B84: 경기 | C84: 수원시 팔달구 | D84: 191822 | E84: ='5-2. 30년 이상 건축물(시군구별) '!D84 -> 14101558 | F84: =E84/$D84 -> 73.513766 | G84: ='5-2. 30년 이상 건축물(시군구별) '!G84 -> 6856360.7 | H84: =G84/$D84 -> 35.743349
B85: 경기 | C85: 수원시 영통구 | D85: 362493 | E85: ='5-2. 30년 이상 건축물(시군구별) '!D85 -> 28454349 | F85: =E85/$D85 -> 78.496273 | G85: ='5-2. 30년 이상 건축물(시군구별) '!G85 -> 12804637 | H85: =G85/$D85 -> 35.323817
B86: 경기 | C86: 성남시 수정구 | D86: 232389 | E86: ='5-2. 30년 이상 건축물(시군구별) '!D86 -> 14900328 | F86: =E86/$D86 -> 64.118045 | G86: ='5-2. 30년 이상 건축물(시군구별) '!G86 -> 7143096.2 | H86: =G86/$D86 -> 30.737669
B87: 경기 | C87: 성남시 중원구 | D87: 203572 | E87: ='5-2. 30년 이상 건축물(시군구별) '!D87 -> 12741271 | F87: =E87/$D87 -> 62.588523 | G87: ='5-2. 30년 이상 건축물(시군구별) '!G87 -> 5919691.2 | H87: =G87/$D87 -> 29.079103
B88: 경기 | C88: 성남시 분당구 | D88: 469833 | E88: ='5-2. 30년 이상 건축물(시군구별) '!D88 -> 64144611 | F88: =E88/$D88 -> 136.52641 | G88: ='5-2. 30년 이상 건축물(시군구별) '!G88 -> 22715094 | H88: =G88/$D88 -> 48.347166
B89: 경기 | C89: 의정부시 | D89: 461572 | E89: ='5-2. 30년 이상 건축물(시군구별) '!D89 -> 26312287 | F89: =E89/$D89 -> 57.005812 | G89: ='5-2. 30년 이상 건축물(시군구별) '!G89 -> 15921264 | H89: =G89/$D89 -> 34.493564
B90: 경기 | C90: 안양시 만안구 | D90: 233749 | E90: ='5-2. 30년 이상 건축물(시군구별) '!D90 -> 13615694 | F90: =E90/$D90 -> 58.249206 | G90: ='5-2. 30년 이상 건축물(시군구별) '!G90 -> 7022285.7 | H90: =G90/$D90 -> 30.041992
B91: 경기 | C91: 안양시 동안구 | D91: 329530 | E91: ='5-2. 30년 이상 건축물(시군구별) '!D91 -> 22281728 | F91: =E91/$D91 -> 67.61669 | G91: ='5-2. 30년 이상 건축물(시군구별) '!G91 -> 10415489 | H91: =G91/$D91 -> 31.607103
B92: 경기 | C92: 부천시 원미구 | D92: 384561 | E92: ='5-2. 30년 이상 건축물(시군구별) '!D92 -> 33116222 | F92: =E92/$D92 -> 86.114354 | G92: ='5-2. 30년 이상 건축물(시군구별) '!G92 -> 13695218 | H92: =G92/$D92 -> 35.612603
B93: 경기 | C93: 부천시 소사구 | D93: 225458 | E93: ='5-2. 30년 이상 건축물(시군구별) '!D93 -> 12070225 | G93: ='5-2. 30년 이상 건축물(시군구별) '!G93 -> 7842400.8
B94: 경기 | C94: 부천시 오정구 | D94: 148777 | E94: ='5-2. 30년 이상 건축물(시군구별) '!D94 -> 10073172 | G94: ='5-2. 30년 이상 건축물(시군구별) '!G94 -> 4464117.8
B95: 경기 | C95: 광명시 | D95: 293947 | E95: ='5-2. 30년 이상 건축물(시군구별) '!D95 -> 15972236 | F95: =E95/$D95 -> 54.33713 | G95: ='5-2. 30년 이상 건축물(시군구별) '!G95 -> 8765093.6 | H95: =G95/$D95 -> 29.818619
B96: 경기 | C96: 평택시 | D96: 610402 | E96: ='5-2. 30년 이상 건축물(시군구별) '!D96 -> 84379087 | F96: =E96/$D96 -> 138.23527 | G96: ='5-2. 30년 이상 건축물(시군구별) '!G96 -> 27255272 | H96: =G96/$D96 -> 44.651348
B97: 경기 | C97: 동두천시 | D97: 86438 | E97: ='5-2. 30년 이상 건축물(시군구별) '!D97 -> 6525619.5 | F97: =E97/$D97 -> 75.4948 | G97: ='5-2. 30년 이상 건축물(시군구별) '!G97 -> 3552935.6 | H97: =G97/$D97 -> 41.103861
B98: 경기 | C98: 안산시 상록구 | D98: 322739 | E98: ='5-2. 30년 이상 건축물(시군구별) '!D98 -> 18482894 | F98: =E98/$D98 -> 57.268859 | G98: ='5-2. 30년 이상 건축물(시군구별) '!G98 -> 11532388 | H98: =G98/$D98 -> 35.732861
B99: 경기 | C99: 안산시 단원구 | D99: 289769 | E99: ='5-2. 30년 이상 건축물(시군구별) '!D99 -> 33028639 | F99: =E99/$D99 -> 113.98265 | G99: ='5-2. 30년 이상 건축물(시군구별) '!G99 -> 10481257 | H99: =G99/$D99 -> 36.171076
B100: 경기 | C100: 고양시 덕양구 | D100: 485546 | E100: ='5-2. 30년 이상 건축물(시군구별) '!D100 -> 31069996 | F100: =E100/$D100 -> 63.98981 | G100: ='5-2. 30년 이상 건축물(시군구별) '!G100 -> 16378965 | H100: =G100/$D100 -> 33.733086
B101: 경기 | C101: 고양시 일산동구 | D101: 296758 | E101: ='5-2. 30년 이상 건축물(시군구별) '!D101 -> 25013719 | F101: =E101/$D101 -> 84.289958 | G101: ='5-2. 30년 이상 건축물(시군구별) '!G101 -> 10547121 | H101: =G101/$D101 -> 35.541153
B102: 경기 | C102: 고양시 일산서구 | D102: 277777 | E102: ='5-2. 30년 이상 건축물(시군구별) '!D102 -> 17932074 | F102: =E102/$D102 -> 64.555648 | G102: ='5-2. 30년 이상 건축물(시군구별) '!G102 -> 10275965 | H102: =G102/$D102 -> 36.993577
B103: 경기 | C103: 과천시 | D103: 79908 | E103: ='5-2. 30년 이상 건축물(시군구별) '!D103 -> 6544544.9 | F103: =E103/$D103 -> 81.900997 | G103: ='5-2. 30년 이상 건축물(시군구별) '!G103 -> 2852589.4 | H103: =G103/$D103 -> 35.69842
B104: 경기 | C104: 구리시 | D104: 186090 | E104: ='5-2. 30년 이상 건축물(시군구별) '!D104 -> 11994962 | F104: =E104/$D104 -> 64.457853 | G104: ='5-2. 30년 이상 건축물(시군구별) '!G104 -> 6084910.3 | H104: =G104/$D104 -> 32.69875
B105: 경기 | C105: 남양주시 | D105: 729754 | E105: ='5-2. 30년 이상 건축물(시군구별) '!D105 -> 47842873 | F105: =E105/$D105 -> 65.560275 | G105: ='5-2. 30년 이상 건축물(시군구별) '!G105 -> 26999678 | H105: =G105/$D105 -> 36.998328
B106: 경기 | C106: 오산시 | D106: 249410 | E106: ='5-2. 30년 이상 건축물(시군구별) '!D106 -> 17230308 | F106: =E106/$D106 -> 69.084271 | G106: ='5-2. 30년 이상 건축물(시군구별) '!G106 -> 9381934.6 | H106: =G106/$D106 -> 37.616513
... B257: 제주 | C257: 서귀포시 | D257: 179610 | E257: ='5-2. 30년 이상 건축물(시군구별) '!D257 -> 20986905 | F257: =E257/$D257 -> 116.84709 | G257: ='5-2. 30년 이상 건축물(시군구별) '!G257 -> 7733403 | H257: =G257/$D257 -> 43.056639

Sheet 9. 국토면적 대비 건축물 현황
A1: =목차!B12 -> 9. 2025년 국토면적 대비 건축물 현황
A2: [기준] 국토면적 : 국가통계포털 행정구역별・지목별 국토이용현황(2025년 기준) 참고(https://kosis.kr/)
A3: [기준] 기타 : 공동주택의 부대/복리시설, 공공업무시설, 창고시설, 동식물관련시설, 교정시설, 국방·군사시설, 방송통신시설, 발전시설, 가설건축물, 자원순환관련 시설 등, 용도값 오기 및 누락자료
O4: (단위 : ㎡)
B5: 시도 | C5: 지적공부면적지 | D5: 합계 | F5: 주거용 | H5: 상업용 | J5: 공업용 | L5: 교육 및 사회용 | N5: 기타
D6: 연면적 | E6: 비율 | F6: 연면적 | G6: 비율 | H6: 연면적 | I6: 비율 | J6: 연면적 | K6: 비율 | L6: 연면적 | M6: 비율 | N6: 연면적 | O6: 비율
B7: 합계 | C7: 1.004724e+11 | D7: ='1. 용도별'!D6 -> 4.3750305e+09 | E7: =D7/$C7*100 -> 4.3544602 | F7: ='1. 용도별'!F6 -> 2.0154921e+09 | G7: =F7/$C7*100 -> 2.0060157 | H7: ='1. 용도별'!H6 -> 9.6460953e+08 | I7: =H7/$C7*100 -> 0.96007417 | J7: ='1. 용도별'!J6 -> 4.8572589e+08 | K7: =J7/$C7*100 -> 0.48344212 | L7: ='1. 용도별'!L6 -> 3.8207544e+08 | M7: =L7/$C7*100 -> 0.38027901 | N7: ='1. 용도별'!N6 -> 5.2712754e+08 | O7: =N7/$C7*100 -> 0.52464912
B8: 서울특별시 | C8: 6.0524698e+08 | D8: ='1. 용도별'!D7 -> 6.0050661e+08 | E8: =D8/$C8*100 -> 99.216788 | F8: ='1. 용도별'!F7 -> 3.1195634e+08 | G8: =F8/$C8*100 -> 51.54199 | H8: ='1. 용도별'!H7 -> 1.9019975e+08 | I8: =H8/$C8*100 -> 31.425147 | J8: ='1. 용도별'!J7 -> 15288234 | K8: =J8/$C8*100 -> 2.5259497 | L8: ='1. 용도별'!L7 -> 61408555 | M8: =L8/$C8*100 -> 10.146032 | N8: ='1. 용도별'!N7 -> 21653735 | O8: =N8/$C8*100 -> 3.5776692
B9: 부산광역시 | C9: 7.7166626e+08 | D9: ='1. 용도별'!D8 -> 2.5729355e+08 | E9: =D9/$C9*100 -> 33.342595 | F9: ='1. 용도별'!F8 -> 1.2902802e+08 | G9: =F9/$C9*100 -> 16.720703 | H9: ='1. 용도별'!H8 -> 62782171 | I9: =H9/$C9*100 -> 8.1359229 | J9: ='1. 용도별'!J8 -> 20406145 | K9: =J9/$C9*100 -> 2.6444262 | L9: ='1. 용도별'!L8 -> 21906842 | M9: =L9/$C9*100 -> 2.8389011 | N9: ='1. 용도별'!N8 -> 23170372 | O9: =N9/$C9*100 -> 3.0026416
B10: 대구광역시 | C10: 1.4996784e+09 | D10: ='1. 용도별'!D9 -> 1.9076501e+08 | E10: =D10/$C10*100 -> 12.720395 | F10: ='1. 용도별'!F9 -> 1.0072545e+08 | G10: =F10/$C10*100 -> 6.7164702 | H10: ='1. 용도별'!H9 -> 48320383 | I10: =H10/$C10*100 -> 3.2220497 | J10: ='1. 용도별'!J9 -> 16614756 | K10: =J10/$C10*100 -> 1.107888 | L10: ='1. 용도별'!L9 -> 16564592 | M10: =L10/$C10*100 -> 1.104543 | N10: ='1. 용도별'!N9 -> 8539827.9 | O10: =N10/$C10*100 -> 0.56944396
B11: 인천광역시 | C11: 1.0695549e+09 | D11: ='1. 용도별'!D10 -> 2.401257e+08 | E11: =D11/$C11*100 -> 22.450994 | F11: ='1. 용도별'!F10 -> 1.1220226e+08 | G11: =F11/$C11*100 -> 10.490556 | H11: ='1. 용도별'!H10 -> 58927532 | I11: =H11/$C11*100 -> 5.509538 | J11: ='1. 용도별'!J10 -> 25653875 | K11: =J11/$C11*100 -> 2.3985562 | L11: ='1. 용도별'!L10 -> 18676858 | M11: =L11/$C11*100 -> 1.7462272 | N11: ='1. 용도별'!N10 -> 24665178 | O11: =N11/$C11*100 -> 2.3061162
B12: 광주광역시 | C12: 500949991 | D12: ='1. 용도별'!D11 -> 1.1313951e+08 | E12: =D12/$C12*100 -> 22.58499 | F12: ='1. 용도별'!F11 -> 61915153 | G12: =F12/$C12*100 -> 12.359548 | H12: ='1. 용도별'!H11 -> 24892702 | I12: =H12/$C12*100 -> 4.9690992 | J12: ='1. 용도별'!J11 -> 8973996.4 | K12: =J12/$C12*100 -> 1.7913957 | L12: ='1. 용도별'!L11 -> 13008225 | M12: =L12/$C12*100 -> 2.5967113 | N12: ='1. 용도별'!N11 -> 4349428.6 | O12: =N12/$C12*100 -> 0.86823609
B13: 대전광역시 | C13: 5.3983e+08 | D13: ='1. 용도별'!D12 -> 1.1943018e+08 | E13: =D13/$C13*100 -> 22.123665 | F13: ='1. 용도별'!F12 -> 58972741 | G13: =F13/$C13*100 -> 10.924317 | H13: ='1. 용도별'!H12 -> 25868178 | I13: =H13/$C13*100 -> 4.7919119 | J13: ='1. 용도별'!J12 -> 5842594.9 | K13: =J13/$C13*100 -> 1.0823027 | L13: ='1. 용도별'!L12 -> 15533512 | M13: =L13/$C13*100 -> 2.8774822 | N13: ='1. 용도별'!N12 -> 13213153 | O13: =N13/$C13*100 -> 2.4476508
B14: 울산광역시 | C14: 1.062906e+09 | D14: ='1. 용도별'!D13 -> 97326388 | E14: =D14/$C14*100 -> 9.1566316 | F14: ='1. 용도별'!F13 -> 45286109 | G14: =F14/$C14*100 -> 4.2605939 | H14: ='1. 용도별'!H13 -> 18801961 | I14: =H14/$C14*100 -> 1.7689203 | J14: ='1. 용도별'!J13 -> 19473019 | K14: =J14/$C14*100 -> 1.8320547 | L14: ='1. 용도별'!L13 -> 7576957.9 | M14: =L14/$C14*100 -> 0.71285305 | N14: ='1. 용도별'!N13 -> 6188340.8 | O14: =N14/$C14*100 -> 0.5822096
B15: 세종특별자치시 | C15: 4.6499384e+08 | D15: ='1. 용도별'!D14 -> 33362900 | E15: =D15/$C15*100 -> 7.1749121 | F15: ='1. 용도별'!F14 -> 16636636 | G15: =F15/$C15*100 -> 3.5778187 | H15: ='1. 용도별'!H14 -> 6120508.3 | I15: =H15/$C15*100 -> 1.3162558 | J15: ='1. 용도별'!J14 -> 3192451.1 | K15: =J15/$C15*100 -> 0.68655772 | L15: ='1. 용도별'!L14 -> 3497655.9 | M15: =L15/$C15*100 -> 0.75219404 | N15: ='1. 용도별'!N14 -> 3915647.8 | O15: =N15/$C15*100 -> 0.84208595
B16: 경기도 | C16: 1.0207706e+10 | D16: ='1. 용도별'!D15 -> 1.156679e+09 | E16: =D16/$C16*100 -> 11.33143 | F16: ='1. 용도별'!F15 -> 5.1962295e+08 | G16: =F16/$C16*100 -> 5.0904971 | H16: ='1. 용도별'!H15 -> 2.4095218e+08 | I16: =H16/$C16*100 -> 2.3604931 | J16: ='1. 용도별'!J15 -> 1.4481191e+08 | K16: =J16/$C16*100 -> 1.4186529 | L16: ='1. 용도별'!L15 -> 88047814 | M16: =L16/$C16*100 -> 0.86256225 | N16: ='1. 용도별'!N15 -> 1.6324414e+08 | O16: =N16/$C16*100 -> 1.5992246
B17: 강원특별자치도 | C17: 1.6831239e+10 | D17: ='1. 용도별'!D16 -> 1.5211616e+08 | E17: =D17/$C17*100 -> 0.90377279 | F17: ='1. 용도별'!F16 -> 67494850 | G17: =F17/$C17*100 -> 0.40100939 | H17: ='1. 용도별'!H16 -> 34968187 | I17: =H17/$C17*100 -> 0.20775765 | J17: ='1. 용도별'!J16 -> 7723557.8 | K17: =J17/$C17*100 -> 0.045888231 | L17: ='1. 용도별'!L16 -> 17456015 | M17: =L17/$C17*100 -> 0.103712 | N17: ='1. 용도별'!N16 -> 24473549 | O17: =N17/$C17*100 -> 0.14540551
B18: 충청북도 | C18: 7406692463 | D18: ='1. 용도별'!D17 -> 1.692326e+08 | E18: =D18/$C18*100 -> 2.2848606 | F18: ='1. 용도별'!F17 -> 71825040 | G18: =F18/$C18*100 -> 0.96973163 | H18: ='1. 용도별'!H17 -> 28678080 | I18: =H18/$C18*100 -> 0.38719145 | J18: ='1. 용도별'!J17 -> 31053451 | K18: =J18/$C18*100 -> 0.41926205 | L18: ='1. 용도별'!L17 -> 14556834 | M18: =L18/$C18*100 -> 0.19653623 | N18: ='1. 용도별'!N17 -> 23119196 | O18: =N18/$C18*100 -> 0.31213927
... B24: 제주특별자치도 | C24: 1.850144e+09 | D24: ='1. 용도별'!D23 -> 61183279 | E24: =D24/$C24*100 -> 3.3069469 | F24: ='1. 용도별'!F23 -> 26302676 | G24: =F24/$C24*100 -> 1.4216556 | H24: ='1. 용도별'!H23 -> 20490927 | I24: =H24/$C24*100 -> 1.1075315 | J24: ='1. 용도별'!J23 -> 890047.21 | K24: =J24/$C24*100 -> 0.048106916 | L24: ='1. 용도별'!L23 -> 5665029.2 | M24: =L24/$C24*100 -> 0.30619396 | N24: ='1. 용도별'!N23 -> 7834599.2 | O24: =N24/$C24*100 -> 0.42345889
