Workbook

Sheet 목차
B2: [목 차] | D2: [자료 추출 기준]
B4: 1. 2025년 용도별 건축물 현황 | D4: [1] 자료기준일 : 2025.12.31.
B5: 2. 2025년 주거용 건축물 현황 | D5: [2] 추출 대상 대장 : 건축물대장
B6: 3. 2025년 상업용 건축물 현황 | D6: [3] 추출 기준
B7: 4. 2025년 고층 건축물 현황 | D7: 1. 주/부 구분 : 주건축물 (부속건축물 제외)
B8: 5. 2025년 경과년수별 건축물 현황 | D8: 2. 사용승인일 : ~ 2025.12.31.
B9: 6. 2025년 말소 건축물 용도별 현황 | D9: 2.1 (말소건축물) 말소일 : 2025.1.1. ~ 2025.12.31.
B10: 7. 2025년 층수, 면적, 소유주체별 현황 | D10: 3. 용도 : 층별 용도
B11: 8. 2025년 1인당 건축물 현황 | D11: 4. 동수: 대표 층용도 방식으로 집계
B12: 9. 2025년 국토면적 대비 건축물 현황 | D12: 4.1 건물내 층별 용도의 유형별 연면적 합 추출
D13: 4.2 가장 넓은 면적의 층용도를 동의 대표 층용도로 추출
D14: 4.3 동의 대표 층용도 기준으로 동수 집계
D15: 5. 연면적 : (용도별) 층 면적의 합

Sheet 1. 용도별
A1: =목차!B4 -> 1. 2025년 용도별 건축물 현황
A2: [기준] 기타 : 공동주택의 부대/복리시설, 공공업무시설, 창고시설, 동식물관련시설, 교정시설, 국방·군사시설, 방송통신시설, 발전시설, 가설건축물, 자원순환관련 시설 등, 용도값 오기 및 누락자료
N3: (단위 : 동, ㎡)
B4: 시도 | C4: 합계 | E4: 주거용 | G4: 상업용 | I4: 공업용 | K4: 교육 및 사회용 | M4: 기타
C5: 동수 | D5: 연면적 | E5: 동수 | F5: 연면적 | G5: 동수 | H5: 연면적 | I5: 동수 | J5: 연면적 | K5: 동수 | L5: 연면적 | M5: 동수 | N5: 연면적
B6: 전국 | C6: 7438642 | D6: 4.3750305e+09 | E6: 4562665 | F6: 2.0154921e+09 | G6: 1427853 | H6: 9.6460953e+08 | I6: 352662 | J6: 4.8572589e+08 | K6: 205967 | L6: 3.8207544e+08 | M6: 889495 | N6: 5.2712754e+08
B7: 서울특별시 | C7: 574058 | D7: 6.0050661e+08 | E7: 422239 | F7: 3.1195634e+08 | G7: 128540 | H7: 1.9019975e+08 | I7: 2232 | J7: 15288234 | K7: 16463 | L7: 61408555 | M7: 4584 | N7: 21653735
B8: 부산광역시 | C8: 345978 | D8: 2.5729355e+08 | E8: 233291 | F8: 1.2902802e+08 | G8: 74424 | H8: 62782171 | I8: 15841 | J8: 20406145 | K8: 9325 | L8: 21906842 | M8: 13097 | N8: 23170372
B9: 대구광역시 | C9: 256032 | D9: 1.9076501e+08 | E9: 167749 | F9: 1.0072545e+08 | G9: 54824 | H9: 48320383 | I9: 13541 | J9: 16614756 | K9: 6748 | L9: 16564592 | M9: 13170 | N9: 8539827.9
B10: 인천광역시 | C10: 220159 | D10: 2.401257e+08 | E10: 135795 | F10: 1.1220226e+08 | G10: 48675 | H10: 58927532 | I10: 14698 | J10: 25653875 | K10: 6698 | L10: 18676858 | M10: 14293 | N10: 24665178
B11: 광주광역시 | C11: 135977 | D11: 1.1313951e+08 | E11: 88389 | F11: 61915153 | G11: 33929 | H11: 24892702 | I11: 4516 | J11: 8973996.4 | K11: 4085 | L11: 13008225 | M11: 5058 | N11: 4349428.6
B12: 대전광역시 | C12: 130126 | D12: 1.1943018e+08 | E12: 89021 | F12: 58972741 | G12: 27416 | H12: 25868178 | I12: 3131 | J12: 5842594.9 | K12: 5101 | L12: 15533512 | M12: 5457 | N12: 13213153
B13: 울산광역시 | C13: 137220 | D13: 97326388 | E13: 75429 | F13: 45286109 | G13: 31613 | H13: 18801961 | I13: 15475 | J13: 19473019 | K13: 4070 | L13: 7576957.9 | M13: 10633 | N13: 6188340.8
B14: 세종특별자치시 | C14: 36190 | D14: 33362900 | E14: 19523 | F14: 16636636 | G14: 7159 | H14: 6120508.3 | I14: 2116 | J14: 3192451.1 | K14: 1053 | L14: 3497655.9 | M14: 6339 | N14: 3915647.8
B15: 경기도 | C15: 1283371 | D15: 1.156679e+09 | E15: 659037 | F15: 5.1962295e+08 | G15: 308277 | H15: 2.4095218e+08 | I15: 117311 | J15: 1.4481191e+08 | K15: 37732 | L15: 88047814 | M15: 161014 | N15: 1.6324414e+08
B16: 강원특별자치도 | C16: 446084 | D16: 1.5211616e+08 | E16: 279973 | F16: 67494850 | G16: 82344 | H16: 34968187 | I16: 7667 | J16: 7723557.8 | K16: 14340 | L16: 17456015 | M16: 61760 | N16: 24473549
B17: 충청북도 | C17: 411404 | D17: 1.692326e+08 | E17: 248318 | F17: 71825040 | G17: 68905 | H17: 28678080 | I17: 22756 | J17: 31053451 | K17: 11341 | L17: 14556834 | M17: 60084 | N17: 23119196
... B23: 제주특별자치도 | C23: 193269 | D23: 61183279 | E23: 116929 | F23: 26302676 | G23: 34136 | H23: 20490927 | I23: 1035 | J23: 890047.21 | K23: 4364 | L23: 5665029.2 | M23: 36805 | N23: 7834599.2

Sheet 2. 주거용
A1: =목차!B5 -> 2. 2025년 주거용 건축물 현황
A2: [기준] 기타 : 주거용 중 상세분류 미등록 자료
V3: (단위 : 동, ㎡)
B4: 시도 | C4: 합계 | E4: 단독주택 | G4: 다중주택 | I4: 다가구주택 | K4: 공관 | M4: 아파트 | O4: 연립주택 | Q4: 다세대 | S4: 기숙사 | U4: 기타
C5: 동수 | D5: 연면적 | E5: 동수 | F5: 연면적 | G5: 동수 | H5: 연면적 | I5: 동수 | J5: 연면적 | K5: 동수 | L5: 연면적 | M5: 동수 | N5: 연면적 | O5: 동수 | P5: 연면적 | Q5: 동수 | R5: 연면적 | S5: 동수 | T5: 연면적 | U5: 동수 | V5: 연면적
B6: 전국 | C6: 4562665 | D6: 2.0154921e+09 | E6: 3480367 | F6: 3.3275626e+08 | G6: 20530 | H6: 5961515.3 | I6: 586491 | J6: 1.7187971e+08 | K6: 1494 | L6: 353435.46 | M6: 171185 | N6: 1.3167062e+09 | O6: 36686 | P6: 45566779 | Q6: 257410 | R6: 1.3365151e+08 | S6: 3974 | T6: 7782961.1 | U6: 4528 | V6: 833763.64
B7: 서울특별시 | C7: 422239 | D7: 3.1195634e+08 | E7: 175227 | F7: 25733581 | G7: 9823 | H7: 2884391.3 | I7: 108934 | J7: 28026046 | K7: 44 | L7: 42812.06 | M7: 25972 | N7: 1.9813363e+08 | O7: 8577 | P7: 10002679 | Q7: 93382 | R7: 46428896 | S7: 272 | T7: 700452.21 | U7: 8 | V7: 3850.72
B8: 부산광역시 | C8: 233291 | D8: 1.2902802e+08 | E8: 167165 | F8: 14676771 | G8: 404 | H8: 110704.48 | I8: 33232 | J8: 6053662.6 | K8: 39 | L8: 6714.19 | M8: 11775 | N8: 97081856 | O8: 2195 | P8: 2031992.3 | Q8: 18386 | R8: 8874025.9 | S8: 64 | T8: 155919 | U8: 31 | V8: 36378.713
B9: 대구광역시 | C9: 167749 | D9: 1.0072545e+08 | E9: 101659 | F9: 11134709 | G9: 653 | H9: 178870.3 | I9: 48520 | J9: 12568249 | K9: 15 | L9: 5579.21 | M9: 8497 | N9: 72049473 | O9: 482 | P9: 646763.19 | Q9: 7171 | R9: 3729971.9 | S9: 84 | T9: 284157.91 | U9: 668 | V9: 127679.04
B10: 인천광역시 | C10: 135795 | D10: 1.1220226e+08 | E10: 75980 | F10: 8427991.7 | G10: 778 | H10: 234518.04 | I10: 21573 | J10: 6132234.2 | K10: 131 | L10: 24494.44 | M10: 9995 | N10: 82436544 | O10: 1885 | P10: 2424496.4 | Q10: 24994 | R10: 12267618 | S10: 61 | T10: 179008.66 | U10: 398 | V10: 75349.385
B11: 광주광역시 | C11: 88389 | D11: 61915153 | E11: 65145 | F11: 7445270.1 | G11: 139 | H11: 37561.38 | I11: 15578 | J11: 5134846.8 | K11: 0 | L11: 278.43 | M11: 5819 | N11: 47627701 | O11: 831 | P11: 1102389.4 | Q11: 820 | R11: 414722.2 | S11: 38 | T11: 140989.7 | U11: 19 | V11: 11393.989
B12: 대전광역시 | C12: 89021 | D12: 58972741 | E12: 46075 | F12: 5013060.5 | G12: 3060 | H12: 917466.14 | I12: 30178 | J12: 8897941.2 | K12: 8 | L12: 7087.57 | M12: 4658 | N12: 40964719 | O12: 771 | P12: 903026.73 | Q12: 4197 | R12: 2079877.1 | S12: 73 | T12: 187071.02 | U12: 1 | V12: 2492.11
B13: 울산광역시 | C13: 75429 | D13: 45286109 | E13: 51350 | F13: 6344050.6 | G13: 196 | H13: 55932.848 | I13: 16159 | J13: 5107225.3 | K13: 42 | L13: 7779.19 | M13: 4299 | N13: 31284242 | O13: 551 | P13: 600122.07 | Q13: 2655 | R13: 1526986.5 | S13: 126 | T13: 353741.98 | U13: 51 | V13: 6028.425
B14: 세종특별자치시 | C14: 19523 | D14: 16636636 | E14: 15778 | F14: 1595028 | G14: 152 | H14: 46864.89 | I14: 1271 | J14: 559025.56 | K14: 9 | L14: 1126.84 | M14: 2035 | N14: 14207812 | O14: 71 | P14: 90164.056 | Q14: 187 | R14: 89346.868 | S14: 20 | T14: 47267.805 | U14: 0
B15: 경기도 | C15: 659037 | D15: 5.1962295e+08 | E15: 392226 | F15: 48110574 | G15: 1435 | H15: 426471.62 | I15: 133177 | J15: 40418026 | K15: 157 | L15: 62807.769 | M15: 44946 | N15: 3.7353761e+08 | O15: 8333 | P15: 12082690 | Q15: 77644 | R15: 43145804 | S15: 992 | T15: 1678382.9 | U15: 127 | V15: 160589.77
B16: 강원특별자치도 | C16: 279973 | D16: 67494850 | E16: 244821 | F16: 21411618 | G16: 299 | H16: 80549.818 | I16: 25442 | J16: 6989293.5 | K16: 216 | L16: 35835.726 | M16: 5485 | N16: 35952796 | O16: 1615 | P16: 1654886.3 | Q16: 1748 | R16: 889695.63 | S16: 248 | T16: 452921.11 | U16: 99 | V16: 27253.213
B17: 충청북도 | C17: 248318 | D17: 71825040 | E17: 215361 | F17: 20248693 | G17: 768 | H17: 231112.45 | I17: 22234 | J17: 7970381.8 | K17: 36 | L17: 8190.9948 | M17: 5513 | N17: 40149038 | O17: 1102 | P17: 1192793.4 | Q17: 2556 | R17: 1564115.6 | S17: 178 | T17: 428082.51 | U17: 570 | V17: 32632.557
B18: 충청남도 | C18: 339871 | D18: 93037778 | E18: 305148 | F18: 26860489 | G18: 474 | H18: 117115.91 | I18: 19907 | J18: 7833881.6 | K18: 110 | L18: 19411.805 | M18: 7340 | N18: 52886301 | O18: 1427 | P18: 1798739.8 | Q18: 4889 | R18: 2577027.9 | S18: 537 | T18: 903900.5 | U18: 39 | V18: 40910.799
B19: 전북특별자치도 | C19: 271075 | D19: 73583119 | E19: 246233 | F19: 21803290 | G19: 356 | H19: 104620.04 | I19: 15289 | J19: 6133418.6 | K19: 87 | L19: 16282.615 | M19: 5806 | N19: 42800977 | O19: 1436 | P19: 1517788.1 | Q19: 1678 | R19: 837368.88 | S19: 131 | T19: 244465.36 | U19: 59 | V19: 124908.64
B20: 전라남도 | C20: 429494 | D20: 76875000 | E20: 409711 | F20: 32116897 | G20: 915 | H20: 254975.98 | I20: 9860 | J20: 3014111.4 | K20: 315 | L20: 53827.435 | M20: 5661 | N20: 38504584 | O20: 1319 | P20: 1668720.2 | Q20: 1413 | R20: 752975.24 | S20: 290 | T20: 503836.28 | U20: 10 | V20: 5072.855
B21: 경상북도 | C21: 508804 | D21: 1.1194626e+08 | E21: 456201 | F21: 36530675 | G21: 551 | H21: 144063.82 | I21: 32682 | J21: 11523877 | K21: 106 | L21: 24057.195 | M21: 8902 | N21: 57396508 | O21: 1955 | P21: 2349840.7 | Q21: 5963 | R21: 3135610 | S21: 403 | T21: 712590.91 | U21: 2041 | V21: 129040.98
B22: 경상남도 | C22: 477728 | D22: 1.3808171e+08 | E22: 416221 | F22: 36101679 | G22: 446 | H22: 117647.79 | I22: 41459 | J22: 12385878 | K22: 166 | L22: 31073.542 | M22: 12305 | N22: 84041226 | O22: 1750 | P22: 2120258.5 | Q22: 4636 | R22: 2599765.3 | S22: 351 | T22: 637986.48 | U22: 394 | V22: 46194.003
B23: 제주특별자치도 | C23: 116929 | D23: 26302676 | E23: 96066 | F23: 9201886.3 | G23: 81 | H23: 18648.5 | I23: 10996 | J23: 3131608.9 | K23: 13 | L23: 6076.45 | M23: 2177 | N23: 7651145.4 | O23: 2386 | P23: 3379429.5 | Q23: 5091 | R23: 2737705.7 | S23: 106 | T23: 172186.75 | U23: 13 | V23: 3988.432

Sheet 3. 상업용
A1: =목차!B6 -> 3. 2025년 상업용 건축물 현황
A2: [기준] 기타 : 상업용 중 상세분류 미등록 자료
X3: (단위 : 동, ㎡)
B4: 시도 | C4: 합계 | E4: 제1종근린생활시설 | G4: 제2종근린생활시설 | I4: 판매시설 | K4: 업무시설 | M4: 위락시설 | O4: 숙박시설 | Q4: 운수시설 | S4: 위험물저장 및 처리시설 | U4: 자동차관련시설 | W4: 기타
C5: 동수 | D5: 연면적 | E5: 동수 | F5: 연면적 | G5: 동수 | H5: 연면적 | I5: 동수 | J5: 연면적 | K5: 동수 | L5: 연면적 | M5: 동수 | N5: 연면적 | O5: 동수 | P5: 연면적 | Q5: 동수 | R5: 연면적 | S5: 동수 | T5: 연면적 | U5: 동수 | V5: 연면적 | W5: 동수 | X5: 연면적
B6: 전국 | C6: 1427853 | D6: 9.6460953e+08 | E6: 567624 | F6: 2.4920454e+08 | G6: 673775 | H6: 3.0562125e+08 | I6: 11750 | J6: 66157048 | K6: 32807 | L6: 1.9732426e+08 | M6: 6007 | N6: 6817081 | O6: 46994 | P6: 57094188 | Q6: 4010 | R6: 12461405 | S6: 32562 | T6: 7064936.9 | U6: 34315 | V6: 48256819 | W6: 18009 | X6: 14608005
B7: 서울특별시 | C7: 128540 | D7: 1.9019975e+08 | E7: 52932 | F7: 39204130 | G7: 57719 | H7: 45579773 | I7: 1181 | J7: 17485301 | K7: 10099 | L7: 67975247 | M7: 205 | N7: 511522.98 | O7: 1984 | P7: 6293337.7 | Q7: 265 | R7: 1534237 | S7: 615 | T7: 236983.57 | U7: 1706 | V7: 8214518.1 | W7: 1834 | X7: 3164700.3
B8: 부산광역시 | C8: 74424 | D8: 62782171 | E8: 27616 | F8: 14295077 | G8: 35390 | H8: 17505608 | I8: 930 | J8: 5124441.6 | K8: 3400 | L8: 14187909 | M8: 343 | N8: 625746.52 | O8: 2404 | P8: 4735850.1 | Q8: 431 | R8: 1828574.2 | S8: 1181 | T8: 220837.31 | U8: 1774 | V8: 3414457.4 | W8: 955 | X8: 843670.5
B9: 대구광역시 | C9: 54824 | D9: 48320383 | E9: 22692 | F9: 12899771 | G9: 25729 | H9: 17858267 | I9: 1082 | J9: 3055084.6 | K9: 1020 | L9: 9331054.1 | M9: 222 | N9: 309802.66 | O9: 955 | P9: 1290963.9 | Q9: 157 | R9: 318241.77 | S9: 870 | T9: 164521.53 | U9: 1370 | V9: 2196969.7 | W9: 727 | X9: 895707.1
B10: 인천광역시 | C10: 48675 | D10: 58927532 | E10: 17654 | F10: 12189001 | G10: 22176 | H10: 14754573 | I10: 514 | J10: 4208649.4 | K10: 2057 | L10: 15815747 | M10: 159 | N10: 271070.49 | O10: 2096 | P10: 2750020.5 | Q10: 667 | R10: 4885885.3 | S10: 1223 | T10: 380568.17 | U10: 1425 | V10: 2963649.6 | W10: 704 | X10: 708368.69
B11: 광주광역시 | C11: 33929 | D11: 24892702 | E11: 14192 | F11: 6842509.1 | G11: 15635 | H11: 8276751.9 | I11: 346 | J11: 1535765 | K11: 603 | L11: 3560679.8 | M11: 128 | N11: 212052.91 | O11: 878 | P11: 1015490.5 | Q11: 75 | R11: 221277.24 | S11: 461 | T11: 99002.51 | U11: 981 | V11: 1384470 | W11: 630 | X11: 1744703.1
B12: 대전광역시 | C12: 27416 | D12: 25868178 | E12: 10184 | F12: 6983909.3 | G12: 13335 | H12: 8843920.9 | I12: 784 | J12: 2371206.3 | K12: 573 | L12: 4387771.8 | M12: 68 | N12: 134367.44 | O12: 756 | P12: 1070812.9 | Q12: 56 | R12: 99489.71 | S12: 571 | T12: 135419.83 | U12: 846 | V12: 1534789.5 | W12: 243 | X12: 306490.03
B13: 울산광역시 | C13: 31613 | D13: 18801961 | E13: 11437 | F13: 5337831.8 | G13: 15287 | H13: 6363542.1 | I13: 229 | J13: 1288729.4 | K13: 569 | L13: 2596330.7 | M13: 276 | N13: 237005.46 | O13: 779 | P13: 932409.36 | Q13: 94 | R13: 80201.57 | S13: 1572 | T13: 666980.16 | U13: 1031 | V13: 1137768.8 | W13: 339 | X13: 161161.26
B14: 세종특별자치시 | C14: 7159 | D14: 6120508.3 | E14: 2535 | F14: 1889982.9 | G14: 3813 | H14: 2095278.2 | I14: 32 | J14: 431521.48 | K14: 108 | L14: 1171595.6 | M14: 8 | N14: 8457.11 | O14: 99 | P14: 154150.13 | Q14: 14 | R14: 8610.32 | S14: 303 | T14: 84011.037 | U14: 180 | V14: 262151.96 | W14: 67 | X14: 14749.489
B15: 경기도 | C15: 308277 | D15: 2.4095218e+08 | E15: 104146 | F15: 58557698 | G15: 167637 | H15: 80689863 | I15: 1768 | J15: 17549783 | K15: 6006 | L15: 52346658 | M15: 641 | N15: 1054318 | O15: 7349 | P15: 7940088.4 | Q15: 591 | R15: 1653466.5 | S15: 7024 | T15: 1812613.9 | U15: 8742 | V15: 15929207 | W15: 4373 | X15: 3418486.8
B16: 강원특별자치도 | C16: 82344 | D16: 34968187 | E16: 31815 | F16: 9051047.7 | G16: 36885 | H16: 11564280 | I16: 522 | J16: 1284116.3 | K16: 918 | L16: 2027414.1 | M16: 473 | N16: 485552.29 | O16: 6142 | P16: 8244723.5 | Q16: 197 | R16: 167786.33 | S16: 1828 | T16: 304327.66 | U16: 1933 | V16: 1361655.3 | W16: 1631 | X16: 477283.16
B17: 충청북도 | C17: 68905 | D17: 28678080 | E17: 28841 | F17: 9787877.6 | G17: 32143 | H17: 11211088 | I17: 340 | J17: 1238101 | K17: 794 | L17: 2040243.3 | M17: 225 | N17: 256050.29 | O17: 1960 | P17: 1978120.3 | Q17: 97 | R17: 152803.12 | S17: 1933 | T17: 337858.41 | U17: 1843 | V17: 1325634.2 | W17: 729 | X17: 350303
... B23: 제주특별자치도 | C23: 34136 | D23: 20490927 | E23: 12882 | F23: 4477292.7 | G23: 15524 | H23: 5297285.5 | I23: 89 | J23: 312499.22 | K23: 412 | L23: 4154179.9 | M23: 211 | N23: 243045.96 | O23: 3641 | P23: 5003673.2 | Q23: 93 | R23: 232133.87 | S23: 594 | T23: 93177.53 | U23: 549 | V23: 619274.59 | W23: 141 | X23: 58364.637

Sheet 8. 고층건축물 BACKUP(건축물대장)
A1: MGM_BLDRGST_PK | B1: SIGUNGU_CD | C1: BLD_NM | D1: DONG_NM | E1: GRND_FLR_CNT | F1: F_PLAT_PLC_PRT(X01.SIGUNGU_CD,X01.BJDONG_CD,X01.PLAT_GB_CD,X01.BUN,X01.JI,X01.SPLOT_NM,X01.BLOCK,X01.LOT)
A2: 11680-2345 | B2: 11680 | C2: 타워팰리스 | D2: 지동 | E2: 69 | F2: 서울특별시 강남구 도곡동 467-29번지
A3: 11470-8842 | B3: 11470 | C3: 현대하이페리온 | E3: 69 | F3: 서울특별시 양천구 목동 916번지
A4: 11680-2201 | B4: 11680 | C4: 타워팰리스 | D4: 비동 | E4: 66 | F4: 서울특별시 강남구 도곡동 467번지
A5: 11560-100190515 | B5: 11560 | C5: 한화금융센터_63 | E5: 60 | F5: 서울특별시 영등포구 여의도동 60번지
A6: 11680-2200 | B6: 11680 | C6: 타워팰리스 | D6: 씨동 | E6: 59 | F6: 서울특별시 강남구 도곡동 467번지
A7: 11680-2202 | B7: 11680 | C7: 타워팰리스 | D7: 에이동 | E7: 59 | F7: 서울특별시 강남구 도곡동 467번지
A8: 11215-20199 | B8: 11215 | C8: 더샵스타시티 | D8: A동 | E8: 58 | F8: 서울특별시 광진구 자양동 227-7번지
A9: 11680-2210 | B9: 11680 | C9: 타워팰리스 | D9: 에프동 | E9: 55 | F9: 서울특별시 강남구 도곡동 467-17번지
A10: 11680-2211 | B10: 11680 | C10: 타워팰리스 | D10: 이동 | E10: 55 | F10: 서울특별시 강남구 도곡동 467-17번지
A11: 11680-22357 | B11: 11680 | C11: 무역회관 | E11: 54 | F11: 서울특별시 강남구 삼성동 159번지
A12: 11680-2508 | B12: 11680 | C12: 아카데미스위트 | D12: 에이동 | E12: 51 | F12: 서울특별시 강남구 도곡동 467-7번지
A13: 11530-100194390 | B13: 11530 | C13: 디큐브시티 | D13: 아파트동 | E13: 51 | F13: 서울특별시 구로구 신도림동 692번지
A14: 11215-20200 | B14: 11215 | C14: 더샵스타시티 | D14: C동 | E14: 50 | F14: 서울특별시 광진구 자양동 227-7번지
A15: 11215-100185549 | B15: 11215 | C15: 더 클래식500 | D15: 노유자시설동 | E15: 50 | F15: 서울특별시 광진구 자양동 227-342번지
A16: 11470-100184978 | B16: 11470 | C16: 목동트라팰리스 웨스턴에비뉴 | E16: 49 | F16: 서울특별시 양천구 목동 962번지
A17: 11590-25074 | B17: 11590 | C17: 보라매삼성쉐르빌 | E17: 49 | F17: 서울특별시 동작구 신대방동 395-66번지
A18: 11470-100184668 | B18: 11470 | C18: 목동트라팰리스 이스턴에비뉴 | E18: 48 | F18: 서울특별시 양천구 목동 962-1번지
A19: 11710-16738 | B19: 11710 | C19: 갤러리아팰리스 | E19: 46 | F19: 서울특별시 송파구 잠실동 40번지
A20: 11680-2339 | B20: 11680 | C20: 아이파크삼성동 | D20: 사우스윙 | E20: 46 | F20: 서울특별시 강남구 삼성동 87번지
A21: 11680-2341 | B21: 11680 | C21: 아이파크삼성동 | D21: 웨스트윙 | E21: 46 | F21: 서울특별시 강남구 삼성동 87번지
A22: 26350-100204451 | B22: 26350 | C22: 해운대 두산위브더제니스 | D22: 101동 | E22: 80 | F22: 부산광역시 해운대구 우동 1407번지
A23: 26350-100205080 | B23: 26350 | C23: 해운대 두산위브더제니스 | D23: 102동 | E23: 75 | F23: 부산광역시 해운대구 우동 1407번지
A24: 26350-100202586 | B24: 26350 | C24: 해운대 l'PARK | D24: 주동2 | E24: 72 | F24: 부산광역시 해운대구 우동 1408번지
A25: 26350-100205669 | B25: 26350 | C25: 해운대 두산위브더제니스 | D25: 103동 | E25: 70 | F25: 부산광역시 해운대구 우동 1407번지
A26: 26350-100203236 | B26: 26350 | C26: 해운대 l'PARK | D26: 주동1 | E26: 66 | F26: 부산광역시 해운대구 우동 1408번지
A27: 26350-100188472 | B27: 26350 | C27: the# 센텀스타 | D27: B동 | E27: 60 | F27: 부산광역시 해운대구 재송동 1196번지
A28: 26230-100188570 | B28: 26230 | C28: 더샵 센트럴스타 | D28: A동 | E28: 58 | F28: 부산광역시 부산진구 부전동 537-9번지
A29: 26350-100188968 | B29: 26350 | C29: the# 센텀스타 | D29: C동 | E29: 52 | F29: 부산광역시 해운대구 재송동 1196번지
A30: 26260-100172067 | B30: 26260 | C30: 벽산아스타 | D30: 101동 | E30: 52 | F30: 부산광역시 동래구 온천동 178-7번지
A31: 26350-16595 | B31: 26350 | C31: 더샵 센텀파크 1차 아파트 | D31: 104동 | E31: 51 | F31: 부산광역시 해운대구 재송동 1200번지
... A41: 26350-16596 | B41: 26350 | C41: 더샵 센텀파크 1차 아파트 | D41: 106동 | E41: 51 | F41: 부산광역시 해운대구 재송동 1200번지
A42: 27260-100198919 | B42: 27260 | C42: 수성 SK 리더스뷰 | D42: 103 | E42: 57 | F42: 대구광역시 수성구 두산동 113번지
A43: 27260-100199331 | B43: 27260 | C43: 수성 SK 리더스뷰 | D43: 105 | E43: 57 | F43: 대구광역시 수성구 두산동 113번지
A44: 27260-100194897 | B44: 27260 | C44: 두산위브더제니스 | D44: 106동 | E44: 54 | F44: 대구광역시 수성구 범어동 179번지
A45: 27260-100193891 | B45: 27260 | C45: 두산위브더제니스 | D45: 107동 | E45: 54 | F45: 대구광역시 수성구 범어동 179번지
A46: 27260-100194599 | B46: 27260 | C46: 두산위브더제니스 | D46: 104동 | E46: 53 | F46: 대구광역시 수성구 범어동 179번지
A47: 27260-100194748 | B47: 27260 | C47: 두산위브더제니스 | D47: 105동 | E47: 53 | F47: 대구광역시 수성구 범어동 179번지
A48: 27260-100194307 | B48: 27260 | C48: 두산위브더제니스 | D48: 109동 | E48: 52 | F48: 대구광역시 수성구 범어동 179번지
A49: 27260-100195049 | B49: 27260 | C49: 두산위브더제니스 | D49: 108동 | E49: 52 | F49: 대구광역시 수성구 범어동 179번지
...

Sheet 8.고층건축물BACKUP(건축+주택)
A1: 구분 | B1: SIGUNGU_CD | C1: F_PLAT_PLC_PRT(X03.SIGUNGU_CD,X03.BJDONG_CD,X03.PLAT_GB_CD,X03.BUN,X03.JI,X03.SPLOT_NM,X03.BLOCK,X03.LOT) | D1: BLD_NM | E1: DONG_NM | F1: GRND_FLR_CNT
A2: 건축 | B2: 11710 | C2: 서울특별시 송파구 신천동 29번지 | D2: 제2롯데월드신축공사 | E2: 제2롯데월드 | F2: 123
A3: 주택 | B3: 26350 | C3: 부산광역시 해운대구 중동 블록 해운대관광리조트 도시개발구역지구 I블록 1로트 | D3: 해운대 관광리조트 | E3: 랜드마크타워 | F3: 108
A4: 건축 | B4: 26110 | C4: 부산광역시 중구 중앙동7가 20-1번지 | D4: 부산롯데타운 | E4: 타워동 | F4: 107
A5: 주택 | B5: 26350 | C5: 부산광역시 해운대구 중동 블록 해운대관광리조트 도시개발구역지구 I블록 1로트 | D5: 해운대 관광리조트 | E5: 주거타워 A동 | F5: 87
A6: 주택 | B6: 26350 | C6: 부산광역시 해운대구 중동 블록 해운대관광리조트 도시개발구역지구 I블록 1로트 | D6: 해운대 관광리조트 | E6: 주거타워 B동 | F6: 87
A7: 건축 | B7: 26290 | C7: 부산광역시 남구 문현동 1229-2번지 | D7: 부산국제금융센터 복합개발사업 | E7: 주건축물제1동 | F7: 63
A8: 주택 | B8: 41287 | C8: 경기도 고양시 일산서구 탄현동 297번지 | D8: 공동주택 | E8: 105 | F8: 59
A9: 주택 | B9: 41287 | C9: 경기도 고양시 일산서구 탄현동 297번지 | D9: 공동주택 | E9: 104 | F9: 57
A10: 주택 | B10: 41287 | C10: 경기도 고양시 일산서구 탄현동 297번지 | D10: 공동주택 | E10: 103 | F10: 55
A11: 주택 | B11: 41287 | C11: 경기도 고양시 일산서구 탄현동 297번지 | D11: 공동주택 | E11: 106 | F11: 54
A12: 주택 | B12: 41287 | C12: 경기도 고양시 일산서구 탄현동 297번지 | D12: 공동주택 | E12: 102 | F12: 54
A13: 주택 | B13: 41287 | C13: 경기도 고양시 일산서구 탄현동 297번지 | D13: 공동주택 | E13: 107 | F13: 53
A14: 주택 | B14: 41287 | C14: 경기도 고양시 일산서구 탄현동 297번지 | D14: 공동주택 | E14: 101 | F14: 53
A15: 주택 | B15: 28200 | C15: 인천광역시 남동구 논현동 블록 소래논현도시개발지구지구 C10블록블록 | D15: 인천 소래논현구역 C10블록 주상복합 신축공사 | E15: A | F15: 51
A16: 주택 | B16: 41287 | C16: 경기도 고양시 일산서구 탄현동 297번지 | D16: 공동주택 | E16: 108 | F16: 51
A17: 건축 | B17: 44200 | C17: 충청남도 아산시 배방읍 장재리 블록 아산배방택지개발사업지구 일반상업지역내 특별계획구역지구 4블록 | D17: 싸이클론타워 | E17: 싸이클론타워 | F17: 51
A18: 건축 | B18: 30200 | C18: 대전광역시 유성구 용산동 579번지 | D18: DTV ST 블럭호텔 | E18: Edifice-WHITE(104) | F18: 50
A19: 주택 | B19: 30230 | C19: 대전광역시 대덕구 석봉동 블록 구)풍한방직 이전적지 도시개발사업지구 A-1블록 | D19: 금강풍림엑슬루타워 | E19: 111동 | F19: 50
A20: 주택 | B20: 30230 | C20: 대전광역시 대덕구 석봉동 블록 구)풍한방직 이전적지 도시개발사업지구 A-1블록 | D20: 금강풍림엑슬루타워 | E20: 110동 | F20: 50
A21: 주택 | B21: 30230 | C21: 대전광역시 대덕구 석봉동 블록 구)풍한방직 이전적지 도시개발사업지구 A-1블록 | D21: 금강풍림엑슬루타워 | E21: 103동 | F21: 50
A22: 주택 | B22: 30230 | C22: 대전광역시 대덕구 석봉동 블록 구)풍한방직 이전적지 도시개발사업지구 A-1블록 | D22: 금강풍림엑슬루타워 | E22: 107동 | F22: 50
A23: 주택 | B23: 30230 | C23: 대전광역시 대덕구 석봉동 블록 구)풍한방직 이전적지 도시개발사업지구 A-1블록 | D23: 금강풍림엑슬루타워 | E23: 105동 | F23: 50
A24: 주택 | B24: 30230 | C24: 대전광역시 대덕구 석봉동 블록 구)풍한방직 이전적지 도시개발사업지구 A-1블록 | D24: 금강풍림엑슬루타워 | E24: 108동 | F24: 50
A25: 주택 | B25: 30230 | C25: 대전광역시 대덕구 석봉동 블록 구)풍한방직 이전적지 도시개발사업지구 A-1블록 | D25: 금강풍림엑슬루타워 | E25: 102동 | F25: 50
A26: 주택 | B26: 30230 | C26: 대전광역시 대덕구 석봉동 블록 구)풍한방직 이전적지 도시개발사업지구 A-1블록 | D26: 금강풍림엑슬루타워 | E26: 106동 | F26: 50
A27: 주택 | B27: 28200 | C27: 인천광역시 남동구 논현동 블록 소래논현도시개발지구지구 C10블록블록 | D27: 인천 소래논현구역 C10블록 주상복합 신축공사 | E27: B | F27: 48
A28: 건축 | B28: 31110 | C28: 울산광역시 중구 성남동 196-21번지 | D28: 성남동주상복합 | E28: A | F28: 48
... A50: 건축 | B50: 48170 | C50: 경상남도 진주시 강남동 181-1번지 | D50: 진주시 강남동 주거복합 | E50: 강남동 주거복합 | F50: 35
A51: 건축 | B51: 31140 | C51: 울산광역시 남구 신정동 1127-3번지 | D51: 남구 신정동 주상복합 | E51: 1 | F51: 33
A52: 건축 | B52: 46130 | C52: 전라남도 여수시 소호동 산 99번지 | D52: 여수오션리조트 | E52: 관광호텔동 | F52: 33
A53: 건축 | B53: 28200 | C53: 인천광역시 남동구 논현동 블록 논현(2)택지개발사업지구상업용지C12-2지구 | D53: 논현2지구 오피스텔 신축공사 | E53: C동 | F53: 32
A54: 건축 | B54: 43710 | C54: 충청북도 청원군 오창읍 양청리 808-2번지 | D54: 오창양청리000호텔 | E54: 오창양청리000호텔 | F54: 32
A55: 건축 | B55: 46110 | C55: 전라남도 목포시 남교동 111-9번지 | D55: 남교동 111-9 공동주택 (한국토지주택공사) | E55: 목포남교주상관복합건축 | F55: 31
A56: 건축 | B56: 46170 | C56: 전라남도 나주시 금천면 블록 광주전남공동혁신 도시개발사업지구지구 이전1블록 | D56: KEPCO 본사 신사옥 | E56: 본관 | F56: 31
A57: 주택 | B57: 46230 | C57: 전라남도 광양시 중동 1601번지 | D57: 대광 로제비앙 2차 아파트 신축공사 | E57: 201 | F57: 30
A58: 건축 | B58: 48170 | C58: 경상남도 진주시 평거동 139-5번지 | D58: 진주 평거동 OO주상복합 신축공사 | E58: 101동 | F58: 30
A59: 주택 | B59: 46230 | C59: 전라남도 광양시 광양읍 용강리 919번지 | E59: 104동 | F59: 28
A60: 주택 | B60: 46230 | C60: 전라남도 광양시 광양읍 용강리 919번지 | E60: 102동 | F60: 28
A61: 주택 | B61: 46230 | C61: 전라남도 광양시 광양읍 용강리 919번지 | E61: 103동 | F61: 28
...

Sheet 4. 고층
A1: =목차!B7 -> 4. 2025년 고층 건축물 현황
B3: □ 건축물 현황
B4: 순위 | C4: 구분 | D4: 건물명 | E4: 동명칭 | F4: 지상층수 | G4: 위치
B5: 1 | C5: 건축물대장 | D5: 롯데월드타워앤드롯데월드몰 | E5: 월드타워동 | F5: 123 | G5: 서울특별시 송파구 신천동 29
B6: 2 | C6: 건축물대장 | D6: 중동 18290000 숙박시설 (주식회사엘시티피이에프브이) | E6: 랜드마크타워동 | F6: 101 | G6: 부산광역시 해운대구 중동 1829
B7: 3 | C7: 건축물대장 | D7: 엘시티 | E7: 타워에이동 | F7: 85 | G7: 부산광역시 해운대구 중동 1829
B8: 4 | C8: 건축물대장 | D8: 엘시티 | E8: 타워비동 | F8: 85 | G8: 부산광역시 해운대구 중동 1829
B9: 5 | C9: 건축물대장 | D9: 해운대 두산위브더제니스 | E9: 101동 | F9: 80 | G9: 부산광역시 해운대구 우동 1407
B10: 6 | C10: 건축물대장 | D10: 해운대 두산위브더제니스 | E10: 102동 | F10: 75 | G10: 부산광역시 해운대구 우동 1407
B11: 7 | C11: 건축물대장 | D11: 해운대 l'PARK | E11: 주동2 | F11: 72 | G11: 부산광역시 해운대구 우동 1408
B12: 8 | C12: 건축물대장 | D12: 송도 아메리칸타운 더샵 | E12: 201동 | F12: 70 | G12: 인천광역시 연수구 송도동 155-1
B13: 9 | C13: 건축물대장 | D13: 해운대 두산위브더제니스 | E13: 103동 | F13: 70 | G13: 부산광역시 해운대구 우동 1407
B14: 10 | C14: 건축물대장 | D14: 더블유 | E14: 에이동 | F14: 69 | G14: 부산광역시 남구 용호동 954
B15: 11 | C15: 건축물대장 | D15: 타워팰리스 | E15: 지동 | F15: 69 | G15: 서울특별시 강남구 도곡동 467-29
B16: 12 | C16: 건축물대장 | D16: 현대하이페리온 | F16: 69 | G16: 서울특별시 양천구 목동 916
B17: 13 | C17: 건축물대장 | D17: 파크원 | E17: 타워1 | F17: 69 | G17: 서울특별시 영등포구 여의도동 22
B18: 14 | C18: 건축물대장 | D18: 힐스테이트이진베이시티아파트 | E18: 공동주택A동 | F18: 69 | G18: 부산광역시 서구 암남동 775
B19: 15 | C19: 건축물대장 | D19: 더블유 | E19: 씨동 | F19: 69 | G19: 부산광역시 남구 용호동 954
B20: 16 | C20: 건축물대장 | D20: 더블유 | E20: 비동 | F20: 69 | G20: 부산광역시 남구 용호동 954
B21: 17 | C21: 건축물대장 | D21: 더블유 | E21: 디동 | F21: 69 | G21: 부산광역시 남구 용호동 954
B22: 18 | C22: 건축물대장 | E22: 포스코타워-송도 | F22: 68 | G22: 인천광역시 연수구 송도동 6-9
B23: 19 | C23: 건축물대장 | D23: METAPOLIS | E23: D동 | F23: 66 | G23: 경기도 화성시 반송동 98
B24: 20 | C24: 건축물대장 | D24: METAPOLIS | E24: A동 | F24: 66 | G24: 경기도 화성시 반송동 96
B26: □ 지역별 최고층 건축물
B27: 시도 | D27: 건물명 | E27: 동명칭 | F27: 지상층수 | G27: 위치
B28: 서울특별시 | D28: 롯데월드타워앤드롯데월드몰 | E28: 월드타워동 | F28: 123 | G28: 서울특별시 송파구 신천동 29
B29: 부산광역시 | C29: 건축물대장 | D29: 중동 18290000 숙박시설 (주식회사엘시티피이에프브이) | E29: 랜드마크타워동 | F29: 101 | G29: 부산광역시 해운대구 중동 1829
B30: 대구광역시 | C30: 건축물대장 | D30: 수성 범어W | E30: 104동 | F30: 59 | G30: 대구광역시 수성구 범어동 2291
B31: 인천광역시 | C31: 건축물대장 | D31: 송도 아메리칸타운 더샵 | E31: 201동 | F31: 70 | G31: 인천광역시 연수구 송도동 155-1
B32: 광주광역시 | C32: 건축물대장 | D32: 광주호반써밋 | E32: 호반 써밋 광주 | F32: 48 | G32: 광주광역시 서구 광천동 896
B33: 대전광역시 | C33: 건축물대장 | D33: 금강엑슬루타워 | E33: 105동 | F33: 50 | G33: 대전광역시 대덕구 석봉동 770
B34: 울산광역시 | C34: 건축물대장 | D34: 태화강엑소디움 | E34: 101동 | F34: 54 | G34: 울산광역시 중구 옥교동 82-1
B35: 세종특별자치시 | C35: 건축물대장 | D35: 나릿재마을 2단지 | E35: 근린생활시설 | F35: 49 | G35: 세종특별자치시 나성동 853
B36: 경기도 | C36: 건축물대장 | D36: 리첸시아 중동 | F36: 66 | G36: 경기도 부천시 원미구 중동 1116
B37: 강원특별자치도 | C37: 건축물대장 | D37: 춘천 센트럴타워 푸르지오 | E37: 춘천 센트럴타워 푸르지오 | F37: 49 | G37: 강원특별자치도 춘천시 온의동 601
B38: 충청북도 | C38: 건축물대장 | D38: 청주센트럴시티(터미널복합) | E38: 청주센트럴시티 | F38: 49 | G38: 충청북도 청주시 흥덕구 가경동 1416
B39: 충청남도 | C39: 건축물대장 | D39: 펜타포트 | E39: 103동 | F39: 66 | G39: 충청남도 천안시 서북구 불당동 1289
B40: 전북특별자치도 | C40: 건축물대장 | D40: 유블레스 랜드마크 47 | E40: 101동 | F40: 47 | G40: 전북특별자치도 익산시 모현동1가 962
B41: 전라남도 | C41: 건축물대장 | D41: 목포하당 중흥S-클래스 센텀뷰 | E41: 104동 | F41: 49 | G41: 전라남도 목포시 상동 860
B42: 경상북도 | C42: 건축물대장 | D42: 두산 위브 더 제니스 | E42: 107동 | F42: 48 | G42: 경상북도 포항시 북구 장성동 1612
...

Sheet 5-1. 경과년수별(시도별)
A1: 5-1. 2025년 경과년수별 건축물 현황
A2: [기준] (구분)기타 : 공동주택의 부대/복리시설, 공공업무시설, 창고시설, 동식물관련시설, 교정시설, 국방·군사시설, 방송통신시설, 발전시설, 가설건축물, 자원순환관련 시설 등, 용도값 오기 및 누락자료
A3: [기준] (기간)기타 : 사용승일일(항목) 값 누락 또는 오기
A4: [기준] 10년미만(2017년-2025년), 10년이상-15년미만(2012년-2016년), 15년이상-20년미만(2007년-2011년)
A5: 20년이상-25년미만(2002년-2006년), 25년이상-30년미만(1997년-2001년), 30년이상-35년미만(1992년-1996년), 35년이상(~1991년)
O6: (단위 : 동, ㎡)
B7: 구분 | D7: 합계 | F7: 주거용 | H7: 상업용 | J7: 공업용 | L7: 교육 및 사회용 | N7: 기타
D8: 동수 | E8: 연면적 | F8: 동수 | G8: 연면적 | H8: 동수 | I8: 연면적 | J8: 동수 | K8: 연면적 | L8: 동수 | M8: 연면적 | N8: 동수 | O8: 연면적
B9: 전체 | C9: 합계 | D9: 7438642 | E9: 4.3750305e+09 | F9: 4562665 | G9: 2015492098 | H9: 1427853 | I9: 964609529 | J9: 352662 | K9: 485725889 | L9: 205967 | M9: 382075439 | N9: 889495 | O9: 527127540
C10: 10년 미만 | D10: 1021171 | E10: 9.5729521e+08 | F10: 444732 | G10: 416677655 | H10: 276904 | I10: 239390846 | J10: 72161 | K10: 117294004 | L10: 28080 | M10: 61211369 | N10: 199294 | O10: 122721340
C11: 10 ~ 15년 미만 | D11: 685703 | E11: 5.2550875e+08 | F11: 357424 | G11: 227210064 | H11: 155753 | I11: 125548035 | J11: 55207 | K11: 70210803 | L11: 21648 | M11: 43636420 | N11: 95671 | O11: 58903432
C12: 15 ~ 20년 미만 | D12: 587569 | E12: 4.9847709e+08 | F12: 260817 | G12: 229216274 | H12: 142277 | I12: 94905251 | J12: 50656 | K12: 67529285 | L12: 27525 | M12: 53599670 | N12: 106294 | O12: 53226614
C13: 20 ~ 25년 미만 | D13: 606513 | E13: 5.6429389e+08 | F13: 286821 | G13: 267910001 | H13: 152123 | I13: 134192119 | J13: 49805 | K13: 56984813 | L13: 28641 | M13: 59754606 | N13: 89123 | O13: 45452355
C14: 25 ~ 30년 미만 | D14: 606902 | E14: 4.9619806e+08 | F14: 309134 | G14: 236632988 | H14: 132526 | I14: 92057323 | J14: 35258 | K14: 41678970 | L14: 25480 | M14: 49371811 | N14: 104504 | O14: 76456972
C15: 30 ~ 35년 미만 | D15: 805071 | E15: 6.1402405e+08 | F15: 472538 | G15: 292739754 | H15: 153540 | I15: 107834722 | J15: 36640 | K15: 59004712 | L15: 21720 | M15: 38202655 | N15: 120633 | O15: 116242209
C16: 35년 이상 | D16: 2637050 | E16: 6.4082451e+08 | F16: 2058135 | G16: 318448523 | H16: 360589 | I16: 160513161 | J16: 44461 | K16: 62009838 | L16: 38062 | M16: 56562698 | N16: 135803 | O16: 43290291
C17: 기타 | D17: 488663 | E17: 78408913 | F17: 373064 | G17: 26656840 | H17: 54141 | I17: 10168072 | J17: 8474 | K17: 11013464 | L17: 14811 | M17: 19736209 | N17: 38173 | O17: 10834327
B18: 서울특별시 | C18: 합계 | D18: 574058 | E18: 6.0050661e+08 | F18: 422239 | G18: 311956339 | H18: 128540 | I18: 190199751 | J18: 2232 | K18: 15288234 | L18: 16463 | M18: 61408555 | N18: 4584 | O18: 21653735
C19: 10년 미만 | D19: 40919 | E19: 88211985 | F19: 28561 | G19: 40279355 | H19: 10045 | I19: 32021452 | J19: 176 | K19: 5377596 | L19: 1541 | M19: 8294703 | N19: 596 | O19: 2238878
C20: 10 ~ 15년 미만 | D20: 33172 | E20: 52598465 | F20: 26698 | G20: 27065394 | H20: 4887 | I20: 15656768 | J20: 97 | K20: 2423855 | L20: 1145 | M20: 5398291 | N20: 345 | O20: 2054156
C21: 15 ~ 20년 미만 | D21: 27442 | E21: 62339349 | F21: 18359 | G21: 30825973 | H21: 6922 | I21: 17332099 | J21: 100 | K21: 2590931 | L21: 1669 | M21: 9574720 | N21: 392 | O21: 2015626
C22: 20 ~ 25년 미만 | D22: 50289 | E22: 96370469 | F22: 36724 | G22: 54323539 | H22: 10755 | I22: 28392562 | J22: 218 | K22: 2987886 | L22: 2188 | M22: 7811272 | N22: 404 | O22: 2855210
C23: 25 ~ 30년 미만 | D23: 38432 | E23: 74003873 | F23: 28497 | G23: 45418758 | H23: 7364 | I23: 16283519 | J23: 99 | K23: 596546 | L23: 1996 | M23: 7350900 | N23: 476 | O23: 4354151
C24: 30 ~ 35년 미만 | D24: 95059 | E24: 80306340 | F24: 77031 | G24: 46729155 | H24: 15508 | I24: 22829298 | J24: 78 | K24: 232293 | L24: 1971 | M24: 7168933 | N24: 471 | O24: 3346661
C25: 35년 이상 | D25: 258050 | E25: 1.4082167e+08 | F25: 185657 | G25: 65903977 | H25: 64748 | I25: 55513086 | J25: 1206 | K25: 936007 | L25: 4809 | M25: 13870121 | N25: 1630 | O25: 4598480
C26: 기타 | D26: 30695 | E26: 5854462.8 | F26: 20712 | G26: 1410188 | H26: 8311 | I26: 2170967 | J26: 258 | K26: 143120 | L26: 1144 | M26: 1939616 | N26: 270 | O26: 190572
B27: 부산광역시 | C27: 합계 | D27: 345978 | E27: 2.5729355e+08 | F27: 233291 | G27: 129028024 | H27: 74424 | I27: 62782171 | J27: 15841 | K27: 20406145 | L27: 9325 | M27: 21906842 | N27: 13097 | O27: 23170372
C28: 10년 미만 | D28: 20124 | E28: 45287301 | F28: 7037 | G28: 23035813 | H28: 9233 | I28: 13918721 | J28: 2016 | K28: 3395836 | L28: 832 | M28: 2799639 | N28: 1006 | O28: 2137292
C29: 10 ~ 15년 미만 | D29: 21004 | E29: 29577750 | F29: 9368 | G29: 14319777 | H29: 7644 | I29: 8176061 | J29: 2396 | K29: 3899470 | L29: 726 | M29: 2249949 | N29: 870 | O29: 932493
C30: 15 ~ 20년 미만 | D30: 14204 | E30: 23707632 | F30: 4883 | G30: 10643089 | H30: 5418 | I30: 5664312 | J30: 2100 | K30: 3036078 | L30: 860 | M30: 2839912 | N30: 943 | O30: 1524241
C31: 20 ~ 25년 미만 | D31: 20289 | E31: 33891648 | F31: 9035 | G31: 18172763 | H31: 6250 | I31: 7876125 | J31: 2377 | K31: 2798381 | L31: 1148 | M31: 3305924 | N31: 1479 | O31: 1738455
C32: 25 ~ 30년 미만 | D32: 18636 | E32: 29694671 | F32: 9979 | G32: 13783239 | H32: 5005 | I32: 6077934 | J32: 1402 | K32: 2172135 | L32: 935 | M32: 2574624 | N32: 1315 | O32: 5086738
C33: 30 ~ 35년 미만 | D33: 32860 | E33: 39043170 | F33: 22189 | G33: 20882121 | H33: 7407 | I33: 6230199 | J33: 988 | K33: 1273374 | L33: 974 | M33: 1812815 | N33: 1302 | O33: 8844661
C34: 35년 이상 | D34: 186204 | E34: 51957691 | F34: 144505 | G34: 26774723 | H34: 29526 | I34: 13911446 | J34: 3830 | K34: 3443221 | L34: 3229 | M34: 5313304 | N34: 5114 | O34: 2514997
C35: 기타 | D35: 32657 | E35: 4133691.4 | F35: 26295 | G35: 1416499 | H35: 3941 | I35: 927374 | J35: 732 | K35: 387650 | L35: 621 | M35: 1010674 | N35: 1068 | O35: 391496
B36: 대구광역시 | C36: 합계 | D36: 256032 | E36: 1.9076501e+08 | F36: 167749 | G36: 100725452 | H36: 54824 | I36: 48320383 | J36: 13541 | K36: 16614756 | L36: 6748 | M36: 16564592 | N36: 13170 | O36: 8539828
C37: 10년 미만 | D37: 19460 | E37: 34763877 | F37: 8374 | G37: 19438548 | H37: 7081 | I37: 8171890 | J37: 1462 | K37: 2974572 | L37: 871 | M37: 2778900 | N37: 1672 | O37: 1399968
C38: 10 ~ 15년 미만 | D38: 19672 | E38: 27810074 | F38: 10518 | G38: 10119101 | H38: 5570 | I38: 12766313 | J38: 1664 | K38: 2280539 | L38: 658 | M38: 1940135 | N38: 1262 | O38: 703986
C39: 15 ~ 20년 미만 | D39: 14351 | E39: 21090873 | F39: 6919 | G39: 13164593 | H39: 3813 | I39: 3247965 | J39: 1464 | K39: 1807437 | L39: 762 | M39: 2090244 | N39: 1393 | O39: 780634
C40: 20 ~ 25년 미만 | D40: 20183 | E40: 22472633 | F40: 10805 | G40: 12936233 | H40: 4985 | I40: 4556619 | J40: 1858 | K40: 1668609 | L40: 982 | M40: 2483749 | N40: 1553 | O40: 827423
...

Sheet 5-2. 30년 이상 건축물(시군구별) 
A1: 5-2. 2025년 30년 이상 건축물 현황(시군구별)
A2: [기준] 30년 이상 건축물 : 사용승인 30년이상 경과(~1996년)
I3: (단위 : ㎡)
B4: 시도 | C4: 시군구 | D4: 전체 건축물 | G4: 주거용 건축물
D5: 연면적 | E5: 30년 이상 건축물 연면적 | F5: 노후 건축물 비율(%) | G5: 연면적 | H5: 30년 이상 건축물 연면적 | I5: 노후 건축물 비율(%)
B6: 서울 | C6: 종로구 | D6: 19804316 | E6: 9668068.7 | F6: 0.48817988 | G6: 5077498.7 | H6: 1973725.8 | I6: 0.3887201
B7: 서울 | C7: 중구 | D7: 22587906 | E7: 10224210 | F7: 0.45264089 | G7: 4588695.8 | H7: 1181877.1 | I7: 0.25756275
B8: 서울 | C8: 용산구 | D8: 17912038 | E8: 6894168.2 | F8: 0.38489023 | G8: 8958025.7 | H8: 3392700.4 | I8: 0.37873306
B9: 서울 | C9: 성동구 | D9: 20263670 | E9: 6080420.8 | F9: 0.30006513 | G9: 9477345.5 | H9: 3042109.1 | I9: 0.32098746
B10: 서울 | C10: 광진구 | D10: 17727238 | E10: 7302351.2 | F10: 0.41192831 | G10: 10164098 | H10: 4281867.9 | I10: 0.42127376
B11: 서울 | C11: 동대문구 | D11: 19776740 | E11: 6801966.1 | F11: 0.34393768 | G11: 10759010 | H11: 2989449.8 | I11: 0.27785547
B12: 서울 | C12: 중랑구 | D12: 22316118 | E12: 9523241.7 | F12: 0.42674276 | G12: 14307203 | H12: 7323759.1 | I12: 0.51189315
B13: 서울 | C13: 성북구 | D13: 21720138 | E13: 6443628.5 | F13: 0.29666609 | G13: 14344224 | H13: 3535533.4 | I13: 0.24647784
B14: 서울 | C14: 강북구 | D14: 12916188 | E14: 5830424 | F14: 0.45140441 | G14: 8607696.4 | H14: 3706971.9 | I14: 0.43065784
B15: 서울 | C15: 도봉구 | D15: 16028822 | E15: 7882016.9 | F15: 0.49174024 | G15: 10223000 | H15: 5734998.4 | I15: 0.56098977
B16: 서울 | C16: 노원구 | D16: 22834817 | E16: 12377226 | F16: 0.5420331 | G16: 15965473 | H16: 9091319.8 | I16: 0.5694363
B17: 서울 | C17: 은평구 | D17: 20981414 | E17: 6101424.8 | F17: 0.29080141 | G17: 14510297 | H17: 3927502.6 | I17: 0.27067003
... B80: 울산 | C80: 울주군 | D80: 24932800 | E80: 5455318.2 | F80: 0.21880086 | G80: 9185276.4 | H80: 2014404.1 | I80: 0.21930795
B81: 세종 | D81: 33362900 | E81: 3376889.2 | F81: 0.1012169 | G81: 16636636 | H81: 1194912.6 | I81: 0.071824169
B82: 경기 | C82: 수원시 장안구 | D82: 14637303 | E82: 4009583.1 | F82: 0.2739291 | G82: 9358260.7 | H82: 2345909.4 | I82: 0.25067792
B83: 경기 | C83: 수원시 권선구 | D83: 23458815 | E83: 5226852.2 | F83: 0.22280973 | G83: 13480050 | H83: 3589162.3 | I83: 0.26625734
B84: 경기 | C84: 수원시 팔달구 | D84: 14101558 | E84: 4740592.1 | F84: 0.33617507 | G84: 6856360.7 | H84: 2076899.7 | I84: 0.30291575
B85: 경기 | C85: 수원시 영통구 | D85: 28454349 | E85: 3184998.9 | F85: 0.11193364 | G85: 12804637 | H85: 1570837.7 | I85: 0.12267726
B86: 경기 | C86: 성남시 수정구 | D86: 14900328 | E86: 3928282.6 | F86: 0.26363732 | G86: 7143096.2 | H86: 2185298.9 | I86: 0.30593161
B87: 경기 | C87: 성남시 중원구 | D87: 12741271 | E87: 4071373 | F87: 0.31954215 | G87: 5919691.2 | H87: 2340097.3 | I87: 0.39530733
B88: 경기 | C88: 성남시 분당구 | D88: 64144611 | E88: 40168938 | F88: 0.62622467 | G88: 22715094 | H88: 15524348 | I88: 0.68343755
B89: 경기 | C89: 의정부시 | D89: 26312287 | E89: 6852092.8 | F89: 0.26041419 | G89: 15921264 | H89: 3956401.5 | I89: 0.24849796
B90: 경기 | C90: 안양시 만안구 | D90: 13615694 | E90: 4867577.1 | F90: 0.35749755 | G90: 7022285.7 | H90: 2214068.6 | I90: 0.31529173
B91: 경기 | C91: 안양시 동안구 | D91: 22281728 | E91: 8802698.6 | F91: 0.39506356 | G91: 10415489 | H91: 5098414.5 | I91: 0.48950315
B92: 경기 | C92: 부천시 원미구 | D92: 33116222 | E92: 15444525 | F92: 0.46637339 | G92: 13695218 | H92: 6439496.6 | I92: 0.47020037
B93: 경기 | C93: 부천시 소사구 | D93: 12070225 | E93: 3650439.3 | F93: 0.30243341 | G93: 7842400.8 | H93: 2432318.9 | I93: 0.31014978
... B257: 제주 | C257: 서귀포시 | D257: 20986905 | E257: 4843903.9 | F257: 0.23080601 | G257: 7733403 | H257: 2183293 | I257: 0.28231983

Sheet 6. 말소
A1: =목차!B9 -> 6. 2025년 말소 건축물 용도별 현황
A2: [기준] 기타 : 사용승일일(항목) 값 누락 또는 오기
A3: [기준] 기간산출방식 : 말소년도 - 사용승인년도
A4: [기준] 10년미만(2017년-2025년), 10년이상-15년미만(2012년-2016년), 15년이상-20년미만(2007년-2011년)
A5: 20년이상-25년미만(2002년-2006년), 25년이상-30년미만(1997년-2001년), 30년이상-35년미만(1992년-1996년), 35년이상(~1991년)
O6: (단위 : 동, ㎡)
B7: 구분 | D7: 합계 | F7: 주거용 | H7: 상업용 | J7: 공업용 | L7: 교육 및 사회용 | N7: 기타
D8: 동수 | E8: 연면적 | F8: 동수 | G8: 연면적 | H8: 동수 | I8: 연면적 | J8: 동수 | K8: 연면적 | L8: 동수 | M8: 연면적 | N8: 동수 | O8: 연면적
B9: 전체 | C9: 합계 | D9: 44164 | E9: 9362361.8 | F9: 30427 | G9: 4172448 | H9: 7600 | I9: 2581159 | J9: 921 | K9: 748590 | L9: 654 | M9: 519353 | N9: 4562 | O9: 1340812
C10: 10년미만 | D10: 1648 | E10: 337950.96 | F10: 383 | G10: 53446 | H10: 675 | I10: 105934 | J10: 53 | K10: 32164 | L10: 20 | M10: 48851 | N10: 517 | O10: 97555
C11: 10 ~ 15년 미만 | D11: 1251 | E11: 399875.58 | F11: 386 | G11: 62485 | H11: 427 | I11: 111363 | J11: 40 | K11: 117692 | L11: 20 | M11: 6294 | N11: 378 | O11: 102042
C12: 15 ~ 20년 미만 | D12: 1693 | E12: 478678.49 | F12: 469 | G12: 76998 | H12: 610 | I12: 163674 | J12: 66 | K12: 86194 | L12: 52 | M12: 49545 | N12: 496 | O12: 102269
C13: 20 ~ 25년 미만 | D13: 2470 | E13: 917635.03 | F13: 1020 | G13: 341066 | H13: 802 | I13: 338428 | J13: 89 | K13: 43052 | L13: 89 | M13: 44674 | N13: 470 | O13: 150414
C14: 25 ~ 30년 미만 | D14: 2861 | E14: 1092721.7 | F14: 1197 | G14: 286587 | H14: 808 | I14: 390039 | J14: 105 | K14: 70371 | L14: 126 | M14: 96171 | N14: 625 | O14: 249554
C15: 30 ~ 35년 미만 | D15: 4370 | E15: 1388765.1 | F15: 2547 | G15: 642568 | H15: 961 | I15: 365617 | J15: 119 | K15: 101070 | L15: 66 | M15: 42050 | N15: 677 | O15: 237461
C16: 35년 이상 | D16: 18494 | E16: 3745877.3 | F16: 14866 | G16: 2148595 | H16: 2405 | I16: 974162 | J16: 324 | K16: 257965 | L16: 182 | M16: 129191 | N16: 717 | O16: 235963
C17: 기타 | D17: 11377 | E17: 1000857.7 | F17: 9559 | G17: 560703 | H17: 912 | I17: 131942 | J17: 125 | K17: 40082 | L17: 99 | M17: 102578 | N17: 682 | O17: 165553
B18: 서울특별시 | C18: 합계 | D18: 4713 | E18: 1749320.8 | F18: 3661 | G18: 902340 | H18: 881 | I18: 666330 | J18: 48 | K18: 35983 | L18: 71 | M18: 76393 | N18: 52 | O18: 68275
C19: 10년미만 | D19: 30 | E19: 9888.18 | F19: 17 | G19: 4867 | H19: 12 | I19: 4817 | J19: 0 | K19: 0 | L19: 0 | M19: 0 | N19: 1 | O19: 204
C20: 10 ~ 15년 미만 | D20: 31 | E20: 13800.164 | F20: 14 | G20: 5830 | H20: 14 | I20: 5752 | J20: 1 | K20: 999 | L20: 2 | M20: 1220 | N20: 0 | O20: 0
C21: 15 ~ 20년 미만 | D21: 52 | E21: 31641.66 | F21: 19 | G21: 6208 | H21: 23 | I21: 10557 | J21: 2 | K21: 6461 | L21: 7 | M21: 8386 | N21: 1 | O21: 30
C22: 20 ~ 25년 미만 | D22: 194 | E22: 150111.27 | F22: 129 | G22: 64484 | H22: 61 | I22: 82645 | J22: 1 | K22: 30 | L22: 1 | M22: 829 | N22: 2 | O22: 2123
C23: 25 ~ 30년 미만 | D23: 235 | E23: 148047.18 | F23: 151 | G23: 63994 | H23: 65 | I23: 64501 | J23: 0 | K23: 0 | L23: 14 | M23: 12081 | N23: 5 | O23: 7471
C24: 30 ~ 35년 미만 | D24: 767 | E24: 287954.58 | F24: 645 | G24: 203219 | H24: 112 | I24: 67382 | J24: 1 | K24: 671 | L24: 6 | M24: 11578 | N24: 3 | O24: 5104
C25: 35년 이상 | D25: 2994 | E25: 1010505.8 | F25: 2364 | G25: 534337 | H25: 541 | I25: 402384 | J25: 35 | K25: 21048 | L25: 34 | M25: 27816 | N25: 20 | O25: 24920
C26: 기타 | D26: 410 | E26: 97371.98 | F26: 322 | G26: 19401 | H26: 53 | I26: 28292 | J26: 8 | K26: 6774 | L26: 7 | M26: 14482 | N26: 20 | O26: 28422
B27: 부산광역시 | C27: 합계 | D27: 2237 | E27: 578884.04 | F27: 1716 | G27: 199574 | H27: 382 | I27: 292611 | J27: 47 | K27: 18015 | L27: 20 | M27: 25800 | N27: 72 | O27: 42884
C28: 10년미만 | D28: 16 | E28: 3898.485 | F28: 0 | G28: 0 | H28: 15 | I28: 3799 | J28: 0 | K28: 0 | L28: 0 | M28: 0 | N28: 1 | O28: 99
C29: 10 ~ 15년 미만 | D29: 28 | E29: 7055.429 | F29: 9 | G29: 2570 | H29: 15 | I29: 3826 | J29: 0 | K29: 0 | L29: 1 | M29: 289 | N29: 3 | O29: 370
C30: 15 ~ 20년 미만 | D30: 21 | E30: 10095.3 | F30: 2 | G30: 622 | H30: 14 | I30: 7299 | J30: 4 | K30: 1290 | L30: 0 | M30: 0 | N30: 1 | O30: 883
C31: 20 ~ 25년 미만 | D31: 79 | E31: 86549.73 | F31: 30 | G31: 15889 | H31: 35 | I31: 66244 | J31: 4 | K31: 2326 | L31: 2 | M31: 692 | N31: 8 | O31: 1399
C32: 25 ~ 30년 미만 | D32: 77 | E32: 151205.85 | F32: 40 | G32: 7885 | H32: 29 | I32: 113149 | J32: 3 | K32: 2619 | L32: 2 | M32: 5770 | N32: 3 | O32: 21783
C33: 30 ~ 35년 미만 | D33: 208 | E33: 59335.832 | F33: 143 | G33: 30138 | H33: 51 | I33: 22931 | J33: 7 | K33: 1371 | L33: 2 | M33: 1148 | N33: 5 | O33: 3748
C34: 35년 이상 | D34: 1586 | E34: 242975.62 | F34: 1319 | G34: 131284 | H34: 199 | I34: 71059 | J34: 26 | K34: 10104 | L34: 13 | M34: 17901 | N34: 29 | O34: 12627
C35: 기타 | D35: 222 | E35: 17767.78 | F35: 173 | G35: 11186 | H35: 24 | I35: 4302 | J35: 3 | K35: 305 | L35: 0 | M35: 0 | N35: 22 | O35: 1976
B36: 대구광역시 | C36: 합계 | D36: 1376 | E36: 274506.95 | F36: 984 | G36: 115390 | H36: 261 | I36: 77286 | J36: 62 | K36: 53552 | L36: 9 | M36: 4631 | N36: 60 | O36: 23648
C37: 10년미만 | D37: 31 | E37: 11298.556 | F37: 9 | G37: 3559 | H37: 16 | I37: 3619 | J37: 5 | K37: 3793 | L37: 0 | M37: 0 | N37: 1 | O37: 327
C38: 10 ~ 15년 미만 | D38: 34 | E38: 7314.57 | F38: 10 | G38: 3035 | H38: 12 | I38: 3025 | J38: 4 | K38: 854 | L38: 1 | M38: 30 | N38: 7 | O38: 370
C39: 15 ~ 20년 미만 | D39: 19 | E39: 6897.34 | F39: 2 | G39: 334 | H39: 11 | I39: 4247 | J39: 2 | K39: 675 | L39: 0 | M39: 1244 | N39: 4 | O39: 398
C40: 20 ~ 25년 미만 | D40: 47 | E40: 13212.6 | F40: 28 | G40: 9320 | H40: 11 | I40: 2341 | J40: 3 | K40: 753 | L40: 0 | M40: 0 | N40: 5 | O40: 798
...

Sheet 7-1. 층수별
A1: 7-1. 2025년 층수별 현황
A2: [기준] 기타 : 지상층수(항목) 값 누락 또는 오기
L3: (단위 : 동)
B4: 시도명 | C4: 합계 | D4: 1층 | E4: 2~4층 | F4: 5층 | G4: 6~10층 | H4: 11~20층 | I4: 21~30층 | J4: 31 ~ 49층 | K4: 50층 이상 | L4: 기타
B5: 합계 | C5: =SUM(C6:C22) -> 7438642 | D5: =SUM(D6:D22) -> 4512243 | E5: =SUM(E6:E22) -> 2475889 | F5: =SUM(F6:F22) -> 187643 | G5: =SUM(G6:G22) -> 102423 | H5: =SUM(H6:H22) -> 103312 | I5: =SUM(I6:I22) -> 33490 | J5: =SUM(J6:J22) -> 5151 | ... L5: =SUM(L6:L22) -> 18352
B6: 서울특별시 | C6: 574058 | D6: 98594 | E6: 345769 | F6: 67451 | G6: 38072 | H6: 18405 | I6: 4222 | J6: 610 | K6: 25 | L6: 910
B7: 부산광역시 | C7: 345978 | D7: 134946 | E7: 176226 | F7: 14256 | G7: 9802 | H7: 5980 | I7: 3178 | J7: 743 | K7: 42 | L7: 805
B8: 대구광역시 | C8: 256032 | D8: 95166 | E8: 143740 | F8: 6690 | G8: 2928 | H8: 4761 | I8: 1641 | J8: 414 | K8: 17 | L8: 675
B9: 인천광역시 | C9: 220159 | D9: 84865 | E9: 107971 | F9: 13083 | G9: 5406 | H9: 5306 | I9: 2300 | J9: 783 | K9: 24 | L9: 421
B10: 광주광역시 | C10: 135977 | D10: 52254 | E10: 72791 | F10: 3619 | G10: 1878 | H10: 4022 | I10: 866 | J10: 123 | K10: 0 | L10: 424
B11: 대전광역시 | C11: 130126 | D11: 45621 | E11: 73324 | F11: 4403 | G11: 2371 | H11: 3022 | I11: 990 | J11: 139 | K11: 8 | L11: 248
B12: 울산광역시 | C12: 137220 | D12: 65517 | E12: 62972 | F12: 3036 | G12: 2262 | H12: 2201 | I12: 751 | J12: 158 | K12: 2 | L12: 321
B13: 세종특별자치시 | C13: 36190 | D13: 24489 | E13: 8931 | F13: 335 | G13: 568 | H13: 1027 | I13: 655 | J13: 53 | K13: 0 | L13: 132
B14: 경기도 | C14: 1283371 | D14: 648683 | E14: 529376 | F14: 40606 | G14: 18760 | H14: 29440 | I14: 11024 | J14: 1261 | K14: 19 | L14: 4202
B15: 강원특별자치도 | C15: 446084 | D15: 320659 | E15: 114798 | F15: 3848 | G15: 1988 | H15: 3455 | I15: 520 | J15: 83 | K15: 0 | L15: 733
B16: 충청북도 | C16: 411404 | D16: 296630 | E16: 104630 | F16: 3448 | G16: 1883 | H16: 3144 | I16: 1040 | J16: 83 | K16: 0 | L16: 546
B17: 충청남도 | C17: 572884 | D17: 440142 | E17: 116653 | F17: 4520 | G17: 2512 | H17: 4390 | I17: 1462 | J17: 154 | K17: 1 | L17: 3050
... B22: 제주특별자치도 | C22: 193269 | D22: 124321 | E22: 63383 | F22: 2238 | G22: 2207 | H22: 542 | I22: 1 | J22: 1 | K22: 0 | L22: 576

Sheet 7-2. 면적별
A1: 7-2. 2025년 면적별 현황
A2: [기준] 1백㎡미만 : 층면적합(항목) 값 누락 포함
K3: (단위 : 동)
B4: 시도명 | C4: 합계 | D4: 1백㎡미만 | E4: 1백㎡~2백㎡미만 | F4: 2백㎡~3백㎡미만 | G4: 3백㎡~5백㎡미만 | H4: 5백㎡~1천㎡미만 | I4: 1천㎡~3천㎡미만 | J4: 3천㎡~1만㎡미만 | K4: 1만㎡이상
B5: 합계 | C5: =SUM(D5:K5) -> 7438642 | D5: =SUM(D6:D22) -> 3221834 | E5: =SUM(E6:E22) -> 1677787 | F5: =SUM(F6:F22) -> 552022 | G5: =SUM(G6:G22) -> 818654 | H5: =SUM(H6:H22) -> 606606 | I5: =SUM(I6:I22) -> 308442 | J5: =SUM(J6:J22) -> 179126 | K5: =SUM(K6:K22) -> 74171
B6: 서울특별시 | C6: 574058 | D6: 99698 | E6: 114659 | F6: 88331 | G6: 102686 | H6: 96736 | I6: 37249 | J6: 23200 | K6: 11499
B7: 부산광역시 | C7: 345978 | D7: 140156 | E7: 89161 | F7: 22643 | G7: 34063 | H7: 27930 | I7: 16409 | J7: 10014 | K7: 5602
B8: 대구광역시 | C8: 256032 | D8: 76810 | E8: 69767 | F8: 23484 | G8: 39980 | H8: 22906 | I8: 11488 | J8: 7812 | K8: 3785
B9: 인천광역시 | C9: 220159 | D9: 64526 | E9: 43084 | F9: 19791 | G9: 34369 | H9: 29624 | I9: 13576 | J9: 10129 | K9: 5060
B10: 광주광역시 | C10: 135977 | D10: 43141 | E10: 39459 | F10: 9128 | G10: 18293 | H10: 11233 | I10: 6678 | J10: 5709 | K10: 2336
B11: 대전광역시 | C11: 130126 | D11: 36633 | E11: 32081 | F11: 10144 | G11: 23462 | H11: 14348 | I11: 6060 | J11: 4777 | K11: 2621
B12: 울산광역시 | C12: 137220 | D12: 46609 | E12: 32680 | F12: 11612 | G12: 21034 | H12: 12271 | I12: 6840 | J12: 4290 | K12: 1884
B13: 세종특별자치시 | C13: 36190 | D13: 15218 | E13: 8738 | F13: 2553 | G13: 3327 | H13: 2223 | I13: 1366 | J13: 2048 | K13: 717
B14: 경기도 | C14: 1283371 | D14: 322912 | E14: 344681 | F14: 122721 | G14: 199037 | H14: 157300 | I14: 65940 | J14: 49074 | K14: 21706
B15: 강원특별자치도 | C15: 446084 | D15: 243529 | E15: 99387 | F15: 26835 | G15: 34433 | H15: 21349 | I15: 12606 | J15: 6187 | K15: 1758
B16: 충청북도 | C16: 411404 | D16: 199197 | E16: 98704 | F16: 26005 | G16: 38260 | H16: 25511 | I16: 14402 | J16: 7106 | K16: 2219
B17: 충청남도 | C17: 572884 | D17: 294802 | E17: 127975 | F17: 33135 | G17: 46863 | H17: 36577 | I17: 21002 | J17: 9500 | K17: 3030
... B22: 제주특별자치도 | C22: 193269 | D22: 103048 | E22: 42649 | F22: 11780 | G22: 15222 | H22: 11771 | I22: 6094 | J22: 2389 | K22: 316

Sheet 7-3. 소유주체별
A1: 7-3. 2025년 소유주체별 현황
A2: [기준] 기타 : 소유구분(항목) 값 누락 및 상세분류 미등록 자료
L3: (단위 : 동, ㎡)
B4: 시도 | C4: 합계 | E4: 개인 | G4: 법인 | I4: 국공유 | K4: 기타
C5: 동 수 | D5: 연면적 | E5: 동 수 | F5: 연면적 | G5: 동 수 | H5: 연면적 | I5: 동 수 | J5: 연면적 | K5: 동 수 | L5: 연면적
B6: 전국 | C6: 7438642 | D6: 4.3750305e+09 | E6: 5716548.5 | F6: 1.1370773e+09 | G6: 605427.29 | H6: 8.1263499e+08 | I6: 249407.35 | J6: 2.4910522e+08 | K6: 867258.88 | L6: 2.176213e+09
B7: 서울특별시 | C7: 574058 | D7: 6.0050661e+08 | E7: 370335.9 | F7: 1.1292357e+08 | G7: 32888.33 | H7: 84396959 | I7: 12502.74 | J7: 27117907 | K7: 158331.03 | L7: 3.7606817e+08
B8: 부산광역시 | C8: 345977.99 | D8: 2.5729355e+08 | E8: 261727.37 | F8: 48777097 | G8: 27525.22 | H8: 41290896 | I8: 9270.75 | J8: 13179298 | K8: 47454.65 | L8: 1.5404626e+08
B9: 대구광역시 | C9: 256032 | D9: 1.9076501e+08 | E9: 204041.12 | F9: 50363476 | G9: 17527.43 | H9: 27298777 | I9: 5733.28 | J9: 9767516.8 | K9: 28730.17 | L9: 1.0333524e+08
B10: 인천광역시 | C10: 220159 | D10: 2.401257e+08 | E10: 138976.07 | F10: 35905532 | G10: 21559.26 | H10: 42224888 | I10: 9034.36 | J10: 11568784 | K10: 50589.31 | L10: 1.5042649e+08
B11: 광주광역시 | C11: 135976.99 | D11: 1.1313951e+08 | E11: 104123.89 | F11: 23581627 | G11: 12947.78 | H11: 19345556 | I11: 3371.44 | J11: 7629835.2 | K11: 15533.88 | L11: 62582487
B12: 대전광역시 | C12: 130126 | D12: 1.1943018e+08 | E12: 99172.55 | F12: 26283354 | G12: 10613.39 | H12: 20369630 | I12: 4387.29 | J12: 8160084.9 | K12: 15952.77 | L12: 64617110
B13: 울산광역시 | C13: 137220 | D13: 97326388 | E13: 97610.08 | F13: 23044746 | G13: 23140.66 | H13: 27918893 | I13: 3770.84 | J13: 5008755.1 | K13: 12698.42 | L13: 41353993
B14: 세종특별자치시 | C14: 36190 | D14: 33362900 | E14: 25566.85 | F14: 4541172.7 | G14: 3572.49 | H14: 5316341.3 | I14: 2112.2 | J14: 3957364.9 | K14: 4938.46 | L14: 19548021
B15: 경기도 | C15: 1283371 | D15: 1.156679e+09 | E15: 886746.87 | F15: 2.3305336e+08 | G15: 145543.45 | H15: 2.0522881e+08 | I15: 46195.36 | J15: 53883880 | K15: 204885.33 | L15: 6.6451296e+08
B16: 강원특별자치도 | C16: 446084 | D16: 1.5211616e+08 | E16: 360177.84 | F16: 55138628 | G16: 26630.56 | H16: 22005705 | I16: 29960.5 | J16: 19012675 | K16: 29315.1 | L16: 55959151
B17: 충청북도 | C17: 411404 | D17: 1.692326e+08 | E17: 330166.7 | F17: 58944268 | G17: 37438.05 | H17: 43032724 | I17: 14174.33 | J17: 11592893 | K17: 29624.92 | L17: 55662715
... B23: 제주특별자치도 | C23: 193269.01 | D23: 61183279 | E23: 154435.93 | F23: 23126149 | G23: 13215.56 | H23: 9521351.8 | I23: 4897.78 | J23: 3897536 | K23: 20719.74 | L23: 24638242

Sheet 8-1. 1인당 건축물 현황(시도별)
A1: 8-1. 2025년 1인당 건축물 현황(시도별)
A2: [기준] 인구수 : 행정안전부 2025년 12월 주민등록 인구 및 세대현황 참조(https://jumin.mois.go.kr)
A3: [기준] 기타 : 공동주택의 부대/복리시설, 공공업무시설, 창고시설, 동식물관련시설, 교정시설, 국방·군사시설, 방송통신시설, 발전시설, 가설건축물, 자원순환관련 시설 등, 용도값 오기 및 누락자료
O4: (단위 : ㎡)
B5: 시도 | C5: 인구수 | D5: 합계 | F5: 주거용 | H5: 상업용 | J5: 공업용 | L5: 교육 및 사회용 | N5: 기타
D6: 연면적 | E6: 1인당 면적 | F6: 연면적 | G6: 1인당 면적 | H6: 연면적 | I6: 1인당 면적 | J6: 연면적 | K6: 1인당 면적 | L6: 연면적 | M6: 1인당 면적 | N6: 연면적 | O6: 1인당 면적
B7: 합계 | C7: 51117378 | D7: ='1. 용도별'!D6 -> 4.3750305e+09 | E7: =D7/$C7 -> 85.587929 | F7: ='1. 용도별'!F6 -> 2.0154921e+09 | G7: =F7/$C7 -> 39.428707 | H7: ='1. 용도별'!H6 -> 9.6460953e+08 | I7: =H7/$C7 -> 18.870481 | J7: ='1. 용도별'!J6 -> 4.8572589e+08 | K7: =J7/$C7 -> 9.5021675 | L7: ='1. 용도별'!L6 -> 3.8207544e+08 | M7: =L7/$C7 -> 7.4744726 | N7: ='1. 용도별'!N6 -> 5.2712754e+08 | O7: =N7/$C7 -> 10.312101
B8: 서울특별시 | C8: 9299548 | D8: ='1. 용도별'!D7 -> 6.0050661e+08 | E8: =D8/$C8 -> 64.573742 | F8: ='1. 용도별'!F7 -> 3.1195634e+08 | G8: =F8/$C8 -> 33.545323 | H8: ='1. 용도별'!H7 -> 1.9019975e+08 | I8: =H8/$C8 -> 20.45258 | J8: ='1. 용도별'!J7 -> 15288234 | K8: =J8/$C8 -> 1.6439761 | L8: ='1. 용도별'!L7 -> 61408555 | M8: =L8/$C8 -> 6.6033914 | N8: ='1. 용도별'!N7 -> 21653735 | O8: =N8/$C8 -> 2.3284718
B9: 부산광역시 | C9: 3241600 | D9: ='1. 용도별'!D8 -> 2.5729355e+08 | E9: =D9/$C9 -> 79.372395 | F9: ='1. 용도별'!F8 -> 1.2902802e+08 | G9: =F9/$C9 -> 39.803808 | H9: ='1. 용도별'!H8 -> 62782171 | I9: =H9/$C9 -> 19.367649 | J9: ='1. 용도별'!J8 -> 20406145 | K9: =J9/$C9 -> 6.2950841 | L9: ='1. 용도별'!L8 -> 21906842 | M9: =L9/$C9 -> 6.7580336 | N9: ='1. 용도별'!N8 -> 23170372 | O9: =N9/$C9 -> 7.1478196
B10: 대구광역시 | C10: 2353032 | D10: ='1. 용도별'!D9 -> 1.9076501e+08 | E10: =D10/$C10 -> 81.072 | F10: ='1. 용도별'!F9 -> 1.0072545e+08 | G10: =F10/$C10 -> 42.806665 | H10: ='1. 용도별'!H9 -> 48320383 | I10: =H10/$C10 -> 20.53537 | J10: ='1. 용도별'!J9 -> 16614756 | K10: =J10/$C10 -> 7.060999 | L10: ='1. 용도별'!L9 -> 16564592 | M10: =L10/$C10 -> 7.0396798 | N10: ='1. 용도별'!N9 -> 8539827.9 | O10: =N10/$C10 -> 3.6292868
B11: 인천광역시 | C11: 3051961 | D11: ='1. 용도별'!D10 -> 2.401257e+08 | E11: =D11/$C11 -> 78.67915 | F11: ='1. 용도별'!F10 -> 1.1220226e+08 | G11: =F11/$C11 -> 36.763987 | H11: ='1. 용도별'!H10 -> 58927532 | I11: =H11/$C11 -> 19.308088 | J11: ='1. 용도별'!J10 -> 25653875 | K11: =J11/$C11 -> 8.4057021 | L11: ='1. 용도별'!L10 -> 18676858 | M11: =L11/$C11 -> 6.1196254 | N11: ='1. 용도별'!N10 -> 24665178 | O11: =N11/$C11 -> 8.0817474
B12: 광주광역시 | C12: 1392013 | D12: ='1. 용도별'!D11 -> 1.1313951e+08 | E12: =D12/$C12 -> 81.277621 | F12: ='1. 용도별'!F11 -> 61915153 | G12: =F12/$C12 -> 44.478861 | H12: ='1. 용도별'!H11 -> 24892702 | I12: =H12/$C12 -> 17.882521 | J12: ='1. 용도별'!J11 -> 8973996.4 | K12: =J12/$C12 -> 6.4467763 | L12: ='1. 용도별'!L11 -> 13008225 | M12: =L12/$C12 -> 9.3449019 | N12: ='1. 용도별'!N11 -> 4349428.6 | O12: =N12/$C12 -> 3.1245603
B13: 대전광역시 | C13: 1440729 | D13: ='1. 용도별'!D12 -> 1.1943018e+08 | E13: =D13/$C13 -> 82.895659 | F13: ='1. 용도별'!F12 -> 58972741 | G13: =F13/$C13 -> 40.93257 | H13: ='1. 용도별'!H12 -> 25868178 | I13: =H13/$C13 -> 17.954923 | J13: ='1. 용도별'!J12 -> 5842594.9 | K13: =J13/$C13 -> 4.0553046 | L13: ='1. 용도별'!L12 -> 15533512 | M13: =L13/$C13 -> 10.781703 | N13: ='1. 용도별'!N12 -> 13213153 | O13: =N13/$C13 -> 9.1711581
B14: 울산광역시 | C14: 1091948 | D14: ='1. 용도별'!D13 -> 97326388 | E14: =D14/$C14 -> 89.130973 | F14: ='1. 용도별'!F13 -> 45286109 | G14: =F14/$C14 -> 41.472771 | H14: ='1. 용도별'!H13 -> 18801961 | I14: =H14/$C14 -> 17.218733 | J14: ='1. 용도별'!J13 -> 19473019 | K14: =J14/$C14 -> 17.833285 | L14: ='1. 용도별'!L13 -> 7576957.9 | M14: =L14/$C14 -> 6.9389365 | N14: ='1. 용도별'!N13 -> 6188340.8 | O14: =N14/$C14 -> 5.6672486
B15: 세종특별자치시 | C15: 391965 | D15: ='1. 용도별'!D14 -> 33362900 | E15: =D15/$C15 -> 85.117037 | F15: ='1. 용도별'!F14 -> 16636636 | G15: =F15/$C15 -> 42.444189 | H15: ='1. 용도별'!H14 -> 6120508.3 | I15: =H15/$C15 -> 15.614936 | J15: ='1. 용도별'!J14 -> 3192451.1 | K15: =J15/$C15 -> 8.1447352 | L15: ='1. 용도별'!L14 -> 3497655.9 | M15: =L15/$C15 -> 8.9233884 | N15: ='1. 용도별'!N14 -> 3915647.8 | O15: =N15/$C15 -> 9.9897894
B16: 경기도 | C16: 13730135 | D16: ='1. 용도별'!D15 -> 1.156679e+09 | E16: =D16/$C16 -> 84.243819 | F16: ='1. 용도별'!F15 -> 5.1962295e+08 | G16: =F16/$C16 -> 37.845437 | H16: ='1. 용도별'!H15 -> 2.4095218e+08 | I16: =H16/$C16 -> 17.549149 | J16: ='1. 용도별'!J15 -> 1.4481191e+08 | K16: =J16/$C16 -> 10.547013 | L16: ='1. 용도별'!L15 -> 88047814 | M16: =L16/$C16 -> 6.4127421 | N16: ='1. 용도별'!N15 -> 1.6324414e+08 | O16: =N16/$C16 -> 11.889478
B17: 강원특별자치도 | C17: 1508500 | D17: ='1. 용도별'!D16 -> 1.5211616e+08 | E17: =D17/$C17 -> 100.83935 | F17: ='1. 용도별'!F16 -> 67494850 | G17: =F17/$C17 -> 44.743023 | H17: ='1. 용도별'!H16 -> 34968187 | I17: =H17/$C17 -> 23.180767 | J17: ='1. 용도별'!J16 -> 7723557.8 | K17: =J17/$C17 -> 5.1200251 | L17: ='1. 용도별'!L16 -> 17456015 | M17: =L17/$C17 -> 11.57177 | N17: ='1. 용도별'!N16 -> 24473549 | O17: =N17/$C17 -> 16.223765
B18: 충청북도 | C18: 1596502 | D18: ='1. 용도별'!D17 -> 1.692326e+08 | E18: =D18/$C18 -> 106.00212 | F18: ='1. 용도별'!F17 -> 71825040 | G18: =F18/$C18 -> 44.989007 | H18: ='1. 용도별'!H17 -> 28678080 | I18: =H18/$C18 -> 17.963071 | J18: ='1. 용도별'!J17 -> 31053451 | K18: =J18/$C18 -> 19.450931 | L18: ='1. 용도별'!L17 -> 14556834 | M18: =L18/$C18 -> 9.1179555 | N18: ='1. 용도별'!N17 -> 23119196 | O18: =N18/$C18 -> 14.481157
... B24: 제주특별자치도 | C24: 664792 | D24: ='1. 용도별'!D23 -> 61183279 | E24: =D24/$C24 -> 92.033717 | F24: ='1. 용도별'!F23 -> 26302676 | G24: =F24/$C24 -> 39.565271 | H24: ='1. 용도별'!H23 -> 20490927 | I24: =H24/$C24 -> 30.823065 | J24: ='1. 용도별'!J23 -> 890047.21 | K24: =J24/$C24 -> 1.3388356 | L24: ='1. 용도별'!L23 -> 5665029.2 | M24: =L24/$C24 -> 8.5215063 | N24: ='1. 용도별'!N23 -> 7834599.2 | O24: =N24/$C24 -> 11.785038

Sheet 8-2. 1인당 건축물 현황(시군구별)
A1: 8-2. 2025년 1인당 건축물 현황(시군구별)
A2: [기준] 인구수 : 행정안전부 2025년 12월 주민등록 인구 및 세대현황 참조(https://jumin.mois.go.kr)
B4: 시도 | C4: 시군구 | D4: 인구 | E4: 전체 건축물 | G4: 주거용 건축물
E5: 건축물 연면적 | F5: 1인당 면적 | G5: 주거용 연면적 | H5: 1인당 면적
B6: 서울 | C6: 종로구 | D6: 137048 | E6: ='5-2. 30년 이상 건축물(시군구별) '!D6 -> 19804316 | F6: =E6/$D6 -> 144.50642 | G6: ='5-2. 30년 이상 건축물(시군구별) '!G6 -> 5077498.7 | H6: =G6/$D6 -> 37.049054
B7: 서울 | C7: 중구 | D7: 117805 | E7: ='5-2. 30년 이상 건축물(시군구별) '!D7 -> 22587906 | F7: =E7/$D7 -> 191.73979 | G7: ='5-2. 30년 이상 건축물(시군구별) '!G7 -> 4588695.8 | H7: =G7/$D7 -> 38.951622
B8: 서울 | C8: 용산구 | D8: 201894 | E8: ='5-2. 30년 이상 건축물(시군구별) '!D8 -> 17912038 | F8: =E8/$D8 -> 88.720009 | G8: ='5-2. 30년 이상 건축물(시군구별) '!G8 -> 8958025.7 | H8: =G8/$D8 -> 44.369945
B9: 서울 | C9: 성동구 | D9: 274606 | E9: ='5-2. 30년 이상 건축물(시군구별) '!D9 -> 20263670 | F9: =E9/$D9 -> 73.791797 | G9: ='5-2. 30년 이상 건축물(시군구별) '!G9 -> 9477345.5 | H9: =G9/$D9 -> 34.512522
B10: 서울 | C10: 광진구 | D10: 331167 | E10: ='5-2. 30년 이상 건축물(시군구별) '!D10 -> 17727238 | F10: =E10/$D10 -> 53.529603 | G10: ='5-2. 30년 이상 건축물(시군구별) '!G10 -> 10164098 | H10: =G10/$D10 -> 30.691761
B11: 서울 | C11: 동대문구 | D11: 346241 | E11: ='5-2. 30년 이상 건축물(시군구별) '!D11 -> 19776740 | F11: =E11/$D11 -> 57.118424 | G11: ='5-2. 30년 이상 건축물(시군구별) '!G11 -> 10759010 | H11: =G11/$D11 -> 31.07376
B12: 서울 | C12: 중랑구 | D12: 376916 | E12: ='5-2. 30년 이상 건축물(시군구별) '!D12 -> 22316118 | F12: =E12/$D12 -> 59.207138 | G12: ='5-2. 30년 이상 건축물(시군구별) '!G12 -> 14307203 | H12: =G12/$D12 -> 37.958598
B13: 서울 | C13: 성북구 | D13: 422559 | E13: ='5-2. 30년 이상 건축물(시군구별) '!D13 -> 21720138 | F13: =E13/$D13 -> 51.401434 | G13: ='5-2. 30년 이상 건축물(시군구별) '!G13 -> 14344224 | H13: =G13/$D13 -> 33.946086
B14: 서울 | C14: 강북구 | D14: 278928 | E14: ='5-2. 30년 이상 건축물(시군구별) '!D14 -> 12916188 | F14: =E14/$D14 -> 46.306529 | G14: ='5-2. 30년 이상 건축물(시군구별) '!G14 -> 8607696.4 | H14: =G14/$D14 -> 30.859922
B15: 서울 | C15: 도봉구 | D15: 299899 | E15: ='5-2. 30년 이상 건축물(시군구별) '!D15 -> 16028822 | F15: =E15/$D15 -> 53.447401 | G15: ='5-2. 30년 이상 건축물(시군구별) '!G15 -> 10223000 | H15: =G15/$D15 -> 34.088143
B16: 서울 | C16: 노원구 | D16: 483541 | E16: ='5-2. 30년 이상 건축물(시군구별) '!D16 -> 22834817 | F16: =E16/$D16 -> 47.224158 | G16: ='5-2. 30년 이상 건축물(시군구별) '!G16 -> 15965473 | H16: =G16/$D16 -> 33.017827
B17: 서울 | C17: 은평구 | D17: 455137 | E17: ='5-2. 30년 이상 건축물(시군구별) '!D17 -> 20981414 | F17: =E17/$D17 -> 46.099118 | G17: ='5-2. 30년 이상 건축물(시군구별) '!G17 -> 14510297 | H17: =G17/$D17 -> 31.881164
... B80: 울산 | C80: 울주군 | D80: 219174 | E80: ='5-2. 30년 이상 건축물(시군구별) '!D80 -> 24932800 | F80: =E80/$D80 -> 113.75802 | G80: ='5-2. 30년 이상 건축물(시군구별) '!G80 -> 9185276.4 | H80: =G80/$D80 -> 41.908604
B81: 세종 | D81: 391965 | E81: ='5-2. 30년 이상 건축물(시군구별) '!D81 -> 33362900 | F81: =E81/$D81 -> 85.117037 | G81: ='5-2. 30년 이상 건축물(시군구별) '!G81 -> 16636636 | H81: =G81/$D81 -> 42.444189
B82: 경기 | C82: 수원시 장안구 | D82: 271136 | E82: ='5-2. 30년 이상 건축물(시군구별) '!D82 -> 14637303 | F82: =E82/$D82 -> 53.985094 | G82: ='5-2. 30년 이상 건축물(시군구별) '!G82 -> 9358260.7 | H82: =G82/$D82 -> 34.515006
B83: 경기 | C83: 수원시 권선구 | D83: 361064 | E83: ='5-2. 30년 이상 건축물(시군구별) '!D83 -> 23458815 | F83: =E83/$D83 -> 64.971348 | G83: ='5-2. 30년 이상 건축물(시군구별) '!G83 -> 13480050 | H83: =G83/$D83 -> 37.33424
B84: 경기 | C84: 수원시 팔달구 | D84: 191822 | E84: ='5-2. 30년 이상 건축물(시군구별) '!D84 -> 14101558 | F84: =E84/$D84 -> 73.513766 | G84: ='5-2. 30년 이상 건축물(시군구별) '!G84 -> 6856360.7 | H84: =G84/$D84 -> 35.743349
B85: 경기 | C85: 수원시 영통구 | D85: 362493 | E85: ='5-2. 30년 이상 건축물(시군구별) '!D85 -> 28454349 | F85: =E85/$D85 -> 78.496273 | G85: ='5-2. 30년 이상 건축물(시군구별) '!G85 -> 12804637 | H85: =G85/$D85 -> 35.323817
B86: 경기 | C86: 성남시 수정구 | D86: 232389 | E86: ='5-2. 30년 이상 건축물(시군구별) '!D86 -> 14900328 | F86: =E86/$D86 -> 64.118045 | G86: ='5-2. 30년 이상 건축물(시군구별) '!G86 -> 7143096.2 | H86: =G86/$D86 -> 30.737669
B87: 경기 | C87: 성남시 중원구 | D87: 203572 | E87: ='5-2. 30년 이상 건축물(시군구별) '!D87 -> 12741271 | F87: =E87/$D87 -> 62.588523 | G87: ='5-2. 30년 이상 건축물(시군구별) '!G87 -> 5919691.2 | H87: =G87/$D87 -> 29.079103
B88: 경기 | C88: 성남시 분당구 | D88: 469833 | E88: ='5-2. 30년 이상 건축물(시군구별) '!D88 -> 64144611 | F88: =E88/$D88 -> 136.52641 | G88: ='5-2. 30년 이상 건축물(시군구별) '!G88 -> 22715094 | H88: =G88/$D88 -> 48.347166
B89: 경기 | C89: 의정부시 | D89: 461572 | E89: ='5-2. 30년 이상 건축물(시군구별) '!D89 -> 26312287 | F89: =E89/$D89 -> 57.005812 | G89: ='5-2. 30년 이상 건축물(시군구별) '!G89 -> 15921264 | H89: =G89/$D89 -> 34.493564
B90: 경기 | C90: 안양시 만안구 | D90: 233749 | E90: ='5-2. 30년 이상 건축물(시군구별) '!D90 -> 13615694 | F90: =E90/$D90 -> 58.249206 | G90: ='5-2. 30년 이상 건축물(시군구별) '!G90 -> 7022285.7 | H90: =G90/$D90 -> 30.041992
B91: 경기 | C91: 안양시 동안구 | D91: 329530 | E91: ='5-2. 30년 이상 건축물(시군구별) '!D91 -> 22281728 | F91: =E91/$D91 -> 67.61669 | G91: ='5-2. 30년 이상 건축물(시군구별) '!G91 -> 10415489 | H91: =G91/$D91 -> 31.607103
B92: 경기 | C92: 부천시 원미구 | D92: 384561 | E92: ='5-2. 30년 이상 건축물(시군구별) '!D92 -> 33116222 | F92: =E92/$D92 -> 86.114354 | G92: ='5-2. 30년 이상 건축물(시군구별) '!G92 -> 13695218 | H92: =G92/$D92 -> 35.612603
B93: 경기 | C93: 부천시 소사구 | D93: 225458 | E93: ='5-2. 30년 이상 건축물(시군구별) '!D93 -> 12070225 | G93: ='5-2. 30년 이상 건축물(시군구별) '!G93 -> 7842400.8
B94: 경기 | C94: 부천시 오정구 | D94: 148777 | E94: ='5-2. 30년 이상 건축물(시군구별) '!D94 -> 10073172 | G94: ='5-2. 30년 이상 건축물(시군구별) '!G94 -> 4464117.8
B95: 경기 | C95: 광명시 | D95: 293947 | E95: ='5-2. 30년 이상 건축물(시군구별) '!D95 -> 15972236 | F95: =E95/$D95 -> 54.33713 | G95: ='5-2. 30년 이상 건축물(시군구별) '!G95 -> 8765093.6 | H95: =G95/$D95 -> 29.818619
B96: 경기 | C96: 평택시 | D96: 610402 | E96: ='5-2. 30년 이상 건축물(시군구별) '!D96 -> 84379087 | F96: =E96/$D96 -> 138.23527 | G96: ='5-2. 30년 이상 건축물(시군구별) '!G96 -> 27255272 | H96: =G96/$D96 -> 44.651348
B97: 경기 | C97: 동두천시 | D97: 86438 | E97: ='5-2. 30년 이상 건축물(시군구별) '!D97 -> 6525619.5 | F97: =E97/$D97 -> 75.4948 | G97: ='5-2. 30년 이상 건축물(시군구별) '!G97 -> 3552935.6 | H97: =G97/$D97 -> 41.103861
B98: 경기 | C98: 안산시 상록구 | D98: 322739 | E98: ='5-2. 30년 이상 건축물(시군구별) '!D98 -> 18482894 | F98: =E98/$D98 -> 57.268859 | G98: ='5-2. 30년 이상 건축물(시군구별) '!G98 -> 11532388 | H98: =G98/$D98 -> 35.732861
B99: 경기 | C99: 안산시 단원구 | D99: 289769 | E99: ='5-2. 30년 이상 건축물(시군구별) '!D99 -> 33028639 | F99: =E99/$D99 -> 113.98265 | G99: ='5-2. 30년 이상 건축물(시군구별) '!G99 -> 10481257 | H99: =G99/$D99 -> 36.171076
B100: 경기 | C100: 고양시 덕양구 | D100: 485546 | E100: ='5-2. 30년 이상 건축물(시군구별) '!D100 -> 31069996 | F100: =E100/$D100 -> 63.98981 | G100: ='5-2. 30년 이상 건축물(시군구별) '!G100 -> 16378965 | H100: =G100/$D100 -> 33.733086
B101: 경기 | C101: 고양시 일산동구 | D101: 296758 | E101: ='5-2. 30년 이상 건축물(시군구별) '!D101 -> 25013719 | F101: =E101/$D101 -> 84.289958 | G101: ='5-2. 30년 이상 건축물(시군구별) '!G101 -> 10547121 | H101: =G101/$D101 -> 35.541153
B102: 경기 | C102: 고양시 일산서구 | D102: 277777 | E102: ='5-2. 30년 이상 건축물(시군구별) '!D102 -> 17932074 | F102: =E102/$D102 -> 64.555648 | G102: ='5-2. 30년 이상 건축물(시군구별) '!G102 -> 10275965 | H102: =G102/$D102 -> 36.993577
